BEGIN:VCALENDAR
VERSION:2.0
PRODID:-//kultura.tarnów - ECPv6.4.0.1//NONSGML v1.0//EN
CALSCALE:GREGORIAN
METHOD:PUBLISH
X-ORIGINAL-URL:https://kultura.tarnow.pl
X-WR-CALDESC:Wydarzenia dla
REFRESH-INTERVAL;VALUE=DURATION:PT1H
X-Robots-Tag:noindex
X-PUBLISHED-TTL:PT1H
BEGIN:VTIMEZONE
TZID:Europe/Warsaw
BEGIN:DAYLIGHT
TZOFFSETFROM:+0100
TZOFFSETTO:+0200
TZNAME:CEST
DTSTART:20240331T010000
END:DAYLIGHT
BEGIN:STANDARD
TZOFFSETFROM:+0200
TZOFFSETTO:+0100
TZNAME:CET
DTSTART:20241027T010000
END:STANDARD
END:VTIMEZONE
BEGIN:VEVENT
DTSTART;TZID=Europe/Warsaw:20240506T080000
DTEND;TZID=Europe/Warsaw:20240506T150000
DTSTAMP:20260423T045521
CREATED:20240418T135713Z
LAST-MODIFIED:20240517T140645Z
UID:10015757-1714982400-1715007600@kultura.tarnow.pl
SUMMARY:"Grafika" wystawa prac pracowników Wydziału Grafiki ASP
DESCRIPTION:
URL:https://kultura.tarnow.pl/wydarzenie/grafika-wystawa-prac-pracownikow-wydzialu-grafiki-asp/2024-05-06/
LOCATION:Galeria Liceum Sztuk Plastycznych\, Westwalewicza 6\, Tarnów\, małopolskie\, 33-100\, Polska
CATEGORIES:warsztaty
GEO:50.0118085;20.9938879
X-APPLE-STRUCTURED-LOCATION;VALUE=URI;X-ADDRESS=Galeria Liceum Sztuk Plastycznych Westwalewicza 6 Tarnów małopolskie 33-100 Polska;X-APPLE-RADIUS=500;X-TITLE=Westwalewicza 6:geo:20.9938879,50.0118085
END:VEVENT
BEGIN:VEVENT
DTSTART;TZID=Europe/Warsaw:20240506T080000
DTEND;TZID=Europe/Warsaw:20240506T150000
DTSTAMP:20260423T045521
CREATED:20240423T113141Z
LAST-MODIFIED:20240520T113516Z
UID:10015782-1714982400-1715007600@kultura.tarnow.pl
SUMMARY:Dyplomy 2024 w LSP
DESCRIPTION:DYPLOMY 2024\nWystawa prac dyplomowych uczniów Liceum Sztuk Plastycznych w Tarnowie\nSpecjalizacje\, aneksy. \n26 kwietnia – 9 maja 2024\nwernisaż: 26 kwietnia\, godz. 17.00\nLSP Tarnów\nul. Westwalewicza 6
URL:https://kultura.tarnow.pl/wydarzenie/dyplomy-2024-w-lsp/2024-05-06/
LOCATION:Galeria Liceum Sztuk Plastycznych\, Westwalewicza 6\, Tarnów\, małopolskie\, 33-100\, Polska
CATEGORIES:wystawy
ATTACH;FMTTYPE=image/png:https://kultura.tarnow.pl/wp-content/uploads/PLAKAT_dyplomy_24_BWA_LSP.-1-727x1024-1.png
GEO:50.0118085;20.9938879
X-APPLE-STRUCTURED-LOCATION;VALUE=URI;X-ADDRESS=Galeria Liceum Sztuk Plastycznych Westwalewicza 6 Tarnów małopolskie 33-100 Polska;X-APPLE-RADIUS=500;X-TITLE=Westwalewicza 6:geo:20.9938879,50.0118085
END:VEVENT
BEGIN:VEVENT
DTSTART;TZID=Europe/Warsaw:20240506T080000
DTEND;TZID=Europe/Warsaw:20240506T170000
DTSTAMP:20260423T045521
CREATED:20240507T131455Z
LAST-MODIFIED:20240520T131639Z
UID:10015816-1714982400-1715014800@kultura.tarnow.pl
SUMMARY:Jak widzisz wiersz?
DESCRIPTION:Nabór otwarty na ilustracje do pierwszego tomiku poetyckiego Dom.Ku \nPrzygotowujemy pierwszy tomik z poezją! Wiersze\, które się tam znajdą były prezentowane podczas tegorocznego Dżemu poetyckiego. Żeby wzbogacić przekaz poezji\, uruchamiamy nabór na ilustracje do wierszy! Przeczytaj teksty i pokaż – jak widzisz wiersz? \nIlustracje w można przygotować w dowolnej technice\, cyfrowo lub manualnie. Nabór jest przeznaczony dla młodzieży szkół średnich\, wyższych a także dorosłych. Wiersze do zilustrowania i regulamin naboru udostępniamy na FB i na stronie TCK. \nWybrane ilustracje zostaną opublikowane wraz z nazwiskami autorów. Tomik udostępnimy do pobrania za darmo. Wszelkich informacji udziela Dorota Omylska tel. 888 655 101. Na ilustracje czekamy do końca maja 2024. Przesyłajcie je na adres: westerplatte@tck.pl \n  \n 
URL:https://kultura.tarnow.pl/wydarzenie/jak-widzisz-wiersz/2024-05-06/
LOCATION:Dom Kultury Westerplatte 8a\, Westerplatte 8a\, Tarnów\, Polska - małopolskie\, 33-100\, Polska
CATEGORIES:warsztaty
ORGANIZER;CN="Dom Kultury Westerplatte 8a":MAILTO:westerplatte@tck.pl
GEO:50.0273033;21.0087361
X-APPLE-STRUCTURED-LOCATION;VALUE=URI;X-ADDRESS=Dom Kultury Westerplatte 8a Westerplatte 8a Tarnów Polska - małopolskie 33-100 Polska;X-APPLE-RADIUS=500;X-TITLE=Westerplatte 8a:geo:21.0087361,50.0273033
END:VEVENT
BEGIN:VEVENT
DTSTART;TZID=Europe/Warsaw:20240506T090000
DTEND;TZID=Europe/Warsaw:20240506T170000
DTSTAMP:20260423T045521
CREATED:20240423T112319Z
LAST-MODIFIED:20240520T112650Z
UID:10015770-1714986000-1715014800@kultura.tarnow.pl
SUMMARY:Dyplomy 2024
DESCRIPTION:Wystawa wybranych i wyróżnionych prac dyplomowych uczniów Liceum Sztuk Plastycznych w Tarnowie.\nWernisaż wystawy 25 kwietnia o godz. 17.00.\n\nUczestnicy wystawy\n\nspecjalizacje:\ntkanina artystyczna – Julia Krupa\, Justyna Kaczmarczyk\, Aleksandra Gagatek.\nmeblarstwo artystyczne – Amelia Cierniak\, Gabriela Słabosz\, Martyna Żaba\nprojektowanie przestrzeni – Oliwia Dziedzic\, Nina Hynek\, Natalia Mądel\, Michał Nowak\nprojektowanie graficzne – Gabriela Kozaczka\, Anna Katarzyna Sulimska\, Maja Natkaniec\, Natalia Gala\n\naneksy: Nina Hynek\, Natalia Konarska\, Maja Natkaniec\, Gabriela Kozaczka\, Rebeka Sowa\, Aleksandra Gagatek\, Martyna Gondek\, Karolina Sadlak\, Oliwia Dziedzic
URL:https://kultura.tarnow.pl/wydarzenie/dyplomy-2024/2024-05-06/
LOCATION:BWA na Dworcu PKP\, Plac Dworcowy 4\, Tarnów\, małopolskie\, 33-100\, Polska
CATEGORIES:wystawy
ATTACH;FMTTYPE=image/png:https://kultura.tarnow.pl/wp-content/uploads/PLAKAT_dyplomy_24_BWA_LSP.-1-727x1024-1.png
GEO:50.0057629;20.9744639
X-APPLE-STRUCTURED-LOCATION;VALUE=URI;X-ADDRESS=BWA na Dworcu PKP Plac Dworcowy 4 Tarnów małopolskie 33-100 Polska;X-APPLE-RADIUS=500;X-TITLE=Plac Dworcowy 4:geo:20.9744639,50.0057629
END:VEVENT
END:VCALENDAR