BEGIN:VCALENDAR
VERSION:2.0
PRODID:-//kultura.tarnów - ECPv6.4.0.1//NONSGML v1.0//EN
CALSCALE:GREGORIAN
METHOD:PUBLISH
X-WR-CALNAME:kultura.tarnów
X-ORIGINAL-URL:https://kultura.tarnow.pl
X-WR-CALDESC:Wydarzenia dla
REFRESH-INTERVAL;VALUE=DURATION:PT1H
X-Robots-Tag:noindex
X-PUBLISHED-TTL:PT1H
BEGIN:VTIMEZONE
TZID:Europe/Warsaw
BEGIN:DAYLIGHT
TZOFFSETFROM:+0100
TZOFFSETTO:+0200
TZNAME:CEST
DTSTART:20240331T010000
END:DAYLIGHT
BEGIN:STANDARD
TZOFFSETFROM:+0200
TZOFFSETTO:+0100
TZNAME:CET
DTSTART:20241027T010000
END:STANDARD
END:VTIMEZONE
BEGIN:VEVENT
DTSTART;TZID=Europe/Warsaw:20240429T080000
DTEND;TZID=Europe/Warsaw:20240429T150000
DTSTAMP:20260422T155957
CREATED:20240418T135713Z
LAST-MODIFIED:20240517T140645Z
UID:10015752-1714377600-1714402800@kultura.tarnow.pl
SUMMARY:"Grafika" wystawa prac pracowników Wydziału Grafiki ASP
DESCRIPTION:
URL:https://kultura.tarnow.pl/wydarzenie/grafika-wystawa-prac-pracownikow-wydzialu-grafiki-asp/2024-04-29/
LOCATION:Galeria Liceum Sztuk Plastycznych\, Westwalewicza 6\, Tarnów\, małopolskie\, 33-100\, Polska
CATEGORIES:warsztaty
GEO:50.0118085;20.9938879
X-APPLE-STRUCTURED-LOCATION;VALUE=URI;X-ADDRESS=Galeria Liceum Sztuk Plastycznych Westwalewicza 6 Tarnów małopolskie 33-100 Polska;X-APPLE-RADIUS=500;X-TITLE=Westwalewicza 6:geo:20.9938879,50.0118085
END:VEVENT
BEGIN:VEVENT
DTSTART;TZID=Europe/Warsaw:20240429T080000
DTEND;TZID=Europe/Warsaw:20240429T150000
DTSTAMP:20260422T155957
CREATED:20240423T113141Z
LAST-MODIFIED:20240520T113516Z
UID:10015776-1714377600-1714402800@kultura.tarnow.pl
SUMMARY:Dyplomy 2024 w LSP
DESCRIPTION:DYPLOMY 2024\nWystawa prac dyplomowych uczniów Liceum Sztuk Plastycznych w Tarnowie\nSpecjalizacje\, aneksy. \n26 kwietnia – 9 maja 2024\nwernisaż: 26 kwietnia\, godz. 17.00\nLSP Tarnów\nul. Westwalewicza 6
URL:https://kultura.tarnow.pl/wydarzenie/dyplomy-2024-w-lsp/2024-04-29/
LOCATION:Galeria Liceum Sztuk Plastycznych\, Westwalewicza 6\, Tarnów\, małopolskie\, 33-100\, Polska
CATEGORIES:wystawy
ATTACH;FMTTYPE=image/png:https://kultura.tarnow.pl/wp-content/uploads/PLAKAT_dyplomy_24_BWA_LSP.-1-727x1024-1.png
GEO:50.0118085;20.9938879
X-APPLE-STRUCTURED-LOCATION;VALUE=URI;X-ADDRESS=Galeria Liceum Sztuk Plastycznych Westwalewicza 6 Tarnów małopolskie 33-100 Polska;X-APPLE-RADIUS=500;X-TITLE=Westwalewicza 6:geo:20.9938879,50.0118085
END:VEVENT
BEGIN:VEVENT
DTSTART;TZID=Europe/Warsaw:20240429T090000
DTEND;TZID=Europe/Warsaw:20240429T170000
DTSTAMP:20260422T155957
CREATED:20240423T112319Z
LAST-MODIFIED:20240520T112650Z
UID:10015765-1714381200-1714410000@kultura.tarnow.pl
SUMMARY:Dyplomy 2024
DESCRIPTION:Wystawa wybranych i wyróżnionych prac dyplomowych uczniów Liceum Sztuk Plastycznych w Tarnowie.\nWernisaż wystawy 25 kwietnia o godz. 17.00.\n\nUczestnicy wystawy\n\nspecjalizacje:\ntkanina artystyczna – Julia Krupa\, Justyna Kaczmarczyk\, Aleksandra Gagatek.\nmeblarstwo artystyczne – Amelia Cierniak\, Gabriela Słabosz\, Martyna Żaba\nprojektowanie przestrzeni – Oliwia Dziedzic\, Nina Hynek\, Natalia Mądel\, Michał Nowak\nprojektowanie graficzne – Gabriela Kozaczka\, Anna Katarzyna Sulimska\, Maja Natkaniec\, Natalia Gala\n\naneksy: Nina Hynek\, Natalia Konarska\, Maja Natkaniec\, Gabriela Kozaczka\, Rebeka Sowa\, Aleksandra Gagatek\, Martyna Gondek\, Karolina Sadlak\, Oliwia Dziedzic
URL:https://kultura.tarnow.pl/wydarzenie/dyplomy-2024/2024-04-29/
LOCATION:BWA na Dworcu PKP\, Plac Dworcowy 4\, Tarnów\, małopolskie\, 33-100\, Polska
CATEGORIES:wystawy
ATTACH;FMTTYPE=image/png:https://kultura.tarnow.pl/wp-content/uploads/PLAKAT_dyplomy_24_BWA_LSP.-1-727x1024-1.png
GEO:50.0057629;20.9744639
X-APPLE-STRUCTURED-LOCATION;VALUE=URI;X-ADDRESS=BWA na Dworcu PKP Plac Dworcowy 4 Tarnów małopolskie 33-100 Polska;X-APPLE-RADIUS=500;X-TITLE=Plac Dworcowy 4:geo:20.9744639,50.0057629
END:VEVENT
BEGIN:VEVENT
DTSTART;TZID=Europe/Warsaw:20240429T180000
DTEND;TZID=Europe/Warsaw:20240429T190000
DTSTAMP:20260422T155957
CREATED:20240417T130356Z
LAST-MODIFIED:20240520T130618Z
UID:10015809-1714413600-1714417200@kultura.tarnow.pl
SUMMARY:„Kult maryjny w wierzeniach ludowych”
DESCRIPTION: 29.04.2024 roku o godzinie 18.00 w Muzeum Etnograficznym w Tarnowie\, ul. Krakowska 10\,  nastąpi otwarcie wystawy: „Kult maryjny w wierzeniach ludowych”.  \nKult Matki Bożej w polskiej tradycji\, wierzeniach i religijności ludowej jest powszechny i rozbudowany\, posiada też zróżnicowane oblicza i sfery wyrażenia miłości\, wiary\, uwielbienia. Stanowi złożone i bogate zjawisko nasycone głębią przeżyć religijnych\, mocno zakorzenione w sięgającej średniowiecza tradycji. Kult Maryi – Matki Bożej\, pełnej miłości macierzyńskiej\, opiekuńczej i łagodnej Pani\, Orędowniczki grzeszników\, ale też Królowej\, Madonny był zawsze ważny dla ludu i blisko związany z jego wiarą i obyczajowością. \nNa wystawie pokazane zostaną różne aspekty ludowej religijności i wierzeń związanych z kultem maryjnym\, w oparciu o zgromadzone w zbiorach liczne eksponaty.  Na ekspozycji zaprezentowana zostanie galeria obrazów\, oleodruków z różnorodnymi wizerunkami Maryi\, spotykanymi najczęściej w naszym regionie. Część z nich będzie udostępniona po raz pierwszy. Zaaranżowane zostaną także scenki z elementami ilustrującymi wiejską obyczajowość\, estetykę i religijność związaną z kultem Matki Bożej. Interesującym fragmentem wystawy będzie również pokazanie wizerunków Matki Bożej w twórczości artystów ludowych z regionu tarnowskiego. \nKuratorka wystawy: Urszula Gieroń \nWystawa czynna: 29.04. – 31.08.2024 r.
URL:https://kultura.tarnow.pl/wydarzenie/kult-maryjny-w-wierzeniach-ludowych/
LOCATION:Muzeum Etnograficzne\, ul. krakowska 10\, Tarnów\, małopolskie\, 33-100\, Polska
CATEGORIES:wernisaże
ATTACH;FMTTYPE=image/jpeg:https://kultura.tarnow.pl/wp-content/uploads/KULT-MARYJNY-1.jpg
GEO:50.01092;20.98332
X-APPLE-STRUCTURED-LOCATION;VALUE=URI;X-ADDRESS=Muzeum Etnograficzne ul. krakowska 10 Tarnów małopolskie 33-100 Polska;X-APPLE-RADIUS=500;X-TITLE=ul. krakowska 10:geo:20.98332,50.01092
END:VEVENT
END:VCALENDAR