BEGIN:VCALENDAR
VERSION:2.0
PRODID:-//kultura.tarnów - ECPv6.4.0.1//NONSGML v1.0//EN
CALSCALE:GREGORIAN
METHOD:PUBLISH
X-ORIGINAL-URL:https://kultura.tarnow.pl
X-WR-CALDESC:Wydarzenia dla
REFRESH-INTERVAL;VALUE=DURATION:PT1H
X-Robots-Tag:noindex
X-PUBLISHED-TTL:PT1H
BEGIN:VTIMEZONE
TZID:Europe/Warsaw
BEGIN:DAYLIGHT
TZOFFSETFROM:+0100
TZOFFSETTO:+0200
TZNAME:CEST
DTSTART:20240331T010000
END:DAYLIGHT
BEGIN:STANDARD
TZOFFSETFROM:+0200
TZOFFSETTO:+0100
TZNAME:CET
DTSTART:20241027T010000
END:STANDARD
END:VTIMEZONE
BEGIN:VEVENT
DTSTART;TZID=Europe/Warsaw:20240428T080000
DTEND;TZID=Europe/Warsaw:20240428T150000
DTSTAMP:20260423T045452
CREATED:20240423T113141Z
LAST-MODIFIED:20240520T113516Z
UID:10015775-1714291200-1714316400@kultura.tarnow.pl
SUMMARY:Dyplomy 2024 w LSP
DESCRIPTION:DYPLOMY 2024\nWystawa prac dyplomowych uczniów Liceum Sztuk Plastycznych w Tarnowie\nSpecjalizacje\, aneksy. \n26 kwietnia – 9 maja 2024\nwernisaż: 26 kwietnia\, godz. 17.00\nLSP Tarnów\nul. Westwalewicza 6
URL:https://kultura.tarnow.pl/wydarzenie/dyplomy-2024-w-lsp/2024-04-28/
LOCATION:Galeria Liceum Sztuk Plastycznych\, Westwalewicza 6\, Tarnów\, małopolskie\, 33-100\, Polska
CATEGORIES:wystawy
ATTACH;FMTTYPE=image/png:https://kultura.tarnow.pl/wp-content/uploads/PLAKAT_dyplomy_24_BWA_LSP.-1-727x1024-1.png
GEO:50.0118085;20.9938879
X-APPLE-STRUCTURED-LOCATION;VALUE=URI;X-ADDRESS=Galeria Liceum Sztuk Plastycznych Westwalewicza 6 Tarnów małopolskie 33-100 Polska;X-APPLE-RADIUS=500;X-TITLE=Westwalewicza 6:geo:20.9938879,50.0118085
END:VEVENT
BEGIN:VEVENT
DTSTART;TZID=Europe/Warsaw:20240428T090000
DTEND;TZID=Europe/Warsaw:20240428T170000
DTSTAMP:20260423T045452
CREATED:20240423T112319Z
LAST-MODIFIED:20240520T112650Z
UID:10015764-1714294800-1714323600@kultura.tarnow.pl
SUMMARY:Dyplomy 2024
DESCRIPTION:Wystawa wybranych i wyróżnionych prac dyplomowych uczniów Liceum Sztuk Plastycznych w Tarnowie.\nWernisaż wystawy 25 kwietnia o godz. 17.00.\n\nUczestnicy wystawy\n\nspecjalizacje:\ntkanina artystyczna – Julia Krupa\, Justyna Kaczmarczyk\, Aleksandra Gagatek.\nmeblarstwo artystyczne – Amelia Cierniak\, Gabriela Słabosz\, Martyna Żaba\nprojektowanie przestrzeni – Oliwia Dziedzic\, Nina Hynek\, Natalia Mądel\, Michał Nowak\nprojektowanie graficzne – Gabriela Kozaczka\, Anna Katarzyna Sulimska\, Maja Natkaniec\, Natalia Gala\n\naneksy: Nina Hynek\, Natalia Konarska\, Maja Natkaniec\, Gabriela Kozaczka\, Rebeka Sowa\, Aleksandra Gagatek\, Martyna Gondek\, Karolina Sadlak\, Oliwia Dziedzic
URL:https://kultura.tarnow.pl/wydarzenie/dyplomy-2024/2024-04-28/
LOCATION:BWA na Dworcu PKP\, Plac Dworcowy 4\, Tarnów\, małopolskie\, 33-100\, Polska
CATEGORIES:wystawy
ATTACH;FMTTYPE=image/png:https://kultura.tarnow.pl/wp-content/uploads/PLAKAT_dyplomy_24_BWA_LSP.-1-727x1024-1.png
GEO:50.0057629;20.9744639
X-APPLE-STRUCTURED-LOCATION;VALUE=URI;X-ADDRESS=BWA na Dworcu PKP Plac Dworcowy 4 Tarnów małopolskie 33-100 Polska;X-APPLE-RADIUS=500;X-TITLE=Plac Dworcowy 4:geo:20.9744639,50.0057629
END:VEVENT
BEGIN:VEVENT
DTSTART;TZID=Europe/Warsaw:20240428T180000
DTEND;TZID=Europe/Warsaw:20240428T180000
DTSTAMP:20260423T045452
CREATED:20240417T125826Z
LAST-MODIFIED:20240520T130026Z
UID:10015808-1714327200-1714327200@kultura.tarnow.pl
SUMMARY:Horntet "April Tour"
DESCRIPTION:„Absolutnie absorbujący\, elektryzujący i do pożarcia; należy im się przyglądać.” (Marta Ignatowicz\, Jazz Press)\n\nHorntet wraca do Tarnowa!\n\nZespół\, który swoim debiutem fonograficznym zachwycił fanów polskiego jazzu wraca do domu!To tu\, w 2019 roku miał miejsce ich debiut uhonorowany pierwszą nagrodą na Tarnów International Jazz Contest. Od tego czasu nie zwalniają tempa zdobywając nagrody na najważniejszych festiwalach jazzowych w kraju i za granicą. (m.in.: Grand Prix na Blue Note Poznań Competition\, Grand Prix na 24. Bielska Zadymka Jazzowa\, Grand Prix na 58. Jazz nad Odrą\, Grand Prix na Young Crocus Jazz Contest i wiele innych).Horntet to grupa\, która niesie ze sobą poważną dawkę energii. Muzycy odważnie łączą elementy tradycyjnego jazzu lat 60. ze współczesnym brzmieniem. Absolwenci renomowanych uczelni artystycznych nie boją się eksperymentować z formą i brzmieniem. Kompozycje wydane w 2023 roku na debiutanckim albumie “Horntet” zostały wyróżnione nominacją do Fryderyków i to właśnie ta muzyka wybrzmi na sali koncertowej Zespołu Szkół Muzycznych w Tarnowie już 28 kwietnia.\n\n“Jest coś niewiarygodnego w szerokim zakresie dźwiękowym\, który osiąga ta pięcioosobowa grupa\, oraz w swobodnej gracji\, z jaką artyści podają tę gęstą mieszankę dźwiękową. W każdym momencie tej muzyki chodzi o coś wspaniałego\, jednocześnie o radość i energię\, której nie da się wyczerpać. (…) Zaskakująca świeżość\, dynamika kreatywność tego zespołu sprawiają\, że to dzieło staje się wyjątkowym przeżyciem.” (Jacek Brun\, jazz-fun.de)\n\n“ (…) Horntet\, wystrzałowa ekipa\, grająca muzykę\, której nie zawahałbym się nazwać mianem bezczelnie genialnej. Jej moc brzmienia\, rozmach i młodzieńcza dezynwoltura szły w parze z perfekcyjnym warsztatem\, zgraniem i biegłością techniczną wykonawców.” (Bogdan Chmura\, Jazz Forum)\n\nSkład:Robert Wypasek – saksofon tenorowy i sopranowySzymon Ziółkowski – saksofon altowy i sopranowyBartłomiej Leśniak – fortepianMikołaj Sikora – kontrabasPiotr Przewoźniak – perkusja
URL:https://kultura.tarnow.pl/wydarzenie/horntet-april-tour/
LOCATION:Sala Koncertowa Zespołu Szkół Muzycznych\, Lippóczy’ego 4\, Tarnów\, małopolskie\, 33-100\, Polska
CATEGORIES:koncerty
ATTACH;FMTTYPE=image/jpeg:https://kultura.tarnow.pl/wp-content/uploads/437539777_856878753118716_706648031495292532_n-1024x576-1.jpg
ORGANIZER;CN="Zesp%C3%B3%C5%82 Szk%C3%B3%C5%82 Muzycznych":MAILTO:szkola@zsmuz.tarnow.pl
GEO:50.0205582;20.9801972
X-APPLE-STRUCTURED-LOCATION;VALUE=URI;X-ADDRESS=Sala Koncertowa Zespołu Szkół Muzycznych Lippóczy’ego 4 Tarnów małopolskie 33-100 Polska;X-APPLE-RADIUS=500;X-TITLE=Lippóczy’ego 4:geo:20.9801972,50.0205582
END:VEVENT
BEGIN:VEVENT
DTSTART;TZID=Europe/Warsaw:20240428T183000
DTEND;TZID=Europe/Warsaw:20240428T193000
DTSTAMP:20260423T045452
CREATED:20240424T112659Z
LAST-MODIFIED:20240520T113901Z
UID:10015788-1714329000-1714332600@kultura.tarnow.pl
SUMMARY:Anna Śliwińska "Venus w mieście\, palimpsest bon mot"
DESCRIPTION:
URL:https://kultura.tarnow.pl/wydarzenie/anna-sliwinska-venus-w-miescie-palimpsest-bon-mot/2024-04-28/
LOCATION:Galeria ARTEKA\, Wałowa 16\, Tarnów\, 33-100
CATEGORIES:wernisaże,wystawy
ATTACH;FMTTYPE=image/jpeg:https://kultura.tarnow.pl/wp-content/uploads/435896506_349940784743014_1395422508547572056_n.jpg
END:VEVENT
BEGIN:VEVENT
DTSTART;TZID=Europe/Warsaw:20240428T190000
DTEND;TZID=Europe/Warsaw:20240428T203000
DTSTAMP:20260423T045452
CREATED:20220104T131516Z
LAST-MODIFIED:20240520T121802Z
UID:10015806-1714330800-1714336200@kultura.tarnow.pl
SUMMARY:MAYDAY - Ray Cooney
DESCRIPTION:26\, 27\, 28 kwietnia (piątek\, sobota\, niedziela) godz. 19.00 Duża Scena \nMayday jest klasyką gatunku i klasą samą dla siebie. Tutaj nawet didaskalia są opisane bardzo precyzyjnie. Maydaya można by porównać do paczki ze znanej sieci meblarskiej\, w której można kupić gotowy produkt z instrukcją montażu i prawie każdy jest w stanie go poskładać z gwarancją\, że zawsze wyjdzie podobnie\, czyli dobrze. Można jednak\, odnosząc się do tej metafory\, pozostawić funkcjonalność i ogólny wygląd mebli\, ale użyć innych (lepszych) materiałów i ciekawszych (ładniejszych) dodatków. \nMayday jest bardzo dobrze pomyślany\, zarówno koncepcyjnie\, jak i intuicyjnie. Jest świetnie napisany pod względem komediowości\, ale również poszczególnych postaci i sytuacji\, w których ci się znajdują. Pomyślałem sobie\, że ciekawie byłoby bliżej się temu przyjrzeć. Nie tracąc komediowości tego tekstu poszukać w nim ludzi\, którzy jakoś sobie urządzają świat\, czegoś chcą\, o coś walczą i w końcu\, czegoś nie są świadomi. Pomimo tego\, że w moim odczuciu farsa jest bajką dla dorosłych\, nic nie stoi na przeszkodzie by poszukać tam bohaterów\, którzy żyją wokół nas i może tym się tylko od nas różnią\, że czegoś tam mają więcej\, w coś są bardziej od nas zaangażowani i w końcu nie widzą tego co my – stojący nieco z boku.\nTadeusz Łomnicki\, reżyser \nSpektakl zdobył Nagrodę Publiczności podczas XXV Ogólnopolskiego Festiwalu Komedii Talia 2021. \n 
URL:https://kultura.tarnow.pl/wydarzenie/mayday-ray-cooney/2024-04-28/
LOCATION:Teatr im. L.Solskiego\, Mickiewicza 4\, Tarnów\, małopolskie\, 33-100\, Polska
CATEGORIES:spektakle
ATTACH;FMTTYPE=image/jpeg:https://kultura.tarnow.pl/wp-content/uploads/mayday-www-1-1.jpg
GEO:50.0159214;20.987504
X-APPLE-STRUCTURED-LOCATION;VALUE=URI;X-ADDRESS=Teatr im. L.Solskiego Mickiewicza 4 Tarnów małopolskie 33-100 Polska;X-APPLE-RADIUS=500;X-TITLE=Mickiewicza 4:geo:20.987504,50.0159214
END:VEVENT
END:VCALENDAR