BEGIN:VCALENDAR
VERSION:2.0
PRODID:-//kultura.tarnów - ECPv6.4.0.1//NONSGML v1.0//EN
CALSCALE:GREGORIAN
METHOD:PUBLISH
X-ORIGINAL-URL:https://kultura.tarnow.pl
X-WR-CALDESC:Wydarzenia dla
REFRESH-INTERVAL;VALUE=DURATION:PT1H
X-Robots-Tag:noindex
X-PUBLISHED-TTL:PT1H
BEGIN:VTIMEZONE
TZID:Europe/Warsaw
BEGIN:DAYLIGHT
TZOFFSETFROM:+0100
TZOFFSETTO:+0200
TZNAME:CEST
DTSTART:20240331T010000
END:DAYLIGHT
BEGIN:STANDARD
TZOFFSETFROM:+0200
TZOFFSETTO:+0100
TZNAME:CET
DTSTART:20241027T010000
END:STANDARD
END:VTIMEZONE
BEGIN:VEVENT
DTSTART;TZID=Europe/Warsaw:20240427T110000
DTEND;TZID=Europe/Warsaw:20240427T120000
DTSTAMP:20260422T132420
CREATED:20240412T082348Z
LAST-MODIFIED:20240412T082348Z
UID:10015208-1714215600-1714219200@kultura.tarnow.pl
SUMMARY:"Rozmarzone poranki - Kicia Kocia w przedszkolu”
DESCRIPTION:Zapraszamy dzieci i ich opiekunów na cykliczne\, sobotnie spotkania w kinie Marzenie (jedna sobota w miesiącu). „Rozmarzone poranki” to seans filmowy dla najmłodszych dzieci (2-6l) poprzedzony zabawami\, atrakcjami i animacjami\, które potrwają 30 minut. Na pierwszym spotkaniu 27 kwietnia o godzinie 11:00 przy okazji premiery filmu „Kicia Kocia w przedszkolu” odwiedzi nas duża maskotka- Kicia Kocia\, która opowie trochę o sobie\, a całe spotkanie będzie dedykowane kotkom. Szczególnie zachęcamy do przyjścia miłośników tych sprytnych czworonogów. \n\nGrupy zorganizowane zapraszamy na poranne seanse oraz spotkanie z Kicią Kocią. 26 kwietnia o godzinie 9:15 i 11:00. Rezerwacje pod numerem telefonu kina: 14 688 88 85.
URL:https://kultura.tarnow.pl/wydarzenie/rozmarzone-poranki-kicia-kocia-w-przedszkolu/
LOCATION:Kino „Marzenie”\, ul. Staszica 4\, Tarnów\, małopolskie\, 33-100\, Polska
CATEGORIES:filmy
GEO:50.011762;20.9833798
X-APPLE-STRUCTURED-LOCATION;VALUE=URI;X-ADDRESS=Kino „Marzenie” ul. Staszica 4 Tarnów małopolskie 33-100 Polska;X-APPLE-RADIUS=500;X-TITLE=ul. Staszica 4:geo:20.9833798,50.011762
END:VEVENT
BEGIN:VEVENT
DTSTART;TZID=Europe/Warsaw:20240427T110000
DTEND;TZID=Europe/Warsaw:20240427T120000
DTSTAMP:20260422T132420
CREATED:20240412T082348Z
LAST-MODIFIED:20240520T114206Z
UID:10015674-1714215600-1714219200@kultura.tarnow.pl
SUMMARY:"Rozmarzone poranki - Kicia Kocia w przedszkolu”
DESCRIPTION:Zapraszamy dzieci i ich opiekunów na cykliczne\, sobotnie spotkania w kinie Marzenie (jedna sobota w miesiącu). „Rozmarzone poranki” to seans filmowy dla najmłodszych dzieci (2-6l) poprzedzony zabawami\, atrakcjami i animacjami\, które potrwają 30 minut. Na pierwszym spotkaniu 27 kwietnia o godzinie 11:00 przy okazji premiery filmu „Kicia Kocia w przedszkolu” odwiedzi nas duża maskotka- Kicia Kocia\, która opowie trochę o sobie\, a całe spotkanie będzie dedykowane kotkom. Szczególnie zachęcamy do przyjścia miłośników tych sprytnych czworonogów. \nGrupy zorganizowane zapraszamy na poranne seanse oraz spotkanie z Kicią Kocią. 26 kwietnia o godzinie 9:15 i 11:00. Rezerwacje pod numerem telefonu kina: 14 688 88 85.
URL:https://kultura.tarnow.pl/wydarzenie/rozmarzone-poranki-kicia-kocia-w-przedszkolu/
LOCATION:Kino „Marzenie”\, ul. Staszica 4\, Tarnów\, małopolskie\, 33-100\, Polska
CATEGORIES:filmy
ATTACH;FMTTYPE=image/png:https://kultura.tarnow.pl/wp-content/uploads/240410_Kino_Marzenie_Rozmarzone_poranki_grafiki_SM_02_1_story-576x1024-1.png
GEO:50.011762;20.9833798
X-APPLE-STRUCTURED-LOCATION;VALUE=URI;X-ADDRESS=Kino „Marzenie” ul. Staszica 4 Tarnów małopolskie 33-100 Polska;X-APPLE-RADIUS=500;X-TITLE=ul. Staszica 4:geo:20.9833798,50.011762
END:VEVENT
BEGIN:VEVENT
DTSTART;TZID=Europe/Warsaw:20240427T110000
DTEND;TZID=Europe/Warsaw:20240427T170000
DTSTAMP:20260422T132420
CREATED:20230424T102333Z
LAST-MODIFIED:20230424T102333Z
UID:10014260-1714215600-1714237200@kultura.tarnow.pl
SUMMARY:Surrealizm – Salvador Dali i inni
DESCRIPTION:Artyści: Krystyna Baniowska\, Piotr Barszczowski\, Piotr Bubak\, Stanisław Chmiel\, Ewa Fleszar\, Roman Fleszar\, Weronika Fleszar\, Mateusz Kijak\, Kazimierz Klimkiewicz\, Stanisław Kucharzyk\, Elżbieta Pazera\, Witold Pazera\, Michał Poręba\, Elżbieta Remian\, Piotr Rączka\, Jerzy Ruszel\, Anna Śliwińska\, Kazimierz Twardowski\, Grzegorz Wójcik\, Aleksandra Zuba-Benn \nSłowo SUR – to NA\, np.: sur la table – na stole. SURREALIZM – NADREALIZM\, zorganizowany ruch intelektualny pierwszej ćwierci XX wieku powstały we Francji. Surrealiści przyjęli ten termin w hołdzie dla G. Apollinaire`a\, który pierwszy użył tego sformułowania w 1918 roku w podtytule swojej sztuki\, nadając ruchowi nowy sens. Wyrastał on z doświadczeń\, przeżyć i przemyśleń związanych z I wojną światową\, a wywodził się z dadaizmu. Jednym z dążeń surrealizmu było pełne wyzwolenie osobowości człowieka\, pojęte jako ujawnienie jego ukrytych sił\, pragnień i marzeń\, zepchniętych w podświadomość przez rozum i rozsądek\, ogólnie przyjęte zasady obyczajowe i moralne. \nMANIFEST SURREALIZMU w 1924 roku napisał – ogłosił Andre BRETON\, początkowo odnosił się do literatury\, szybko jednak zainteresowali się nim twórcy innych dziedzin sztuki – wspaniałym przykładem są tu artyści malarze\, graficy. MANIFEST otworzył prawo do mówienia o nadrzędności przestrzeni na pograniczu snu i jawy. Artyści szukali metod i sposobu na wyrażenie idei tego nowego ruchu\, środki jakimi się posługiwali przedstawiały elementy rzeczywistości ujęte w nadrealny\, fantastyczny sposób. Obrazy były zapisem ze snów\, urojeń\, stanów delirycznych\, czy wszelkich czynności wykonywanych bez kontroli rozumu. Elementy rzeczywistości miały wymykać się logice\, rewolucjonizować życie codzienne…..obiekty i przedmioty\, nawet człowiek\, powinny znaleźć się w innych bytach\, przejść transformację\, np: ”człowiek jest ucieleśnionym deszczem”\, inny zaś z młotem\, lub ma jabłko zamiast głowy\, otwierający drzwi których nie ma……. a jak czytać istoty ciekłe z waty\, z wężowych skór\, upierzone drzewa\, zwierzęta niesione wiatrem\, modelowane z piasku. Surrealizm to miejsce spotkań najróżniejszych obiektów pochodzących z odmiennych kontekstów\, gdzie wszystko nabiera nowych nieoczekiwanych znaczeń……. np.: ”człowiek klatka schodowa\, człowiek litera\, ogryziona kość\, kropka\, strzęp\, kula\, człowiek trumna\, piszczałka\, sznurówka\, bagaż\, mgła i człowiek osad”\, a książka która gryzie ręce albo kłuje w oczy – tu przedmiot został wyzwolony i stał się wampirem\, książka dostaje przeciwstawną do swojej nową naturę. Bretonowskie ”puszczenie w obieg” przedmiotów dla wielu artystów stało się inspiracją do dania im nowego życia. Aktywność rzeczy dotychczas martwych\, obiektów nieuzależnionych od kontroli rozumu to niewyczerpane źródło tematów\, np.: ”wiatr upadł twarzą na ziemię”\, krzak śpiewa psalm”\, powietrze\, woda\, ziemia\, ogień\, barany\, smoki\, stwory złożone z mieczy\, igieł\, sztyletów. Do dziś wielu artystów korzysta i odwołuje się do postulowanego przez Bretona ”modelu wewnętrznego” czyli poszukiwania w sferze podświadomości\, jak to się dzieje\, mamy to każdego dnia: reklama\, teledyski\, wideoklipy. Nie ulega wątpliwości\, że surrealizm\, nie tylko twórcom\, ale i odbiorcom otworzył nowe obszary wyobraźni. \nKrystyna Baniowska Stąsiek Meyer (Wstęp do katalogu wystawy) \n 
URL:https://kultura.tarnow.pl/wydarzenie/surrealizm-salvador-dali-i-inni/2024-04-27/
LOCATION:Galeria ARTEKA\, Wałowa 16\, Tarnów\, 33-100
CATEGORIES:wystawy
ORGANIZER;CN="Stowarzyszenie Tarnowskich Artyst%C3%B3w Plastyk%C3%B3w":MAILTO:stowarzyszenie.arteka@gmail.com
END:VEVENT
BEGIN:VEVENT
DTSTART;TZID=Europe/Warsaw:20240427T183000
DTEND;TZID=Europe/Warsaw:20240427T193000
DTSTAMP:20260422T132420
CREATED:20240424T112659Z
LAST-MODIFIED:20240520T113901Z
UID:10015787-1714242600-1714246200@kultura.tarnow.pl
SUMMARY:Anna Śliwińska "Venus w mieście\, palimpsest bon mot"
DESCRIPTION:
URL:https://kultura.tarnow.pl/wydarzenie/anna-sliwinska-venus-w-miescie-palimpsest-bon-mot/2024-04-27/
LOCATION:Galeria ARTEKA\, Wałowa 16\, Tarnów\, 33-100
CATEGORIES:wernisaże,wystawy
ATTACH;FMTTYPE=image/jpeg:https://kultura.tarnow.pl/wp-content/uploads/435896506_349940784743014_1395422508547572056_n.jpg
END:VEVENT
BEGIN:VEVENT
DTSTART;TZID=Europe/Warsaw:20240427T190000
DTEND;TZID=Europe/Warsaw:20240427T203000
DTSTAMP:20260422T132420
CREATED:20220104T131516Z
LAST-MODIFIED:20240520T121802Z
UID:10015805-1714244400-1714249800@kultura.tarnow.pl
SUMMARY:MAYDAY - Ray Cooney
DESCRIPTION:26\, 27\, 28 kwietnia (piątek\, sobota\, niedziela) godz. 19.00 Duża Scena \nMayday jest klasyką gatunku i klasą samą dla siebie. Tutaj nawet didaskalia są opisane bardzo precyzyjnie. Maydaya można by porównać do paczki ze znanej sieci meblarskiej\, w której można kupić gotowy produkt z instrukcją montażu i prawie każdy jest w stanie go poskładać z gwarancją\, że zawsze wyjdzie podobnie\, czyli dobrze. Można jednak\, odnosząc się do tej metafory\, pozostawić funkcjonalność i ogólny wygląd mebli\, ale użyć innych (lepszych) materiałów i ciekawszych (ładniejszych) dodatków. \nMayday jest bardzo dobrze pomyślany\, zarówno koncepcyjnie\, jak i intuicyjnie. Jest świetnie napisany pod względem komediowości\, ale również poszczególnych postaci i sytuacji\, w których ci się znajdują. Pomyślałem sobie\, że ciekawie byłoby bliżej się temu przyjrzeć. Nie tracąc komediowości tego tekstu poszukać w nim ludzi\, którzy jakoś sobie urządzają świat\, czegoś chcą\, o coś walczą i w końcu\, czegoś nie są świadomi. Pomimo tego\, że w moim odczuciu farsa jest bajką dla dorosłych\, nic nie stoi na przeszkodzie by poszukać tam bohaterów\, którzy żyją wokół nas i może tym się tylko od nas różnią\, że czegoś tam mają więcej\, w coś są bardziej od nas zaangażowani i w końcu nie widzą tego co my – stojący nieco z boku.\nTadeusz Łomnicki\, reżyser \nSpektakl zdobył Nagrodę Publiczności podczas XXV Ogólnopolskiego Festiwalu Komedii Talia 2021. \n 
URL:https://kultura.tarnow.pl/wydarzenie/mayday-ray-cooney/2024-04-27/
LOCATION:Teatr im. L.Solskiego\, Mickiewicza 4\, Tarnów\, małopolskie\, 33-100\, Polska
CATEGORIES:spektakle
ATTACH;FMTTYPE=image/jpeg:https://kultura.tarnow.pl/wp-content/uploads/mayday-www-1-1.jpg
GEO:50.0159214;20.987504
X-APPLE-STRUCTURED-LOCATION;VALUE=URI;X-ADDRESS=Teatr im. L.Solskiego Mickiewicza 4 Tarnów małopolskie 33-100 Polska;X-APPLE-RADIUS=500;X-TITLE=Mickiewicza 4:geo:20.987504,50.0159214
END:VEVENT
BEGIN:VEVENT
DTSTART;TZID=Europe/Warsaw:20240427T190000
DTEND;TZID=Europe/Warsaw:20240427T210000
DTSTAMP:20260422T132420
CREATED:20240222T070749Z
LAST-MODIFIED:20240222T070749Z
UID:10015479-1714244400-1714251600@kultura.tarnow.pl
SUMMARY:Grupa MoCarta „Ale kino”
DESCRIPTION:Kinematografia jest dziś najpopularniejszą ze sztuk\, a muzyka filmowa kontynuuje tradycje muzyki klasycznej. Piękne melodie\, wykonywane przez orkiestry symfoniczne\, komponowane są przez twórców\, którzy talent odziedziczyli po Bachu\, Mozarcie i Chopinie. \nNiezastąpiona Grupa MoCarta postanowiła poświęcić swój nowy program muzyce filmowej i najjaśniejszym gwiazdom srebrnego ekranu. Najbardziej rozpoznawalny kwartet w Polsce zaprezentuje jedyny w swoim rodzaju występ – zarówno osobom\, które świat kina znają od podszewki\, jak i tym\, dla których nadal kryje on w sobie wiele tajemnic. „Ale kino” to żartobliwe spojrzenie na ponadczasowe przeboje muzyki filmowej\, spotkania z Charliem Chaplinem\, Woodym Allenem\, Tomem Hanksem i aktorem\, który jest największym przegranym światowego kina… \nW programie „Ale kino” pojawią się niskobudżetowe efekty specjalne na miarę hollywoodzkich superprodukcji\, opowieść o historii filmu\, tańczący Lord Vader i dużo wspaniałej muzyki\, okraszonej mistrzowskim poczuciem humoru Grupy MoCarta – Pawła Kowaluka\, Bolesława Błaszczyka\, Michała Sikorskiego oraz Filipa Jaślara. \nZarezerwuj bilety na „Ale kino” i zanurz się w świat ulubionej muzyki filmowej wraz z Grupą MoCarta!
URL:https://kultura.tarnow.pl/wydarzenie/grupa-mocarta-ale-kino/
LOCATION:Hala Sportowo – Widowiskowa Pałacu Młodzieży\, Gumniska 28\, Tarnów\, małopolskie\, 33-100
CATEGORIES:kabarety
ATTACH;FMTTYPE=image/jpeg:https://kultura.tarnow.pl/wp-content/uploads/koncert-grupa-mocarta-ale-kino-pkz-dabrowa-gornicza-plakat.jpg
GEO:50.0086904;21.0004286
X-APPLE-STRUCTURED-LOCATION;VALUE=URI;X-ADDRESS=Hala Sportowo – Widowiskowa Pałacu Młodzieży Gumniska 28 Tarnów małopolskie 33-100;X-APPLE-RADIUS=500;X-TITLE=Gumniska 28:geo:21.0004286,50.0086904
END:VEVENT
BEGIN:VEVENT
DTSTART;TZID=Europe/Warsaw:20240427T190000
DTEND;TZID=Europe/Warsaw:20240427T210000
DTSTAMP:20260422T132420
CREATED:20240319T113232Z
LAST-MODIFIED:20240520T120812Z
UID:10015634-1714244400-1714251600@kultura.tarnow.pl
SUMMARY:Piotr Polok
DESCRIPTION:„Stowarzyszenie Przepraszam”\, zaprasza na koncert poezji śpiewanej w wykonaniu Piotra Poloka. Pochodzący z Pszowa\, na Górnym Śląsku\, a mieszkający od wielu lat w okolicach Bochni muzyk\, kompozytor\, producent muzyczny… wywodzi się z nurtu piosenki poetyckiej. Tworzy piosenki do wierszy współczesnych poetów polskich\, opisujących w sposób niebanalny otaczającą nas rzeczywistość. Piotr Polok\, koncertował na wielu znaczących scenach w naszym kraju m.in. w kultowej La Boheme w Warszawie\, Trzykronie! W październiku 2020 roku\, w kwietniu 2022 r. oraz w marcu tego roku\, zagrał autorskie koncerty w legendarnej Piwnicy pod Baranami w Krakowie (28 kwietnia 2024 roku zagra tam ponownie). Wystąpił podczas międzynarodowego koncertu organizowanego przez Polonię na Ukrainie z okazji święta Konstytucji 3-go Maja oraz Flagi Narodowej. Zamykał swoim koncertem popularne „Chmielowisko” w Kalnicy w Bieszczadach. Jesienią 2020 na zaproszenie producentów programu muzycznego Mini Jack wystąpił w TVP Katowice. Dwukrotnie\, 22 i 29 września tego roku\, był gościem i bohaterem programu „Nasz region” w Radio Kraków. Piotr Polok\, jest producentem\, pomysłodawcą i reżyserem koncertów charytatywnych z cyklu \,\,Bądź dobry tak jak chleb Piotr Polok i Przyjaciele” oraz „Rymo Rytmów Jesiennych” w których udział brała czołówka polskiej sceny z nurtu „Krainy Łagodności”… jest również właścicielem Firmy Edukacyjno-Artystycznej Pol-Art\, kształcącej młodych adeptów scen muzycznych. Piotr Polok od wielu lat współpracuje z Joanną Giemzowską-Pilch\, skrzypaczką która przez 20 lat współtworzyła wraz z Markiem Grechutą zespół Anawa. Współpracowała również Ireną Santor\, Grzegorzem Turnauem i wieloma innymi znanymi z polskich scen artystami. Brała udział wraz z włoską orkiestrą symfoniczną w trzy miesięcznym turnee ze słynnym Luciano Pavarottim. \nStowarzyszenie Przepraszam 27 kwietnia 2024 godz. 19.00 Rynek 9\, Tarnów  Cena biletu: 40 zł \n 
URL:https://kultura.tarnow.pl/wydarzenie/piotr-polok/
LOCATION:Stowarzyszenie „Przepraszam”\, Rynek 9\, Tarnów\, małopolskie\, 33-100\, Polska
CATEGORIES:koncerty
ATTACH;FMTTYPE=image/jpeg:https://kultura.tarnow.pl/wp-content/uploads/psjri4jgf76ks64f.jpg
ORGANIZER;CN="Stowarzyszenie 'Przepraszam'":MAILTO:przepraszam.booking@gmail.com
GEO:50.01212;20.98858
X-APPLE-STRUCTURED-LOCATION;VALUE=URI;X-ADDRESS=Stowarzyszenie „Przepraszam” Rynek 9 Tarnów małopolskie 33-100 Polska;X-APPLE-RADIUS=500;X-TITLE=Rynek 9:geo:20.98858,50.01212
END:VEVENT
END:VCALENDAR