BEGIN:VCALENDAR
VERSION:2.0
PRODID:-//kultura.tarnów - ECPv6.4.0.1//NONSGML v1.0//EN
CALSCALE:GREGORIAN
METHOD:PUBLISH
X-ORIGINAL-URL:https://kultura.tarnow.pl
X-WR-CALDESC:Wydarzenia dla
REFRESH-INTERVAL;VALUE=DURATION:PT1H
X-Robots-Tag:noindex
X-PUBLISHED-TTL:PT1H
BEGIN:VTIMEZONE
TZID:Europe/Warsaw
BEGIN:DAYLIGHT
TZOFFSETFROM:+0100
TZOFFSETTO:+0200
TZNAME:CEST
DTSTART:20240331T010000
END:DAYLIGHT
BEGIN:STANDARD
TZOFFSETFROM:+0200
TZOFFSETTO:+0100
TZNAME:CET
DTSTART:20241027T010000
END:STANDARD
END:VTIMEZONE
BEGIN:VEVENT
DTSTART;TZID=Europe/Warsaw:20240426T080000
DTEND;TZID=Europe/Warsaw:20240426T150000
DTSTAMP:20260423T030730
CREATED:20240418T135713Z
LAST-MODIFIED:20240517T140645Z
UID:10015751-1714118400-1714143600@kultura.tarnow.pl
SUMMARY:"Grafika" wystawa prac pracowników Wydziału Grafiki ASP
DESCRIPTION:
URL:https://kultura.tarnow.pl/wydarzenie/grafika-wystawa-prac-pracownikow-wydzialu-grafiki-asp/2024-04-26/
LOCATION:Galeria Liceum Sztuk Plastycznych\, Westwalewicza 6\, Tarnów\, małopolskie\, 33-100\, Polska
CATEGORIES:warsztaty
GEO:50.0118085;20.9938879
X-APPLE-STRUCTURED-LOCATION;VALUE=URI;X-ADDRESS=Galeria Liceum Sztuk Plastycznych Westwalewicza 6 Tarnów małopolskie 33-100 Polska;X-APPLE-RADIUS=500;X-TITLE=Westwalewicza 6:geo:20.9938879,50.0118085
END:VEVENT
BEGIN:VEVENT
DTSTART;TZID=Europe/Warsaw:20240426T080000
DTEND;TZID=Europe/Warsaw:20240426T150000
DTSTAMP:20260423T030730
CREATED:20240423T113141Z
LAST-MODIFIED:20240520T113516Z
UID:10015774-1714118400-1714143600@kultura.tarnow.pl
SUMMARY:Dyplomy 2024 w LSP
DESCRIPTION:DYPLOMY 2024\nWystawa prac dyplomowych uczniów Liceum Sztuk Plastycznych w Tarnowie\nSpecjalizacje\, aneksy. \n26 kwietnia – 9 maja 2024\nwernisaż: 26 kwietnia\, godz. 17.00\nLSP Tarnów\nul. Westwalewicza 6
URL:https://kultura.tarnow.pl/wydarzenie/dyplomy-2024-w-lsp/2024-04-26/
LOCATION:Galeria Liceum Sztuk Plastycznych\, Westwalewicza 6\, Tarnów\, małopolskie\, 33-100\, Polska
CATEGORIES:wystawy
ATTACH;FMTTYPE=image/png:https://kultura.tarnow.pl/wp-content/uploads/PLAKAT_dyplomy_24_BWA_LSP.-1-727x1024-1.png
GEO:50.0118085;20.9938879
X-APPLE-STRUCTURED-LOCATION;VALUE=URI;X-ADDRESS=Galeria Liceum Sztuk Plastycznych Westwalewicza 6 Tarnów małopolskie 33-100 Polska;X-APPLE-RADIUS=500;X-TITLE=Westwalewicza 6:geo:20.9938879,50.0118085
END:VEVENT
BEGIN:VEVENT
DTSTART;TZID=Europe/Warsaw:20240426T110000
DTEND;TZID=Europe/Warsaw:20240426T170000
DTSTAMP:20260423T030730
CREATED:20230424T102333Z
LAST-MODIFIED:20230424T102333Z
UID:10014259-1714129200-1714150800@kultura.tarnow.pl
SUMMARY:Surrealizm – Salvador Dali i inni
DESCRIPTION:Artyści: Krystyna Baniowska\, Piotr Barszczowski\, Piotr Bubak\, Stanisław Chmiel\, Ewa Fleszar\, Roman Fleszar\, Weronika Fleszar\, Mateusz Kijak\, Kazimierz Klimkiewicz\, Stanisław Kucharzyk\, Elżbieta Pazera\, Witold Pazera\, Michał Poręba\, Elżbieta Remian\, Piotr Rączka\, Jerzy Ruszel\, Anna Śliwińska\, Kazimierz Twardowski\, Grzegorz Wójcik\, Aleksandra Zuba-Benn \nSłowo SUR – to NA\, np.: sur la table – na stole. SURREALIZM – NADREALIZM\, zorganizowany ruch intelektualny pierwszej ćwierci XX wieku powstały we Francji. Surrealiści przyjęli ten termin w hołdzie dla G. Apollinaire`a\, który pierwszy użył tego sformułowania w 1918 roku w podtytule swojej sztuki\, nadając ruchowi nowy sens. Wyrastał on z doświadczeń\, przeżyć i przemyśleń związanych z I wojną światową\, a wywodził się z dadaizmu. Jednym z dążeń surrealizmu było pełne wyzwolenie osobowości człowieka\, pojęte jako ujawnienie jego ukrytych sił\, pragnień i marzeń\, zepchniętych w podświadomość przez rozum i rozsądek\, ogólnie przyjęte zasady obyczajowe i moralne. \nMANIFEST SURREALIZMU w 1924 roku napisał – ogłosił Andre BRETON\, początkowo odnosił się do literatury\, szybko jednak zainteresowali się nim twórcy innych dziedzin sztuki – wspaniałym przykładem są tu artyści malarze\, graficy. MANIFEST otworzył prawo do mówienia o nadrzędności przestrzeni na pograniczu snu i jawy. Artyści szukali metod i sposobu na wyrażenie idei tego nowego ruchu\, środki jakimi się posługiwali przedstawiały elementy rzeczywistości ujęte w nadrealny\, fantastyczny sposób. Obrazy były zapisem ze snów\, urojeń\, stanów delirycznych\, czy wszelkich czynności wykonywanych bez kontroli rozumu. Elementy rzeczywistości miały wymykać się logice\, rewolucjonizować życie codzienne…..obiekty i przedmioty\, nawet człowiek\, powinny znaleźć się w innych bytach\, przejść transformację\, np: ”człowiek jest ucieleśnionym deszczem”\, inny zaś z młotem\, lub ma jabłko zamiast głowy\, otwierający drzwi których nie ma……. a jak czytać istoty ciekłe z waty\, z wężowych skór\, upierzone drzewa\, zwierzęta niesione wiatrem\, modelowane z piasku. Surrealizm to miejsce spotkań najróżniejszych obiektów pochodzących z odmiennych kontekstów\, gdzie wszystko nabiera nowych nieoczekiwanych znaczeń……. np.: ”człowiek klatka schodowa\, człowiek litera\, ogryziona kość\, kropka\, strzęp\, kula\, człowiek trumna\, piszczałka\, sznurówka\, bagaż\, mgła i człowiek osad”\, a książka która gryzie ręce albo kłuje w oczy – tu przedmiot został wyzwolony i stał się wampirem\, książka dostaje przeciwstawną do swojej nową naturę. Bretonowskie ”puszczenie w obieg” przedmiotów dla wielu artystów stało się inspiracją do dania im nowego życia. Aktywność rzeczy dotychczas martwych\, obiektów nieuzależnionych od kontroli rozumu to niewyczerpane źródło tematów\, np.: ”wiatr upadł twarzą na ziemię”\, krzak śpiewa psalm”\, powietrze\, woda\, ziemia\, ogień\, barany\, smoki\, stwory złożone z mieczy\, igieł\, sztyletów. Do dziś wielu artystów korzysta i odwołuje się do postulowanego przez Bretona ”modelu wewnętrznego” czyli poszukiwania w sferze podświadomości\, jak to się dzieje\, mamy to każdego dnia: reklama\, teledyski\, wideoklipy. Nie ulega wątpliwości\, że surrealizm\, nie tylko twórcom\, ale i odbiorcom otworzył nowe obszary wyobraźni. \nKrystyna Baniowska Stąsiek Meyer (Wstęp do katalogu wystawy) \n 
URL:https://kultura.tarnow.pl/wydarzenie/surrealizm-salvador-dali-i-inni/2024-04-26/
LOCATION:Galeria ARTEKA\, Wałowa 16\, Tarnów\, 33-100
CATEGORIES:wystawy
ORGANIZER;CN="Stowarzyszenie Tarnowskich Artyst%C3%B3w Plastyk%C3%B3w":MAILTO:stowarzyszenie.arteka@gmail.com
END:VEVENT
BEGIN:VEVENT
DTSTART;TZID=Europe/Warsaw:20240426T180000
DTEND;TZID=Europe/Warsaw:20240426T193000
DTSTAMP:20260423T030730
CREATED:20240425T121856Z
LAST-MODIFIED:20240520T122040Z
UID:10015807-1714154400-1714159800@kultura.tarnow.pl
SUMMARY:"Śladami tarnowskich Żydów"- promocja wydawnictwa
DESCRIPTION:Piątek\, 26.04.2024\, g. 18:00\nMultimedialne Centrum Artystyczne / Wałowa 25\nWstęp wolny \nO Przewodniku\, Witold Stachnik z Wydawnictwo Szkolne Omega: \n„(…) Przewodnik jest bardzo bogato ilustrowany\, zawiera ponad 440 ilustracji. Człowiek-legenda\, badacz historii Żydów w byłej Galicji\, Adam Bartosz\, opisuje ważne miejsca historyczne\, obiekty architektoniczne\, miejsca pamięci\, archiwalia\, ciekawostki oraz znane postacie z żydowskiej historii Tarnowa. Z dumą muszę powiedzieć\, że mam spory udział w powstaniu tej ważnej książki – razem z Adamem Bartoszem dokonałem wyboru materiałów\, wraz z Marzeną Paleczny opracowałem graficznie przewodnik a także zilustrowałem go bogato fotograficznie. W przewodniku znajduje się około 200 moich fotografii\, ale znajdziecie także wspaniałe fotografie autorstwa Dariusza Kobylańskiego\, Pawła Topolskiego\, Stanisława Siekierskiego i Wojciecha Kobylańskiego. Ponadto mnóstwo historycznych materiałów ze sławnej kolekcji Marka Tomaszewskiego oraz z archiwum Muzeum Ziemi Tarnowskiej i samego Komitetu. Wydawnictwo Szkolne OMEGA wydało przewodnik we współpracy z Wydawnictwem S-CAN\, a publikacja była finansowana ze środków Norweskiego Mechanizmu Finansowania w ramach projektu Tarnów. Nowe Spojrzenie”.
URL:https://kultura.tarnow.pl/wydarzenie/sladami-tarnowskich-zydow-promocja-wydawnictwa/
LOCATION:Multimedialne Centrum Artystyczne\, Wałowa 25\, Tarnów\, małopolskie\, 33-100\, Polska
CATEGORIES:spotkania
ORGANIZER;CN="Biuro Wystaw Artystycznych":MAILTO:biuro@bwa.tarnow.pl
GEO:50.013866931068;20.987989998201
X-APPLE-STRUCTURED-LOCATION;VALUE=URI;X-ADDRESS=Multimedialne Centrum Artystyczne Wałowa 25 Tarnów małopolskie 33-100 Polska;X-APPLE-RADIUS=500;X-TITLE=Wałowa 25:geo:20.987989998201,50.013866931068
END:VEVENT
BEGIN:VEVENT
DTSTART;TZID=Europe/Warsaw:20240426T183000
DTEND;TZID=Europe/Warsaw:20240426T193000
DTSTAMP:20260423T030730
CREATED:20240424T112659Z
LAST-MODIFIED:20240520T113901Z
UID:10015786-1714156200-1714159800@kultura.tarnow.pl
SUMMARY:Anna Śliwińska "Venus w mieście\, palimpsest bon mot"
DESCRIPTION:
URL:https://kultura.tarnow.pl/wydarzenie/anna-sliwinska-venus-w-miescie-palimpsest-bon-mot/2024-04-26/
LOCATION:Galeria ARTEKA\, Wałowa 16\, Tarnów\, 33-100
CATEGORIES:wernisaże,wystawy
ATTACH;FMTTYPE=image/jpeg:https://kultura.tarnow.pl/wp-content/uploads/435896506_349940784743014_1395422508547572056_n.jpg
END:VEVENT
BEGIN:VEVENT
DTSTART;TZID=Europe/Warsaw:20240426T190000
DTEND;TZID=Europe/Warsaw:20240426T203000
DTSTAMP:20260423T030730
CREATED:20220104T131516Z
LAST-MODIFIED:20240520T121802Z
UID:10015804-1714158000-1714163400@kultura.tarnow.pl
SUMMARY:MAYDAY - Ray Cooney
DESCRIPTION:26\, 27\, 28 kwietnia (piątek\, sobota\, niedziela) godz. 19.00 Duża Scena \nMayday jest klasyką gatunku i klasą samą dla siebie. Tutaj nawet didaskalia są opisane bardzo precyzyjnie. Maydaya można by porównać do paczki ze znanej sieci meblarskiej\, w której można kupić gotowy produkt z instrukcją montażu i prawie każdy jest w stanie go poskładać z gwarancją\, że zawsze wyjdzie podobnie\, czyli dobrze. Można jednak\, odnosząc się do tej metafory\, pozostawić funkcjonalność i ogólny wygląd mebli\, ale użyć innych (lepszych) materiałów i ciekawszych (ładniejszych) dodatków. \nMayday jest bardzo dobrze pomyślany\, zarówno koncepcyjnie\, jak i intuicyjnie. Jest świetnie napisany pod względem komediowości\, ale również poszczególnych postaci i sytuacji\, w których ci się znajdują. Pomyślałem sobie\, że ciekawie byłoby bliżej się temu przyjrzeć. Nie tracąc komediowości tego tekstu poszukać w nim ludzi\, którzy jakoś sobie urządzają świat\, czegoś chcą\, o coś walczą i w końcu\, czegoś nie są świadomi. Pomimo tego\, że w moim odczuciu farsa jest bajką dla dorosłych\, nic nie stoi na przeszkodzie by poszukać tam bohaterów\, którzy żyją wokół nas i może tym się tylko od nas różnią\, że czegoś tam mają więcej\, w coś są bardziej od nas zaangażowani i w końcu nie widzą tego co my – stojący nieco z boku.\nTadeusz Łomnicki\, reżyser \nSpektakl zdobył Nagrodę Publiczności podczas XXV Ogólnopolskiego Festiwalu Komedii Talia 2021. \n 
URL:https://kultura.tarnow.pl/wydarzenie/mayday-ray-cooney/2024-04-26/
LOCATION:Teatr im. L.Solskiego\, Mickiewicza 4\, Tarnów\, małopolskie\, 33-100\, Polska
CATEGORIES:spektakle
ATTACH;FMTTYPE=image/jpeg:https://kultura.tarnow.pl/wp-content/uploads/mayday-www-1-1.jpg
GEO:50.0159214;20.987504
X-APPLE-STRUCTURED-LOCATION;VALUE=URI;X-ADDRESS=Teatr im. L.Solskiego Mickiewicza 4 Tarnów małopolskie 33-100 Polska;X-APPLE-RADIUS=500;X-TITLE=Mickiewicza 4:geo:20.987504,50.0159214
END:VEVENT
BEGIN:VEVENT
DTSTART;TZID=Europe/Warsaw:20240426T193000
DTEND;TZID=Europe/Warsaw:20240426T210000
DTSTAMP:20260423T030730
CREATED:20240328T122733Z
LAST-MODIFIED:20240328T122733Z
UID:10015566-1714159800-1714165200@kultura.tarnow.pl
SUMMARY:Koncert jazzowy: Tomasz Chyła Quintet
DESCRIPTION:To będzie wieczór pełen improwizacji i niezapomnianych melodii! \nTomasz Chyła Quintet określany jest\, jako jedna z najbardziej ekscytujących formacji jazzowych młodego pokolenia. Nieustannie poszukuje nowych dróg wyrazu w jazzie\, przekraczając granice i łącząc różnorodne muzyczne światy. Tomasz Chyła i jego zespół to grupa młodych\, utalentowanych muzyków wywodzących się z trójmiejskiej sceny jazzowej. Zespół istnieje od 2017 roku i już na początku swojej kariery był dostrzegany i doceniany zarówno przez środowisko jazzowe\, jak też publiczność. Ich debiutancki album otrzymał aż dwie nominacje Fryderyków. Sercem zespołu jest charyzmatyczny skrzypek – Tomasz Chyła\, który prowadzi swoich kolegów przez istny labirynt muzycznych improwizacji\, czerpiąc inspiracje z różnych stron świata muzycznego. \nW listopadzie ub. roku ukazał się piąty album formacji. „Music We Like To Dance To”\, to kolekcja utworów\, które z jednej strony zachwycają jazzową finezją\, a z drugiej – są zaproszeniem do wspólnego tańca i radości. Progrockowe riffy przełamywane pięknymi melodiami\, przypominają odbiorcy o funkcjonalności muzyki\, która służy nam od wieków. Słuchając utworów z płyty możemy poczuć się\, jak na dobrej imprezie\, gdzie muzyka zelektryzuje całe ciało\, a słuchacz sam nie wie w którym momencie zaczyna tańczyć. To muzyka pełna emocji\, improwizacji i niezapomnianych melodii\, która z pewnością poruszy serca i umysły słuchaczy.\nNowy krążek został uznany za Płytę Roku 2023 w prestiżowej ankiecie Jazz Top magazynu Jazz Forum. To najlepszy dowód na niezwykły talent i pasję\, jaką zespół wkłada w swoją twórczość. Dodatkowym wyróżnieniem są drugie miejsca Tomasza Chyły\, jako muzyka roku\, oraz zespołu w kategorii zespół akustyczny. W lutym br. Akademia Fonograficzna ogłosiła nominacje do najważniejszych polskich nagród muzycznych\, Fryderyków. Tomasz Chyła Quintet otrzymał nominacje w kategorii Muzyka Jazzowa – Album Roku\, natomiast Tomasz Chyła\, otrzymał nominacje w tej samej kategorii jako Artysta Roku. \nW Tarnowie zespół wystąpi w składzie:\nTomasz Chyła – skrzypce\nEmil Miszk – trąbka\nKrzysztof Hadrych – gitara\nKonrad Żołnierek – gitara basowa\nSławek Koryzno – perkusja. \nTomasz Chyła Quintet\nMiejsce: Piwnice TCK (Tarnów\, Rynek 5)\nData i godzina: 26 kwietnia 2024 r.\, o godz. 19.30.\nBilety: 50 zł. Przedsprzedaż od 3 kwietnia (on-line na www.tck.pl oraz w TCK). \nOrganizatorem wydarzenia jest Tarnowskie Centrum Kultury.
URL:https://kultura.tarnow.pl/wydarzenie/koncert-jazzowy-tomasz-chyla-quintet/
LOCATION:Tarnowskie Centrum Kultury\, Rynek 5\, Tarnów\, małopolskie\, 33-100\, Polska
CATEGORIES:koncerty
GEO:50.012155;20.9878542
X-APPLE-STRUCTURED-LOCATION;VALUE=URI;X-ADDRESS=Tarnowskie Centrum Kultury Rynek 5 Tarnów małopolskie 33-100 Polska;X-APPLE-RADIUS=500;X-TITLE=Rynek 5:geo:20.9878542,50.012155
END:VEVENT
BEGIN:VEVENT
DTSTART;TZID=Europe/Warsaw:20240426T193000
DTEND;TZID=Europe/Warsaw:20240426T210000
DTSTAMP:20260423T030730
CREATED:20240328T131134Z
LAST-MODIFIED:20240520T121334Z
UID:10015803-1714159800-1714165200@kultura.tarnow.pl
SUMMARY:Koncert jazzowy: Tomasz Chyła Quintet
DESCRIPTION:To będzie wieczór pełen improwizacji i niezapomnianych melodii! \nTomasz Chyła Quintet określany jest\, jako jedna z najbardziej ekscytujących formacji jazzowych młodego pokolenia. Nieustannie poszukuje nowych dróg wyrazu w jazzie\, przekraczając granice i łącząc różnorodne muzyczne światy. Tomasz Chyła i jego zespół to grupa młodych\, utalentowanych muzyków wywodzących się z trójmiejskiej sceny jazzowej. Zespół istnieje od 2017 roku i już na początku swojej kariery był dostrzegany i doceniany zarówno przez środowisko jazzowe\, jak też publiczność. Ich debiutancki album otrzymał aż dwie nominacje Fryderyków. Sercem zespołu jest charyzmatyczny skrzypek – Tomasz Chyła\, który prowadzi swoich kolegów przez istny labirynt muzycznych improwizacji\, czerpiąc inspiracje z różnych stron świata muzycznego. \nW listopadzie ub. roku ukazał się piąty album formacji. „Music We Like To Dance To”\, to kolekcja utworów\, które z jednej strony zachwycają jazzową finezją\, a z drugiej – są zaproszeniem do wspólnego tańca i radości. Progrockowe riffy przełamywane pięknymi melodiami\, przypominają odbiorcy o funkcjonalności muzyki\, która służy nam od wieków. Słuchając utworów z płyty możemy poczuć się\, jak na dobrej imprezie\, gdzie muzyka zelektryzuje całe ciało\, a słuchacz sam nie wie w którym momencie zaczyna tańczyć. To muzyka pełna emocji\, improwizacji i niezapomnianych melodii\, która z pewnością poruszy serca i umysły słuchaczy.\nNowy krążek został uznany za Płytę Roku 2023 w prestiżowej ankiecie Jazz Top magazynu Jazz Forum. To najlepszy dowód na niezwykły talent i pasję\, jaką zespół wkłada w swoją twórczość. Dodatkowym wyróżnieniem są drugie miejsca Tomasza Chyły\, jako muzyka roku\, oraz zespołu w kategorii zespół akustyczny. W lutym br. Akademia Fonograficzna ogłosiła nominacje do najważniejszych polskich nagród muzycznych\, Fryderyków. Tomasz Chyła Quintet otrzymał nominacje w kategorii Muzyka Jazzowa – Album Roku\, natomiast Tomasz Chyła\, otrzymał nominacje w tej samej kategorii jako Artysta Roku. \nW Tarnowie zespół wystąpi w składzie:\nTomasz Chyła – skrzypce\nEmil Miszk – trąbka\nKrzysztof Hadrych – gitara\nKonrad Żołnierek – gitara basowa\nSławek Koryzno – perkusja. \nTomasz Chyła Quintet\nMiejsce: Piwnice TCK (Tarnów\, Rynek 5)\nData i godzina: 26 kwietnia 2024 r.\, o godz. 19.30.\nBilety: 50 zł. Przedsprzedaż od 3 kwietnia (on-line na www.tck.pl oraz w TCK). \nOrganizatorem wydarzenia jest Tarnowskie Centrum Kultury.
URL:https://kultura.tarnow.pl/wydarzenie/koncert-jazzowy-tomasz-chyla-quintet/
LOCATION:Tarnowskie Centrum Kultury\, Rynek 5\, Tarnów\, małopolskie\, 33-100\, Polska
CATEGORIES:koncerty
ATTACH;FMTTYPE=image/jpeg:https://kultura.tarnow.pl/wp-content/uploads/58d3dfa776183a6c0eca59797857a620-1024x576-1.jpeg
GEO:50.012155;20.9878542
X-APPLE-STRUCTURED-LOCATION;VALUE=URI;X-ADDRESS=Tarnowskie Centrum Kultury Rynek 5 Tarnów małopolskie 33-100 Polska;X-APPLE-RADIUS=500;X-TITLE=Rynek 5:geo:20.9878542,50.012155
END:VEVENT
END:VCALENDAR