BEGIN:VCALENDAR
VERSION:2.0
PRODID:-//kultura.tarnów - ECPv6.4.0.1//NONSGML v1.0//EN
CALSCALE:GREGORIAN
METHOD:PUBLISH
X-ORIGINAL-URL:https://kultura.tarnow.pl
X-WR-CALDESC:Wydarzenia dla
REFRESH-INTERVAL;VALUE=DURATION:PT1H
X-Robots-Tag:noindex
X-PUBLISHED-TTL:PT1H
BEGIN:VTIMEZONE
TZID:Europe/Warsaw
BEGIN:DAYLIGHT
TZOFFSETFROM:+0100
TZOFFSETTO:+0200
TZNAME:CEST
DTSTART:20240331T010000
END:DAYLIGHT
BEGIN:STANDARD
TZOFFSETFROM:+0200
TZOFFSETTO:+0100
TZNAME:CET
DTSTART:20241027T010000
END:STANDARD
TZID:Africa/Abidjan
BEGIN:STANDARD
TZOFFSETFROM:+0000
TZOFFSETTO:+0000
TZNAME:GMT
DTSTART:20240101T000000
END:STANDARD
END:VTIMEZONE
BEGIN:VEVENT
DTSTART;TZID=Europe/Warsaw:20240424T080000
DTEND;TZID=Europe/Warsaw:20240424T120000
DTSTAMP:20260423T045444
CREATED:20240329T132203Z
LAST-MODIFIED:20240329T132203Z
UID:10015573-1713945600-1713960000@kultura.tarnow.pl
SUMMARY:Oddaj krew! Ruchomy punkt krwiodawstwa na Westerplatte
DESCRIPTION:24 kwietnia (środa) godz. 8:00 – 12:00  \nZapraszamy na darmowy test na odwagę i bohaterstwo. Na czym to będzie polegać? Po uzupełnieniu ankiety\, pani doktor z ekipy wyjazdowej punktu Regionalnego Centrum Krwiodawstwa i Krwiolecznictwa w Tarnowie (ul. Szpitalna 13) kwalifikuje śmiałka do spotkania sam na sam… z najtroskliwszą panią na świecie uzbrojoną w igłę. Po pobraniu ustalonej porcji krwi\, bohaterka lub bohater odchodzi z pakietem czekolad\, zwolnieniem z pracy (lub zajęć szkolnych) na 2 dni i bezpłatne przejazdy komunikacją miejską. Jednak najważniejsza jest  satysfakcja\, że ten gest pomógł komuś uratować życie. \nWarunki do spełnienia: wiek 18 – 65 lat\, waga powyżej 50 kg\, dobry stan zdrowia\nRejestracja śmiałków do godz. 11:30 \n 
URL:https://kultura.tarnow.pl/wydarzenie/oddaj-krew-ruchomy-punkt-krwiodawstwa-na-westerplatte/
LOCATION:Dom Kultury Westerplatte 8a\, Westerplatte 8a\, Tarnów\, Polska - małopolskie\, 33-100\, Polska
CATEGORIES:spotkania
GEO:50.0273033;21.0087361
X-APPLE-STRUCTURED-LOCATION;VALUE=URI;X-ADDRESS=Dom Kultury Westerplatte 8a Westerplatte 8a Tarnów Polska - małopolskie 33-100 Polska;X-APPLE-RADIUS=500;X-TITLE=Westerplatte 8a:geo:21.0087361,50.0273033
END:VEVENT
BEGIN:VEVENT
DTSTART;TZID=Europe/Warsaw:20240424T080000
DTEND;TZID=Europe/Warsaw:20240424T120000
DTSTAMP:20260423T045444
CREATED:20240329T132203Z
LAST-MODIFIED:20240520T090229Z
UID:10015682-1713945600-1713960000@kultura.tarnow.pl
SUMMARY:Oddaj krew! Ruchomy punkt krwiodawstwa na Westerplatte
DESCRIPTION:24 kwietnia (środa) godz. 8:00 – 12:00  \nZapraszamy na darmowy test na odwagę i bohaterstwo. Na czym to będzie polegać? Po uzupełnieniu ankiety\, pani doktor z ekipy wyjazdowej punktu Regionalnego Centrum Krwiodawstwa i Krwiolecznictwa w Tarnowie (ul. Szpitalna 13) kwalifikuje śmiałka do spotkania sam na sam… z najtroskliwszą panią na świecie uzbrojoną w igłę. Po pobraniu ustalonej porcji krwi\, bohaterka lub bohater odchodzi z pakietem czekolad\, zwolnieniem z pracy (lub zajęć szkolnych) na 2 dni i bezpłatne przejazdy komunikacją miejską. Jednak najważniejsza jest  satysfakcja\, że ten gest pomógł komuś uratować życie. \nWarunki do spełnienia: wiek 18 – 65 lat\, waga powyżej 50 kg\, dobry stan zdrowia\nRejestracja śmiałków do godz. 11:30 \n 
URL:https://kultura.tarnow.pl/wydarzenie/oddaj-krew-ruchomy-punkt-krwiodawstwa-na-westerplatte/
LOCATION:Dom Kultury Westerplatte 8a\, Westerplatte 8a\, Tarnów\, Polska - małopolskie\, 33-100\, Polska
CATEGORIES:spotkania
ATTACH;FMTTYPE=image/jpeg:https://kultura.tarnow.pl/wp-content/uploads/Oddaj-krew_s-1.jpg
GEO:50.0273033;21.0087361
X-APPLE-STRUCTURED-LOCATION;VALUE=URI;X-ADDRESS=Dom Kultury Westerplatte 8a Westerplatte 8a Tarnów Polska - małopolskie 33-100 Polska;X-APPLE-RADIUS=500;X-TITLE=Westerplatte 8a:geo:21.0087361,50.0273033
END:VEVENT
BEGIN:VEVENT
DTSTART;TZID=Europe/Warsaw:20240424T080000
DTEND;TZID=Europe/Warsaw:20240424T150000
DTSTAMP:20260423T045444
CREATED:20240418T135713Z
LAST-MODIFIED:20240517T140645Z
UID:10015749-1713945600-1713970800@kultura.tarnow.pl
SUMMARY:"Grafika" wystawa prac pracowników Wydziału Grafiki ASP
DESCRIPTION:
URL:https://kultura.tarnow.pl/wydarzenie/grafika-wystawa-prac-pracownikow-wydzialu-grafiki-asp/2024-04-24/
LOCATION:Galeria Liceum Sztuk Plastycznych\, Westwalewicza 6\, Tarnów\, małopolskie\, 33-100\, Polska
CATEGORIES:warsztaty
GEO:50.0118085;20.9938879
X-APPLE-STRUCTURED-LOCATION;VALUE=URI;X-ADDRESS=Galeria Liceum Sztuk Plastycznych Westwalewicza 6 Tarnów małopolskie 33-100 Polska;X-APPLE-RADIUS=500;X-TITLE=Westwalewicza 6:geo:20.9938879,50.0118085
END:VEVENT
BEGIN:VEVENT
DTSTART;TZID=Europe/Warsaw:20240424T090000
DTEND;TZID=Europe/Warsaw:20240424T170000
DTSTAMP:20260423T045444
CREATED:20240416T101355Z
LAST-MODIFIED:20240416T101355Z
UID:10015245-1713949200-1713978000@kultura.tarnow.pl
SUMMARY:Wystawa prac dyplomów studentów Wydziału Sztuki AT
DESCRIPTION:Serdecznie zapraszamy 23 kwietnia o godzinie 18.00 do Tarnowskiego Centrum Kultury\, na wernisaż wystawy dyplomów\, zrealizowanych na Wydziale Sztuki Akademii Tarnowskiej. \nWystawa prezentuje tegoroczne prace dyplomowe studentów Wydziału Sztuki Akademii Tarnowskiej zrealizowane na kierunkach grafika i wzornictwo/dizajn. Zobaczymy projekty z zakresu grafiki wydawniczej\, reklamowej i multimedialnej\, komunikacji wizualnej: książki\, projekty fontów\, plakaty\, animacje oraz prace z zakresu projektowania produktu i projektowania mody. \nWystawa czynna od 24 kwietnia do 11 maja 2024 roku. \nW trakcie ekspozycji zaplanowane zostały obrony prac dyplomowych\, które odbywają się w trybie otwartym dla publiczności.\n \nUdział biorą: Sara Partyńska\, Agnieszka Knapik\, Marcin Kamykowski\, Michał Wałaszek\, Aleksandra Zbylut\, Izabella Trzęsińska\, Oliwia Telep\, Maria Wiercioch\, Arkadiusz Kusior\, Weronika Witkowska\, Weronika Zarzycka\, Faustyna Augustyn\, Izabela Marcinek\, Michalina Duda\, Angelika Złotowska\, Jolanta Wantuch\, Magdalena Molczyk\, Anna Strycharska\, Klaudia Partyńska\, Natalia Sikorska\, Oskar Bandyk\, Dominika Bieda\, Paulina Polak\, Kornelia Trzaskuś\, Katarzyna Różycka\, Aleksandra Gołdasz\, Dominika Jajkowska\, Wiktor Drwal\, Róża Hałun\, Anita Poręba\, Żaneta Bogusz\, Katarzyna Dziedzic\, Karolina Cetera\, Aleksandra Kuchcińska\, Katarzyna Moskal\, Marcelina Dyl\, Weronika Owca.
URL:https://kultura.tarnow.pl/wydarzenie/wystawa-prac-dyplomow-studentow-wydzialu-sztuki-at/
LOCATION:Tarnowskie Centrum Kultury\, Rynek 5\, Tarnów\, małopolskie\, 33-100\, Polska
CATEGORIES:wystawy
GEO:50.012155;20.9878542
X-APPLE-STRUCTURED-LOCATION;VALUE=URI;X-ADDRESS=Tarnowskie Centrum Kultury Rynek 5 Tarnów małopolskie 33-100 Polska;X-APPLE-RADIUS=500;X-TITLE=Rynek 5:geo:20.9878542,50.012155
END:VEVENT
BEGIN:VEVENT
DTSTART;TZID=Europe/Warsaw:20240424T110000
DTEND;TZID=Europe/Warsaw:20240424T170000
DTSTAMP:20260423T045444
CREATED:20230424T102333Z
LAST-MODIFIED:20230424T102333Z
UID:10014257-1713956400-1713978000@kultura.tarnow.pl
SUMMARY:Surrealizm – Salvador Dali i inni
DESCRIPTION:Artyści: Krystyna Baniowska\, Piotr Barszczowski\, Piotr Bubak\, Stanisław Chmiel\, Ewa Fleszar\, Roman Fleszar\, Weronika Fleszar\, Mateusz Kijak\, Kazimierz Klimkiewicz\, Stanisław Kucharzyk\, Elżbieta Pazera\, Witold Pazera\, Michał Poręba\, Elżbieta Remian\, Piotr Rączka\, Jerzy Ruszel\, Anna Śliwińska\, Kazimierz Twardowski\, Grzegorz Wójcik\, Aleksandra Zuba-Benn \nSłowo SUR – to NA\, np.: sur la table – na stole. SURREALIZM – NADREALIZM\, zorganizowany ruch intelektualny pierwszej ćwierci XX wieku powstały we Francji. Surrealiści przyjęli ten termin w hołdzie dla G. Apollinaire`a\, który pierwszy użył tego sformułowania w 1918 roku w podtytule swojej sztuki\, nadając ruchowi nowy sens. Wyrastał on z doświadczeń\, przeżyć i przemyśleń związanych z I wojną światową\, a wywodził się z dadaizmu. Jednym z dążeń surrealizmu było pełne wyzwolenie osobowości człowieka\, pojęte jako ujawnienie jego ukrytych sił\, pragnień i marzeń\, zepchniętych w podświadomość przez rozum i rozsądek\, ogólnie przyjęte zasady obyczajowe i moralne. \nMANIFEST SURREALIZMU w 1924 roku napisał – ogłosił Andre BRETON\, początkowo odnosił się do literatury\, szybko jednak zainteresowali się nim twórcy innych dziedzin sztuki – wspaniałym przykładem są tu artyści malarze\, graficy. MANIFEST otworzył prawo do mówienia o nadrzędności przestrzeni na pograniczu snu i jawy. Artyści szukali metod i sposobu na wyrażenie idei tego nowego ruchu\, środki jakimi się posługiwali przedstawiały elementy rzeczywistości ujęte w nadrealny\, fantastyczny sposób. Obrazy były zapisem ze snów\, urojeń\, stanów delirycznych\, czy wszelkich czynności wykonywanych bez kontroli rozumu. Elementy rzeczywistości miały wymykać się logice\, rewolucjonizować życie codzienne…..obiekty i przedmioty\, nawet człowiek\, powinny znaleźć się w innych bytach\, przejść transformację\, np: ”człowiek jest ucieleśnionym deszczem”\, inny zaś z młotem\, lub ma jabłko zamiast głowy\, otwierający drzwi których nie ma……. a jak czytać istoty ciekłe z waty\, z wężowych skór\, upierzone drzewa\, zwierzęta niesione wiatrem\, modelowane z piasku. Surrealizm to miejsce spotkań najróżniejszych obiektów pochodzących z odmiennych kontekstów\, gdzie wszystko nabiera nowych nieoczekiwanych znaczeń……. np.: ”człowiek klatka schodowa\, człowiek litera\, ogryziona kość\, kropka\, strzęp\, kula\, człowiek trumna\, piszczałka\, sznurówka\, bagaż\, mgła i człowiek osad”\, a książka która gryzie ręce albo kłuje w oczy – tu przedmiot został wyzwolony i stał się wampirem\, książka dostaje przeciwstawną do swojej nową naturę. Bretonowskie ”puszczenie w obieg” przedmiotów dla wielu artystów stało się inspiracją do dania im nowego życia. Aktywność rzeczy dotychczas martwych\, obiektów nieuzależnionych od kontroli rozumu to niewyczerpane źródło tematów\, np.: ”wiatr upadł twarzą na ziemię”\, krzak śpiewa psalm”\, powietrze\, woda\, ziemia\, ogień\, barany\, smoki\, stwory złożone z mieczy\, igieł\, sztyletów. Do dziś wielu artystów korzysta i odwołuje się do postulowanego przez Bretona ”modelu wewnętrznego” czyli poszukiwania w sferze podświadomości\, jak to się dzieje\, mamy to każdego dnia: reklama\, teledyski\, wideoklipy. Nie ulega wątpliwości\, że surrealizm\, nie tylko twórcom\, ale i odbiorcom otworzył nowe obszary wyobraźni. \nKrystyna Baniowska Stąsiek Meyer (Wstęp do katalogu wystawy) \n 
URL:https://kultura.tarnow.pl/wydarzenie/surrealizm-salvador-dali-i-inni/2024-04-24/
LOCATION:Galeria ARTEKA\, Wałowa 16\, Tarnów\, 33-100
CATEGORIES:wystawy
ORGANIZER;CN="Stowarzyszenie Tarnowskich Artyst%C3%B3w Plastyk%C3%B3w":MAILTO:stowarzyszenie.arteka@gmail.com
END:VEVENT
BEGIN:VEVENT
DTSTART;TZID=Africa/Abidjan:20240424T170000
DTEND;TZID=Africa/Abidjan:20240424T190000
DTSTAMP:20260423T045444
CREATED:20240416T063706Z
LAST-MODIFIED:20240520T112212Z
UID:10015678-1713978000-1713985200@kultura.tarnow.pl
SUMMARY:Spotkanie z ks. prof. Michałem Hellerem
DESCRIPTION:24 kwietnia o godz. 17:00 w Siemacha Spot Gemini Park Tarnów\, odbędzie się spotkanie autorskie z udziałem ks. prof. Michała Hellera\, ks. prof. Tadeusza Pabjana oraz ks. dr. Tomasza Maziarki. Spotkanie będzie dotyczyć książki „W poszukiwaniu duchowości człowieka. Książka dedykowana Michałowi Hellerowi z okazji 85. rocznicy urodzin” pod red. ks. dr. Tomasza Maziarki. \nSiemachowski oddział MCAS jest współorganizatorem i gospodarzem wydarzenia.
URL:https://kultura.tarnow.pl/wydarzenie/spotkanie-z-ks-prof-michalem-hellerem/
LOCATION:małopolskie
CATEGORIES:spotkania
END:VEVENT
BEGIN:VEVENT
DTSTART;TZID=Africa/Abidjan:20240424T170000
DTEND;TZID=Africa/Abidjan:20240425T170000
DTSTAMP:20260423T045444
CREATED:20240416T063706Z
LAST-MODIFIED:20240516T145242Z
UID:10015212-1713978000-1714064400@kultura.tarnow.pl
SUMMARY:Spotkanie z ks. prof. Michałem Hellerem
DESCRIPTION:24 kwietnia o godz. 17:00 w Siemacha Spot Gemini Park Tarnów\, odbędzie się spotkanie autorskie z udziałem ks. prof. Michała Hellera\, ks. prof. Tadeusza Pabjana oraz ks. dr. Tomasza Maziarki. Spotkanie będzie dotyczyć książki „W poszukiwaniu duchowości człowieka. Książka dedykowana Michałowi Hellerowi z okazji 85. rocznicy urodzin” pod red. ks. dr. Tomasza Maziarki. \nSiemachowski oddział MCAS jest współorganizatorem i gospodarzem wydarzenia.
URL:https://kultura.tarnow.pl/wydarzenie/spotkanie-z-ks-prof-michalem-hellerem-2/
LOCATION:małopolskie
CATEGORIES:spotkania
END:VEVENT
BEGIN:VEVENT
DTSTART;TZID=Europe/Warsaw:20240424T180000
DTEND;TZID=Europe/Warsaw:20240424T200000
DTSTAMP:20260423T045444
CREATED:20240329T131523Z
LAST-MODIFIED:20240520T112037Z
UID:10015762-1713981600-1713988800@kultura.tarnow.pl
SUMMARY:Plansza łączy. Gramy w Dom.Ku!
DESCRIPTION:Plansza łączy. Gramy w Dom.Ku! \nGry planszowe w Domu Kultury mają już swoich fanów\, ale z radością przywitamy nowych uczestników. Mamy nowe gry do przetestowania\, m.in. „Dobry rok” i „Na skrzydłach” polecone nam przez zaprzyjaźnionych graczy. Wpadajcie rodzinnie i ze znajomymi. Jeśli nie macie towarzystwa do grania – tutaj na pewno je znajdziecie! Gry planszowe to ćwiczenia na logikę\, kreatywne myślenie\, wyobraźnię i zaproszenie do przeżycia małej przygody. Wstęp bezpłatny. \n 
URL:https://kultura.tarnow.pl/wydarzenie/plansza-laczy-gramy-w-dom-ku-3/2024-04-24/
LOCATION:Dom Kultury Westerplatte 8a\, Westerplatte 8a\, Tarnów\, Polska - małopolskie\, 33-100\, Polska
CATEGORIES:konkursy
ATTACH;FMTTYPE=image/jpeg:https://kultura.tarnow.pl/wp-content/uploads/KGP_KWIECIEN24_s-1.jpg
GEO:50.0273033;21.0087361
X-APPLE-STRUCTURED-LOCATION;VALUE=URI;X-ADDRESS=Dom Kultury Westerplatte 8a Westerplatte 8a Tarnów Polska - małopolskie 33-100 Polska;X-APPLE-RADIUS=500;X-TITLE=Westerplatte 8a:geo:21.0087361,50.0273033
END:VEVENT
END:VCALENDAR