BEGIN:VCALENDAR
VERSION:2.0
PRODID:-//kultura.tarnów - ECPv6.4.0.1//NONSGML v1.0//EN
CALSCALE:GREGORIAN
METHOD:PUBLISH
X-WR-CALNAME:kultura.tarnów
X-ORIGINAL-URL:https://kultura.tarnow.pl
X-WR-CALDESC:Wydarzenia dla
REFRESH-INTERVAL;VALUE=DURATION:PT1H
X-Robots-Tag:noindex
X-PUBLISHED-TTL:PT1H
BEGIN:VTIMEZONE
TZID:Europe/Warsaw
BEGIN:DAYLIGHT
TZOFFSETFROM:+0100
TZOFFSETTO:+0200
TZNAME:CEST
DTSTART:20240331T010000
END:DAYLIGHT
BEGIN:STANDARD
TZOFFSETFROM:+0200
TZOFFSETTO:+0100
TZNAME:CET
DTSTART:20241027T010000
END:STANDARD
TZID:Africa/Abidjan
BEGIN:STANDARD
TZOFFSETFROM:+0000
TZOFFSETTO:+0000
TZNAME:GMT
DTSTART:20240101T000000
END:STANDARD
END:VTIMEZONE
BEGIN:VEVENT
DTSTART;TZID=Europe/Warsaw:20240423T080000
DTEND;TZID=Europe/Warsaw:20240423T150000
DTSTAMP:20260422T182505
CREATED:20240418T135713Z
LAST-MODIFIED:20240517T140645Z
UID:10015748-1713859200-1713884400@kultura.tarnow.pl
SUMMARY:"Grafika" wystawa prac pracowników Wydziału Grafiki ASP
DESCRIPTION:
URL:https://kultura.tarnow.pl/wydarzenie/grafika-wystawa-prac-pracownikow-wydzialu-grafiki-asp/2024-04-23/
LOCATION:Galeria Liceum Sztuk Plastycznych\, Westwalewicza 6\, Tarnów\, małopolskie\, 33-100\, Polska
CATEGORIES:warsztaty
GEO:50.0118085;20.9938879
X-APPLE-STRUCTURED-LOCATION;VALUE=URI;X-ADDRESS=Galeria Liceum Sztuk Plastycznych Westwalewicza 6 Tarnów małopolskie 33-100 Polska;X-APPLE-RADIUS=500;X-TITLE=Westwalewicza 6:geo:20.9938879,50.0118085
END:VEVENT
BEGIN:VEVENT
DTSTART;TZID=Europe/Warsaw:20240423T110000
DTEND;TZID=Europe/Warsaw:20240423T170000
DTSTAMP:20260422T182505
CREATED:20230424T102333Z
LAST-MODIFIED:20230424T102333Z
UID:10014256-1713870000-1713891600@kultura.tarnow.pl
SUMMARY:Surrealizm – Salvador Dali i inni
DESCRIPTION:Artyści: Krystyna Baniowska\, Piotr Barszczowski\, Piotr Bubak\, Stanisław Chmiel\, Ewa Fleszar\, Roman Fleszar\, Weronika Fleszar\, Mateusz Kijak\, Kazimierz Klimkiewicz\, Stanisław Kucharzyk\, Elżbieta Pazera\, Witold Pazera\, Michał Poręba\, Elżbieta Remian\, Piotr Rączka\, Jerzy Ruszel\, Anna Śliwińska\, Kazimierz Twardowski\, Grzegorz Wójcik\, Aleksandra Zuba-Benn \nSłowo SUR – to NA\, np.: sur la table – na stole. SURREALIZM – NADREALIZM\, zorganizowany ruch intelektualny pierwszej ćwierci XX wieku powstały we Francji. Surrealiści przyjęli ten termin w hołdzie dla G. Apollinaire`a\, który pierwszy użył tego sformułowania w 1918 roku w podtytule swojej sztuki\, nadając ruchowi nowy sens. Wyrastał on z doświadczeń\, przeżyć i przemyśleń związanych z I wojną światową\, a wywodził się z dadaizmu. Jednym z dążeń surrealizmu było pełne wyzwolenie osobowości człowieka\, pojęte jako ujawnienie jego ukrytych sił\, pragnień i marzeń\, zepchniętych w podświadomość przez rozum i rozsądek\, ogólnie przyjęte zasady obyczajowe i moralne. \nMANIFEST SURREALIZMU w 1924 roku napisał – ogłosił Andre BRETON\, początkowo odnosił się do literatury\, szybko jednak zainteresowali się nim twórcy innych dziedzin sztuki – wspaniałym przykładem są tu artyści malarze\, graficy. MANIFEST otworzył prawo do mówienia o nadrzędności przestrzeni na pograniczu snu i jawy. Artyści szukali metod i sposobu na wyrażenie idei tego nowego ruchu\, środki jakimi się posługiwali przedstawiały elementy rzeczywistości ujęte w nadrealny\, fantastyczny sposób. Obrazy były zapisem ze snów\, urojeń\, stanów delirycznych\, czy wszelkich czynności wykonywanych bez kontroli rozumu. Elementy rzeczywistości miały wymykać się logice\, rewolucjonizować życie codzienne…..obiekty i przedmioty\, nawet człowiek\, powinny znaleźć się w innych bytach\, przejść transformację\, np: ”człowiek jest ucieleśnionym deszczem”\, inny zaś z młotem\, lub ma jabłko zamiast głowy\, otwierający drzwi których nie ma……. a jak czytać istoty ciekłe z waty\, z wężowych skór\, upierzone drzewa\, zwierzęta niesione wiatrem\, modelowane z piasku. Surrealizm to miejsce spotkań najróżniejszych obiektów pochodzących z odmiennych kontekstów\, gdzie wszystko nabiera nowych nieoczekiwanych znaczeń……. np.: ”człowiek klatka schodowa\, człowiek litera\, ogryziona kość\, kropka\, strzęp\, kula\, człowiek trumna\, piszczałka\, sznurówka\, bagaż\, mgła i człowiek osad”\, a książka która gryzie ręce albo kłuje w oczy – tu przedmiot został wyzwolony i stał się wampirem\, książka dostaje przeciwstawną do swojej nową naturę. Bretonowskie ”puszczenie w obieg” przedmiotów dla wielu artystów stało się inspiracją do dania im nowego życia. Aktywność rzeczy dotychczas martwych\, obiektów nieuzależnionych od kontroli rozumu to niewyczerpane źródło tematów\, np.: ”wiatr upadł twarzą na ziemię”\, krzak śpiewa psalm”\, powietrze\, woda\, ziemia\, ogień\, barany\, smoki\, stwory złożone z mieczy\, igieł\, sztyletów. Do dziś wielu artystów korzysta i odwołuje się do postulowanego przez Bretona ”modelu wewnętrznego” czyli poszukiwania w sferze podświadomości\, jak to się dzieje\, mamy to każdego dnia: reklama\, teledyski\, wideoklipy. Nie ulega wątpliwości\, że surrealizm\, nie tylko twórcom\, ale i odbiorcom otworzył nowe obszary wyobraźni. \nKrystyna Baniowska Stąsiek Meyer (Wstęp do katalogu wystawy) \n 
URL:https://kultura.tarnow.pl/wydarzenie/surrealizm-salvador-dali-i-inni/2024-04-23/
LOCATION:Galeria ARTEKA\, Wałowa 16\, Tarnów\, 33-100
CATEGORIES:wystawy
ORGANIZER;CN="Stowarzyszenie Tarnowskich Artyst%C3%B3w Plastyk%C3%B3w":MAILTO:stowarzyszenie.arteka@gmail.com
END:VEVENT
BEGIN:VEVENT
DTSTART;TZID=Europe/Warsaw:20240423T180000
DTEND;TZID=Europe/Warsaw:20240423T190000
DTSTAMP:20260422T182505
CREATED:20240416T101140Z
LAST-MODIFIED:20240416T101140Z
UID:10015225-1713895200-1713898800@kultura.tarnow.pl
SUMMARY:Wystawa prac dyplomów studentów Wydziału Sztuki AT
DESCRIPTION:Serdecznie zapraszamy 23 kwietnia o godzinie 18.00 do Tarnowskiego Centrum Kultury\, na wernisaż wystawy dyplomów\, zrealizowanych na Wydziale Sztuki Akademii Tarnowskiej. \nWystawa prezentuje tegoroczne prace dyplomowe studentów Wydziału Sztuki Akademii Tarnowskiej zrealizowane na kierunkach grafika i wzornictwo/dizajn. Zobaczymy projekty z zakresu grafiki wydawniczej\, reklamowej i multimedialnej\, komunikacji wizualnej: książki\, projekty fontów\, plakaty\, animacje oraz prace z zakresu projektowania produktu i projektowania mody. \nWystawa czynna od 24 kwietnia do 11 maja 2024 roku. \nW trakcie ekspozycji zaplanowane zostały obrony prac dyplomowych\, które odbywają się w trybie otwartym dla publiczności.\n \nUdział biorą: Sara Partyńska\, Agnieszka Knapik\, Marcin Kamykowski\, Michał Wałaszek\, Aleksandra Zbylut\, Izabella Trzęsińska\, Oliwia Telep\, Maria Wiercioch\, Arkadiusz Kusior\, Weronika Witkowska\, Weronika Zarzycka\, Faustyna Augustyn\, Izabela Marcinek\, Michalina Duda\, Angelika Złotowska\, Jolanta Wantuch\, Magdalena Molczyk\, Anna Strycharska\, Klaudia Partyńska\, Natalia Sikorska\, Oskar Bandyk\, Dominika Bieda\, Paulina Polak\, Kornelia Trzaskuś\, Katarzyna Różycka\, Aleksandra Gołdasz\, Dominika Jajkowska\, Wiktor Drwal\, Róża Hałun\, Anita Poręba\, Żaneta Bogusz\, Katarzyna Dziedzic\, Karolina Cetera\, Aleksandra Kuchcińska\, Katarzyna Moskal\, Marcelina Dyl\, Weronika Owca.
URL:https://kultura.tarnow.pl/wydarzenie/wystawa-prac-dyplomow-studentow-wydzialu-sztuki-at/
LOCATION:Tarnowskie Centrum Kultury\, Rynek 5\, Tarnów\, małopolskie\, 33-100\, Polska
CATEGORIES:wernisaże
GEO:50.012155;20.9878542
X-APPLE-STRUCTURED-LOCATION;VALUE=URI;X-ADDRESS=Tarnowskie Centrum Kultury Rynek 5 Tarnów małopolskie 33-100 Polska;X-APPLE-RADIUS=500;X-TITLE=Rynek 5:geo:20.9878542,50.012155
END:VEVENT
BEGIN:VEVENT
DTSTART;TZID=Europe/Warsaw:20240423T180000
DTEND;TZID=Europe/Warsaw:20240423T190000
DTSTAMP:20260422T182505
CREATED:20240416T101140Z
LAST-MODIFIED:20240416T101140Z
UID:10015687-1713895200-1713898800@kultura.tarnow.pl
SUMMARY:Wystawa prac dyplomów studentów Wydziału Sztuki AT
DESCRIPTION:Serdecznie zapraszamy 23 kwietnia o godzinie 18.00 do Tarnowskiego Centrum Kultury\, na wernisaż wystawy dyplomów\, zrealizowanych na Wydziale Sztuki Akademii Tarnowskiej. \nWystawa prezentuje tegoroczne prace dyplomowe studentów Wydziału Sztuki Akademii Tarnowskiej zrealizowane na kierunkach grafika i wzornictwo/dizajn. Zobaczymy projekty z zakresu grafiki wydawniczej\, reklamowej i multimedialnej\, komunikacji wizualnej: książki\, projekty fontów\, plakaty\, animacje oraz prace z zakresu projektowania produktu i projektowania mody. \nWystawa czynna od 24 kwietnia do 11 maja 2024 roku. \nW trakcie ekspozycji zaplanowane zostały obrony prac dyplomowych\, które odbywają się w trybie otwartym dla publiczności.\n \nUdział biorą: Sara Partyńska\, Agnieszka Knapik\, Marcin Kamykowski\, Michał Wałaszek\, Aleksandra Zbylut\, Izabella Trzęsińska\, Oliwia Telep\, Maria Wiercioch\, Arkadiusz Kusior\, Weronika Witkowska\, Weronika Zarzycka\, Faustyna Augustyn\, Izabela Marcinek\, Michalina Duda\, Angelika Złotowska\, Jolanta Wantuch\, Magdalena Molczyk\, Anna Strycharska\, Klaudia Partyńska\, Natalia Sikorska\, Oskar Bandyk\, Dominika Bieda\, Paulina Polak\, Kornelia Trzaskuś\, Katarzyna Różycka\, Aleksandra Gołdasz\, Dominika Jajkowska\, Wiktor Drwal\, Róża Hałun\, Anita Poręba\, Żaneta Bogusz\, Katarzyna Dziedzic\, Karolina Cetera\, Aleksandra Kuchcińska\, Katarzyna Moskal\, Marcelina Dyl\, Weronika Owca.
URL:https://kultura.tarnow.pl/wydarzenie/wystawa-prac-dyplomow-studentow-wydzialu-sztuki-at/
LOCATION:Tarnowskie Centrum Kultury\, Rynek 5\, Tarnów\, małopolskie\, 33-100\, Polska
CATEGORIES:wernisaże
GEO:50.012155;20.9878542
X-APPLE-STRUCTURED-LOCATION;VALUE=URI;X-ADDRESS=Tarnowskie Centrum Kultury Rynek 5 Tarnów małopolskie 33-100 Polska;X-APPLE-RADIUS=500;X-TITLE=Rynek 5:geo:20.9878542,50.012155
END:VEVENT
BEGIN:VEVENT
DTSTART;TZID=Europe/Warsaw:20240423T180000
DTEND;TZID=Europe/Warsaw:20240423T200000
DTSTAMP:20260422T182505
CREATED:20240409T125058Z
LAST-MODIFIED:20240409T125058Z
UID:10015195-1713895200-1713902400@kultura.tarnow.pl
SUMMARY:„In Different Realms... el arte perdura” - spektakl taneczny
DESCRIPTION:UCSB Dance Company – europejska trasa koncertowa. \nUCSB Dance Company to półprofesjonalny zespół taneczny rezydujący na Wydziale Teatru i Tańca na Uniwersytecie Kalifornijskim w Santa Barbara\, pod kierownictwem artystycznym Delili Moseley\, przedstawi swój najnowszy projekt In Different Realms… el arte perdura prezentującego prace choreografów z różnych sfer tanecznego świata\, które dzielą się z nami zasadą\, że „sztuka trwa” ponad podziałami. \nArtystka gościnna Natasha Adorlee\, Amerykanka pochodzenia azjatyckiego\, odtworzy swoje dzieło MOMODA (Kiss\, Kiss) stworzone na konkurs Joffrey Ballet Winning Works Competition 2023. Odkrywa ono nietrwałość\, relacje i ujmujące uczucie z bezgraniczną energią i radością. \nCihtli Ocampo\, wykładowczyni na Wydziale Teatru i Tańca\, zaprezentuje premierę swojego dzieła Pasos w zespole; eksplorację podróży od więzów rodzinnych\, tradycji jako niespokojni podróżnicy sunący w kierunku swojego przeznaczenia. Cihtli\, która jest pochodzenia meksykańskiego i hiszpańskiego\, wnosi swój mix kulturowy do każdego gestu\, ruchu i ekspresji. \nZostaną zaprezentowane dwie prace legendarnego choreografa Jose Limona\, jako kontynuacja debiutu „Border Crossings” w styczniu 2024 w Teatrze Hatlen. Urodzony w Meksyku amerykański tancerz tańca nowoczesnego Jose Limon\, który w 1958 roku stworzył Missa Brevis po tym jak zobaczył zniszczenia\, jakie nastąpiły w Polsce po II wojnie światowej. Alice Condodina\, emerytowana profesor\, zrekonstruowała fragmenty z Missa Brevis\, a także Running Dance z Psalmu (1967) Running Dance from Psalm\, jako „Homenaje a Limon” (hołd dla Limona). Jose Limon\, jeden z najważniejszych i najbardziej wpływowych twórców tańca XXI wieku\, pozostawił po sobie dziedzictwo poruszającej choreografii\, która celebruje ludzkiego ducha pokonującego trudności.
URL:https://kultura.tarnow.pl/wydarzenie/in-different-realms-el-arte-perdura-spektakl-taneczny/
LOCATION:Centrum Sztuki Mościce\, Traugutta 1\, Tarnów\, małopolskie\, 33-101\, Polska
CATEGORIES:spektakle
GEO:50.009833;20.92706
X-APPLE-STRUCTURED-LOCATION;VALUE=URI;X-ADDRESS=Centrum Sztuki Mościce Traugutta 1 Tarnów małopolskie 33-101 Polska;X-APPLE-RADIUS=500;X-TITLE=Traugutta 1:geo:20.92706,50.009833
END:VEVENT
BEGIN:VEVENT
DTSTART;TZID=Europe/Warsaw:20240423T180000
DTEND;TZID=Europe/Warsaw:20240423T200000
DTSTAMP:20260422T182505
CREATED:20240409T125058Z
LAST-MODIFIED:20240520T092215Z
UID:10015668-1713895200-1713902400@kultura.tarnow.pl
SUMMARY:„In Different Realms... el arte perdura” - spektakl taneczny
DESCRIPTION:UCSB Dance Company – europejska trasa koncertowa. \nUCSB Dance Company to półprofesjonalny zespół taneczny rezydujący na Wydziale Teatru i Tańca na Uniwersytecie Kalifornijskim w Santa Barbara\, pod kierownictwem artystycznym Delili Moseley\, przedstawi swój najnowszy projekt In Different Realms… el arte perdura prezentującego prace choreografów z różnych sfer tanecznego świata\, które dzielą się z nami zasadą\, że „sztuka trwa” ponad podziałami. \nArtystka gościnna Natasha Adorlee\, Amerykanka pochodzenia azjatyckiego\, odtworzy swoje dzieło MOMODA (Kiss\, Kiss) stworzone na konkurs Joffrey Ballet Winning Works Competition 2023. Odkrywa ono nietrwałość\, relacje i ujmujące uczucie z bezgraniczną energią i radością. \nCihtli Ocampo\, wykładowczyni na Wydziale Teatru i Tańca\, zaprezentuje premierę swojego dzieła Pasos w zespole; eksplorację podróży od więzów rodzinnych\, tradycji jako niespokojni podróżnicy sunący w kierunku swojego przeznaczenia. Cihtli\, która jest pochodzenia meksykańskiego i hiszpańskiego\, wnosi swój mix kulturowy do każdego gestu\, ruchu i ekspresji. \nZostaną zaprezentowane dwie prace legendarnego choreografa Jose Limona\, jako kontynuacja debiutu „Border Crossings” w styczniu 2024 w Teatrze Hatlen. Urodzony w Meksyku amerykański tancerz tańca nowoczesnego Jose Limon\, który w 1958 roku stworzył Missa Brevis po tym jak zobaczył zniszczenia\, jakie nastąpiły w Polsce po II wojnie światowej. Alice Condodina\, emerytowana profesor\, zrekonstruowała fragmenty z Missa Brevis\, a także Running Dance z Psalmu (1967) Running Dance from Psalm\, jako „Homenaje a Limon” (hołd dla Limona). Jose Limon\, jeden z najważniejszych i najbardziej wpływowych twórców tańca XXI wieku\, pozostawił po sobie dziedzictwo poruszającej choreografii\, która celebruje ludzkiego ducha pokonującego trudności. \n 
URL:https://kultura.tarnow.pl/wydarzenie/in-different-realms-el-arte-perdura-spektakl-taneczny/
LOCATION:Centrum Sztuki Mościce\, Traugutta 1\, Tarnów\, małopolskie\, 33-101\, Polska
CATEGORIES:spektakle
GEO:50.009833;20.92706
X-APPLE-STRUCTURED-LOCATION;VALUE=URI;X-ADDRESS=Centrum Sztuki Mościce Traugutta 1 Tarnów małopolskie 33-101 Polska;X-APPLE-RADIUS=500;X-TITLE=Traugutta 1:geo:20.92706,50.009833
END:VEVENT
BEGIN:VEVENT
DTSTART;TZID=Africa/Abidjan:20240423T183000
DTEND;TZID=Africa/Abidjan:20240423T190000
DTSTAMP:20260422T182505
CREATED:20240410T125134Z
LAST-MODIFIED:20240520T090825Z
UID:10015200-1713897000-1713898800@kultura.tarnow.pl
SUMMARY:Hubert Klimko-Dobrzaniecki - spotkanie autorskie
DESCRIPTION:Hubert Klimko-Dobrzaniecki \nSpotkanie z okazji 25-lecie twórczości literackiej Autora \nCzytelnia Czasopism MBP w Tarnowie\, ul. Krakowska 4 (parter) \n23 kwietnia\, godz. 17:00 \nWydarzenie towarzyszące: \nSpotkanie dla dzieci: Dział dla Dzieci i Młodzieży\, ul. Staszica 6\, 23 kwietnia\, godz. 10:00   \nHubert Klimko-Dobrzaniecki to polski pisarz i poeta urodzony w 1967 roku w Bielawie na Dolnym Śląsku. Jego kariera literacka rozpoczęła się w 1999 roku od poetyckich publikacji w języku islandzkim oraz angielskim i nabrała rozmachu\, gdy zadebiutował jako prozaik w 2003 roku wraz z premierą zbioru opowiadań „Stacja Bielawa Zachodnia”. Od tej pory pisarz zdobył uznanie\, otrzymując nominacje do nagród Nike\, Cogito\, Śląski Wawrzyn Literacki\, a także Paszport „Polityki”. Hubert Klimko-Dobrzaniecki jest stałym felietonistą miesięcznika „Odra”. Poza pracą twórczą w dziedzinie literatury\, angażuje się także w tworzenie scenariuszy oraz produkcję filmów krótkometrażowych. W 2024 roku obchodzi 25-lecie swojej działalności artystycznej. \n 
URL:https://kultura.tarnow.pl/wydarzenie/hubert-klimko-dobrzaniecki-spotkanie-autorskie-2/
LOCATION:Miejska Biblioteka Publiczna im. J. Słowackiego
CATEGORIES:spotkania
END:VEVENT
END:VCALENDAR