BEGIN:VCALENDAR
VERSION:2.0
PRODID:-//kultura.tarnów - ECPv6.4.0.1//NONSGML v1.0//EN
CALSCALE:GREGORIAN
METHOD:PUBLISH
X-WR-CALNAME:kultura.tarnów
X-ORIGINAL-URL:https://kultura.tarnow.pl
X-WR-CALDESC:Wydarzenia dla
REFRESH-INTERVAL;VALUE=DURATION:PT1H
X-Robots-Tag:noindex
X-PUBLISHED-TTL:PT1H
BEGIN:VTIMEZONE
TZID:Europe/Warsaw
BEGIN:DAYLIGHT
TZOFFSETFROM:+0100
TZOFFSETTO:+0200
TZNAME:CEST
DTSTART:20240331T010000
END:DAYLIGHT
BEGIN:STANDARD
TZOFFSETFROM:+0200
TZOFFSETTO:+0100
TZNAME:CET
DTSTART:20241027T010000
END:STANDARD
END:VTIMEZONE
BEGIN:VEVENT
DTSTART;TZID=Europe/Warsaw:20240422T080000
DTEND;TZID=Europe/Warsaw:20240422T150000
DTSTAMP:20260422T155934
CREATED:20240418T135713Z
LAST-MODIFIED:20240517T140645Z
UID:10015747-1713772800-1713798000@kultura.tarnow.pl
SUMMARY:"Grafika" wystawa prac pracowników Wydziału Grafiki ASP
DESCRIPTION:
URL:https://kultura.tarnow.pl/wydarzenie/grafika-wystawa-prac-pracownikow-wydzialu-grafiki-asp/2024-04-22/
LOCATION:Galeria Liceum Sztuk Plastycznych\, Westwalewicza 6\, Tarnów\, małopolskie\, 33-100\, Polska
CATEGORIES:warsztaty
GEO:50.0118085;20.9938879
X-APPLE-STRUCTURED-LOCATION;VALUE=URI;X-ADDRESS=Galeria Liceum Sztuk Plastycznych Westwalewicza 6 Tarnów małopolskie 33-100 Polska;X-APPLE-RADIUS=500;X-TITLE=Westwalewicza 6:geo:20.9938879,50.0118085
END:VEVENT
BEGIN:VEVENT
DTSTART;TZID=Europe/Warsaw:20240422T170000
DTEND;TZID=Europe/Warsaw:20240422T180000
DTSTAMP:20260422T155934
CREATED:20240417T135507Z
LAST-MODIFIED:20240517T135541Z
UID:10015746-1713805200-1713808800@kultura.tarnow.pl
SUMMARY:„Detale architektoniczne Tarnowa”
DESCRIPTION:Wernisaż wystawy „Detale architektoniczne Tarnowa \nNa wystawie prezentowane są fotografie z ponad trzydziestu tarnowskich adresów\, pod którymi znajdziemy unikalne detale: ceramikę\, elementy kamienne\, metaloplastykę\, snycerkę\, szyldy i reklamy oraz detale małej architektury ze starówki oraz innych części miasta. Ekspozycja wraz z powstałą mapą „Detali architektonicznych Tarnowa” jest efektem działań BWA promujących architekturę naszego miasta. Mapa dostępna będzie w wersji drukowanej w MCA / Wałowa 25 przez cały okres trwania wystawy. \nPo wernisażu o g. 18.00 polecamy otwarcie wystawy w Muzeum Ziemi Tarnowskiej – prac z Kolekcji Małopolskiej Fundacji Muzeum Sztuki Współczesnej / Rynek 3
URL:https://kultura.tarnow.pl/wydarzenie/detale-architektoniczne-tarnowa/
LOCATION:Multimedialne Centrum Artystyczne\, Wałowa 25\, Tarnów\, małopolskie\, 33-100\, Polska
CATEGORIES:wernisaże
ATTACH;FMTTYPE=image/jpeg:https://kultura.tarnow.pl/wp-content/uploads/437594523_942187997914541_1828415172833125096_n-717x1024-1.jpg
ORGANIZER;CN="Biuro Wystaw Artystycznych":MAILTO:biuro@bwa.tarnow.pl
GEO:50.013866931068;20.987989998201
X-APPLE-STRUCTURED-LOCATION;VALUE=URI;X-ADDRESS=Multimedialne Centrum Artystyczne Wałowa 25 Tarnów małopolskie 33-100 Polska;X-APPLE-RADIUS=500;X-TITLE=Wałowa 25:geo:20.987989998201,50.013866931068
END:VEVENT
BEGIN:VEVENT
DTSTART;TZID=Europe/Warsaw:20240422T180000
DTEND;TZID=Europe/Warsaw:20240422T190000
DTSTAMP:20260422T155934
CREATED:20240416T065016Z
LAST-MODIFIED:20240416T065016Z
UID:10015221-1713808800-1713812400@kultura.tarnow.pl
SUMMARY:„Nośniki Pamięci” - wernisaż
DESCRIPTION:22.04.2024 roku o godzinie 18.00 w Siedzibie Muzeum Ziemi Tarnowskiej\, Rynek 3\, odbędzie się otwarcie wystawy: „Nośniki Pamięci”\, na której zaprezentowane zostaną obiekty ze zbiorów Małopolskiej Fundacji Muzeum Sztuki Współczesnej. \nEkspozycja prezentować będzie wybrane prace artystów oraz artystek z Polski oraz Europy Środkowo-Wschodniej\, które spełniają główne założenia profilu Małopolskiej Fundacji Muzeum Sztuki Współczesnej oraz treściowo wchodzą we wzajemne relacje poprzez odwoływanie się do pojęcia pamięci. Celem wystawy jest promocja kolekcji\, która pomimo swej interdyscyplinarności zachowuje jednolity charakter. \nNa wystawie znajdą się prace takich artystów jak: Denisa Lehocká \, Zbigniew Sałaj\, Wilhelm Sasnal\, Krištof Kintera\, Artur Kinaύ\, Piotr Lutyński\, Krzysztof Zieliński\, Jiří Kovanda oraz grupa Rafani. \nKuratorka wystawy: Anna Filar \nWystawa czynna: 23.04. – 24.05.2024 r.
URL:https://kultura.tarnow.pl/wydarzenie/nosniki-pamieci-wernisaz/
LOCATION:Muzeum Ziemi Tarnowskiej\, Rynek 3\, Tarnów\, małopolskie\, 33-100\, Polska
CATEGORIES:wernisaże
GEO:50.0122989;20.9877958
X-APPLE-STRUCTURED-LOCATION;VALUE=URI;X-ADDRESS=Muzeum Ziemi Tarnowskiej Rynek 3 Tarnów małopolskie 33-100 Polska;X-APPLE-RADIUS=500;X-TITLE=Rynek 3:geo:20.9877958,50.0122989
END:VEVENT
BEGIN:VEVENT
DTSTART;TZID=Europe/Warsaw:20240422T180000
DTEND;TZID=Europe/Warsaw:20240422T190000
DTSTAMP:20260422T155934
CREATED:20240416T065016Z
LAST-MODIFIED:20240517T134946Z
UID:10015684-1713808800-1713812400@kultura.tarnow.pl
SUMMARY:„Nośniki Pamięci” - wernisaż
DESCRIPTION:22.04.2024 roku o godzinie 18.00 w Siedzibie Muzeum Ziemi Tarnowskiej\, Rynek 3\, odbędzie się otwarcie wystawy: „Nośniki Pamięci”\, na której zaprezentowane zostaną obiekty ze zbiorów Małopolskiej Fundacji Muzeum Sztuki Współczesnej. \nEkspozycja prezentować będzie wybrane prace artystów oraz artystek z Polski oraz Europy Środkowo-Wschodniej\, które spełniają główne założenia profilu Małopolskiej Fundacji Muzeum Sztuki Współczesnej oraz treściowo wchodzą we wzajemne relacje poprzez odwoływanie się do pojęcia pamięci. Celem wystawy jest promocja kolekcji\, która pomimo swej interdyscyplinarności zachowuje jednolity charakter. \nNa wystawie znajdą się prace takich artystów jak: Denisa Lehocká \, Zbigniew Sałaj\, Wilhelm Sasnal\, Krištof Kintera\, Artur Kinaύ\, Piotr Lutyński\, Krzysztof Zieliński\, Jiří Kovanda oraz grupa Rafani. \nKuratorka wystawy: Anna Filar \nWystawa czynna: 23.04. – 24.05.2024 r. \n  \n 
URL:https://kultura.tarnow.pl/wydarzenie/nosniki-pamieci-wernisaz/
LOCATION:Muzeum Ziemi Tarnowskiej\, Rynek 3\, Tarnów\, małopolskie\, 33-100\, Polska
CATEGORIES:wernisaże
ATTACH;FMTTYPE=image/jpeg:https://kultura.tarnow.pl/wp-content/uploads/zaproszenie-Nosniki-pamieci-720x1024-1.jpg
GEO:50.0122989;20.9877958
X-APPLE-STRUCTURED-LOCATION;VALUE=URI;X-ADDRESS=Muzeum Ziemi Tarnowskiej Rynek 3 Tarnów małopolskie 33-100 Polska;X-APPLE-RADIUS=500;X-TITLE=Rynek 3:geo:20.9877958,50.0122989
END:VEVENT
END:VCALENDAR