BEGIN:VCALENDAR
VERSION:2.0
PRODID:-//kultura.tarnów - ECPv6.4.0.1//NONSGML v1.0//EN
CALSCALE:GREGORIAN
METHOD:PUBLISH
X-ORIGINAL-URL:https://kultura.tarnow.pl
X-WR-CALDESC:Wydarzenia dla
REFRESH-INTERVAL;VALUE=DURATION:PT1H
X-Robots-Tag:noindex
X-PUBLISHED-TTL:PT1H
BEGIN:VTIMEZONE
TZID:Europe/Warsaw
BEGIN:DAYLIGHT
TZOFFSETFROM:+0100
TZOFFSETTO:+0200
TZNAME:CEST
DTSTART:20240331T010000
END:DAYLIGHT
BEGIN:STANDARD
TZOFFSETFROM:+0200
TZOFFSETTO:+0100
TZNAME:CET
DTSTART:20241027T010000
END:STANDARD
END:VTIMEZONE
BEGIN:VEVENT
DTSTART;TZID=Europe/Warsaw:20240420T090000
DTEND;TZID=Europe/Warsaw:20240420T130000
DTSTAMP:20260423T012201
CREATED:20240329T132043Z
LAST-MODIFIED:20240329T132043Z
UID:10015569-1713603600-1713618000@kultura.tarnow.pl
SUMMARY:Wiosenna spódnica – warsztaty kreatywnego krawiectwa dla młodzieży i dorosłych
DESCRIPTION:20 kwietnia (sobota)\, godz. 9:00 – 13:00  \nDługa\, rozkloszowana spódnica w wiosenne wzory to idealny styl na wiosnę i lato.  Spódnica uszyta samodzielnie często staje się tą ulubioną. Warsztaty prowadzi Agnieszka Szułakiewicz\, plastyczka\, instruktorka zajęć stałych z kreatywnego krawiectwa dla dorosłych w Domu Kultury. \nW tym przypadku podstawowa umiejętność szycia na maszynie jest wymagana\, ale nie musicie być mistrzyniami – Agnieszka we wszystkim pomoże. Wybierzcie materiał w waszym guście i przybywajcie na wspólne tworzenie kwiatowych\, kolorowych spódnic! \nWarsztaty są płatne: 50 zł od osoby. Zapisy: a.szulakiewicz@tck.pl Materiał na spódnicę osoby zapisane kupują we własnym zakresie (niezbyt sztywny materiał\, dł. 150 cm i szer. 140-150 cm). W cenie zapewniamy maszyny\, akcesoria i wsparcie techniczne. Ilość miejsc na warsztacie: 10.
URL:https://kultura.tarnow.pl/wydarzenie/wiosenna-spodnica-warsztaty-kreatywnego-krawiectwa-dla-mlodziezy-i-doroslych/
LOCATION:Dom Kultury Westerplatte 8a\, Westerplatte 8a\, Tarnów\, Polska - małopolskie\, 33-100\, Polska
CATEGORIES:warsztaty
GEO:50.0273033;21.0087361
X-APPLE-STRUCTURED-LOCATION;VALUE=URI;X-ADDRESS=Dom Kultury Westerplatte 8a Westerplatte 8a Tarnów Polska - małopolskie 33-100 Polska;X-APPLE-RADIUS=500;X-TITLE=Westerplatte 8a:geo:21.0087361,50.0273033
END:VEVENT
BEGIN:VEVENT
DTSTART;TZID=Europe/Warsaw:20240420T090000
DTEND;TZID=Europe/Warsaw:20240420T130000
DTSTAMP:20260423T012201
CREATED:20240329T132043Z
LAST-MODIFIED:20240329T132043Z
UID:10015679-1713603600-1713618000@kultura.tarnow.pl
SUMMARY:Wiosenna spódnica – warsztaty kreatywnego krawiectwa dla młodzieży i dorosłych
DESCRIPTION:20 kwietnia (sobota)\, godz. 9:00 – 13:00  \nDługa\, rozkloszowana spódnica w wiosenne wzory to idealny styl na wiosnę i lato.  Spódnica uszyta samodzielnie często staje się tą ulubioną. Warsztaty prowadzi Agnieszka Szułakiewicz\, plastyczka\, instruktorka zajęć stałych z kreatywnego krawiectwa dla dorosłych w Domu Kultury. \nW tym przypadku podstawowa umiejętność szycia na maszynie jest wymagana\, ale nie musicie być mistrzyniami – Agnieszka we wszystkim pomoże. Wybierzcie materiał w waszym guście i przybywajcie na wspólne tworzenie kwiatowych\, kolorowych spódnic! \nWarsztaty są płatne: 50 zł od osoby. Zapisy: a.szulakiewicz@tck.pl Materiał na spódnicę osoby zapisane kupują we własnym zakresie (niezbyt sztywny materiał\, dł. 150 cm i szer. 140-150 cm). W cenie zapewniamy maszyny\, akcesoria i wsparcie techniczne. Ilość miejsc na warsztacie: 10.
URL:https://kultura.tarnow.pl/wydarzenie/wiosenna-spodnica-warsztaty-kreatywnego-krawiectwa-dla-mlodziezy-i-doroslych/
LOCATION:Dom Kultury Westerplatte 8a\, Westerplatte 8a\, Tarnów\, Polska - małopolskie\, 33-100\, Polska
CATEGORIES:warsztaty
GEO:50.0273033;21.0087361
X-APPLE-STRUCTURED-LOCATION;VALUE=URI;X-ADDRESS=Dom Kultury Westerplatte 8a Westerplatte 8a Tarnów Polska - małopolskie 33-100 Polska;X-APPLE-RADIUS=500;X-TITLE=Westerplatte 8a:geo:21.0087361,50.0273033
END:VEVENT
BEGIN:VEVENT
DTSTART;TZID=Europe/Warsaw:20240420T110000
DTEND;TZID=Europe/Warsaw:20240420T170000
DTSTAMP:20260423T012201
CREATED:20230424T102333Z
LAST-MODIFIED:20230424T102333Z
UID:10014255-1713610800-1713632400@kultura.tarnow.pl
SUMMARY:Surrealizm – Salvador Dali i inni
DESCRIPTION:Artyści: Krystyna Baniowska\, Piotr Barszczowski\, Piotr Bubak\, Stanisław Chmiel\, Ewa Fleszar\, Roman Fleszar\, Weronika Fleszar\, Mateusz Kijak\, Kazimierz Klimkiewicz\, Stanisław Kucharzyk\, Elżbieta Pazera\, Witold Pazera\, Michał Poręba\, Elżbieta Remian\, Piotr Rączka\, Jerzy Ruszel\, Anna Śliwińska\, Kazimierz Twardowski\, Grzegorz Wójcik\, Aleksandra Zuba-Benn \nSłowo SUR – to NA\, np.: sur la table – na stole. SURREALIZM – NADREALIZM\, zorganizowany ruch intelektualny pierwszej ćwierci XX wieku powstały we Francji. Surrealiści przyjęli ten termin w hołdzie dla G. Apollinaire`a\, który pierwszy użył tego sformułowania w 1918 roku w podtytule swojej sztuki\, nadając ruchowi nowy sens. Wyrastał on z doświadczeń\, przeżyć i przemyśleń związanych z I wojną światową\, a wywodził się z dadaizmu. Jednym z dążeń surrealizmu było pełne wyzwolenie osobowości człowieka\, pojęte jako ujawnienie jego ukrytych sił\, pragnień i marzeń\, zepchniętych w podświadomość przez rozum i rozsądek\, ogólnie przyjęte zasady obyczajowe i moralne. \nMANIFEST SURREALIZMU w 1924 roku napisał – ogłosił Andre BRETON\, początkowo odnosił się do literatury\, szybko jednak zainteresowali się nim twórcy innych dziedzin sztuki – wspaniałym przykładem są tu artyści malarze\, graficy. MANIFEST otworzył prawo do mówienia o nadrzędności przestrzeni na pograniczu snu i jawy. Artyści szukali metod i sposobu na wyrażenie idei tego nowego ruchu\, środki jakimi się posługiwali przedstawiały elementy rzeczywistości ujęte w nadrealny\, fantastyczny sposób. Obrazy były zapisem ze snów\, urojeń\, stanów delirycznych\, czy wszelkich czynności wykonywanych bez kontroli rozumu. Elementy rzeczywistości miały wymykać się logice\, rewolucjonizować życie codzienne…..obiekty i przedmioty\, nawet człowiek\, powinny znaleźć się w innych bytach\, przejść transformację\, np: ”człowiek jest ucieleśnionym deszczem”\, inny zaś z młotem\, lub ma jabłko zamiast głowy\, otwierający drzwi których nie ma……. a jak czytać istoty ciekłe z waty\, z wężowych skór\, upierzone drzewa\, zwierzęta niesione wiatrem\, modelowane z piasku. Surrealizm to miejsce spotkań najróżniejszych obiektów pochodzących z odmiennych kontekstów\, gdzie wszystko nabiera nowych nieoczekiwanych znaczeń……. np.: ”człowiek klatka schodowa\, człowiek litera\, ogryziona kość\, kropka\, strzęp\, kula\, człowiek trumna\, piszczałka\, sznurówka\, bagaż\, mgła i człowiek osad”\, a książka która gryzie ręce albo kłuje w oczy – tu przedmiot został wyzwolony i stał się wampirem\, książka dostaje przeciwstawną do swojej nową naturę. Bretonowskie ”puszczenie w obieg” przedmiotów dla wielu artystów stało się inspiracją do dania im nowego życia. Aktywność rzeczy dotychczas martwych\, obiektów nieuzależnionych od kontroli rozumu to niewyczerpane źródło tematów\, np.: ”wiatr upadł twarzą na ziemię”\, krzak śpiewa psalm”\, powietrze\, woda\, ziemia\, ogień\, barany\, smoki\, stwory złożone z mieczy\, igieł\, sztyletów. Do dziś wielu artystów korzysta i odwołuje się do postulowanego przez Bretona ”modelu wewnętrznego” czyli poszukiwania w sferze podświadomości\, jak to się dzieje\, mamy to każdego dnia: reklama\, teledyski\, wideoklipy. Nie ulega wątpliwości\, że surrealizm\, nie tylko twórcom\, ale i odbiorcom otworzył nowe obszary wyobraźni. \nKrystyna Baniowska Stąsiek Meyer (Wstęp do katalogu wystawy) \n 
URL:https://kultura.tarnow.pl/wydarzenie/surrealizm-salvador-dali-i-inni/2024-04-20/
LOCATION:Galeria ARTEKA\, Wałowa 16\, Tarnów\, 33-100
CATEGORIES:wystawy
ORGANIZER;CN="Stowarzyszenie Tarnowskich Artyst%C3%B3w Plastyk%C3%B3w":MAILTO:stowarzyszenie.arteka@gmail.com
END:VEVENT
BEGIN:VEVENT
DTSTART;TZID=Europe/Warsaw:20240420T120000
DTEND;TZID=Europe/Warsaw:20240420T150000
DTSTAMP:20260423T012201
CREATED:20240329T124813Z
LAST-MODIFIED:20240517T122620Z
UID:10015736-1713614400-1713625200@kultura.tarnow.pl
SUMMARY:Jerzy Ruszel "Malarstwo"
DESCRIPTION:
URL:https://kultura.tarnow.pl/wydarzenie/jerzy-ruszel-malarstwo-11/2024-04-20/
LOCATION:małopolskie
CATEGORIES:wystawy
END:VEVENT
BEGIN:VEVENT
DTSTART;TZID=Europe/Warsaw:20240420T190000
DTEND;TZID=Europe/Warsaw:20240420T210000
DTSTAMP:20260423T012201
CREATED:20240222T070512Z
LAST-MODIFIED:20240222T070512Z
UID:10015475-1713639600-1713646800@kultura.tarnow.pl
SUMMARY:"Pikantni"
DESCRIPTION:Spektakl o godz. 15.30 i 19.00 \nGorąca komedia obyczajowa\, która wykorzystuje znany schemat czworokąta. Wystawiana setki razy w całej Polsce – zawsze entuzjastycznie przyjmowana przez publiczność.\nDwie znudzone sobą pary\, Alex i Doris oraz Bea i Christoph\, szukają wrażeń\, by podnieść temperaturę swoich związków. Poznają się na portalu randkowym i umawiają na wspólną\, intymną schadzkę. \nBohaterowie\, podekscytowani pikantnym pomysłem urozmaicenia pożycia małżeńskiego\, nie spodziewają się\, co z tego wyniknie. Czy żądny nowych eksperymentów Alex\, jego sceptyczna żona Doris\, nowoczesna i rozwiązła Bea oraz jej monogamiczny mąż Christoph wiedzą\, na co się decydują?\nTo spotkanie będzie dopiero początkiem emocjonujących zmian w życiu całej czwórki. \nWartkie tempo\, humor sytuacyjny i błyskotliwe dialogi – to wszystko znajdziemy w komedii Stefana Vögla. „Pikantni” to materiał na fantastyczną zabawę\, niepozbawioną refleksji na temat nowoczesnego małżeństwa. Dawka zdrowego śmiechu z bezkrytycznej pogoni za wolnością. \nObsada:\nBarbara Kurdej-Szatan/Monika Dryl/Dominika Kachlik\nMaurycy Popiel\nAnna Mucha\nMichał Ziembicki \nSpektakl od 18. roku życia \nCzas trwania: 110 minut z przerwą
URL:https://kultura.tarnow.pl/wydarzenie/pikantni-2/
LOCATION:Hala Sportowo – Widowiskowa Pałacu Młodzieży\, Gumniska 28\, Tarnów\, małopolskie\, 33-100
CATEGORIES:spektakle
ATTACH;FMTTYPE=image/jpeg:https://kultura.tarnow.pl/wp-content/uploads/pikantni.jpg
GEO:50.0086904;21.0004286
X-APPLE-STRUCTURED-LOCATION;VALUE=URI;X-ADDRESS=Hala Sportowo – Widowiskowa Pałacu Młodzieży Gumniska 28 Tarnów małopolskie 33-100;X-APPLE-RADIUS=500;X-TITLE=Gumniska 28:geo:21.0004286,50.0086904
END:VEVENT
BEGIN:VEVENT
DTSTART;TZID=Europe/Warsaw:20240420T190000
DTEND;TZID=Europe/Warsaw:20240420T210000
DTSTAMP:20260423T012201
CREATED:20240321T091847Z
LAST-MODIFIED:20240321T091847Z
UID:10015663-1713639600-1713646800@kultura.tarnow.pl
SUMMARY:"Totentanz prawie Akustycznie"
DESCRIPTION:„Totentanz prawie Akustycznie” to nowa odsłona tarnowskiej formacji rockowej. \nPomysł zaprezentowania twórczości Totentanz\, znanego z mocnego rockowego brzmienia\, w wersji akustycznej zakiełkował już jakiś czas temu.Teraz fani zespołu będą mieli doskonałą okazję\, aby usłyszeć zespół w zupełnie nowej odsłonie. \nTo dwugodzinny program\, w którym nie zabraknie największych hitów zespołu takich jak: „Zimny dom”\, „Na koniec świata”\, „Poza wszystkim”\, „Walcz”\, „Marionetka” czy „Eutanazja”\, wszystkie w nowych i często zupełnie odmiennych aranżacjach. A\, że grupa sięgnęła tu po możliwości elektroniki\, a nawet instrumenty etniczne\, musiało się w nazwie projektu pojawić słowo „prawie”. \n„Totentanz prawie Akustycznie” to przepiękna muzyczna podróż która zapewne na długo pozostanie w pamięci słuchaczy. \nSkład zespołu: \n\nRafał Huszno – wokal\, gitara\nDamian Gwizd – gitara\nTomasz Kapustka – gitara basowa\nMaciej Boryczko – perkusja\, instrumenty perkusyjne\nRafał Guzik – instrumenty klawiszowe\n\n20 kwietnia 2024\, godz. 19:00 \nBilety: 80 zł (normalny)\, 70 zł (ulgowy)\, 60 zł (pufy)
URL:https://kultura.tarnow.pl/wydarzenie/totentanz-prawie-akustycznie/
LOCATION:Centrum Sztuki Mościce\, Traugutta 1\, Tarnów\, małopolskie\, 33-101\, Polska
CATEGORIES:koncerty
GEO:50.009833;20.92706
X-APPLE-STRUCTURED-LOCATION;VALUE=URI;X-ADDRESS=Centrum Sztuki Mościce Traugutta 1 Tarnów małopolskie 33-101 Polska;X-APPLE-RADIUS=500;X-TITLE=Traugutta 1:geo:20.92706,50.009833
END:VEVENT
END:VCALENDAR