BEGIN:VCALENDAR
VERSION:2.0
PRODID:-//kultura.tarnów - ECPv6.4.0.1//NONSGML v1.0//EN
CALSCALE:GREGORIAN
METHOD:PUBLISH
X-ORIGINAL-URL:https://kultura.tarnow.pl
X-WR-CALDESC:Wydarzenia dla
REFRESH-INTERVAL;VALUE=DURATION:PT1H
X-Robots-Tag:noindex
X-PUBLISHED-TTL:PT1H
BEGIN:VTIMEZONE
TZID:Europe/Warsaw
BEGIN:DAYLIGHT
TZOFFSETFROM:+0100
TZOFFSETTO:+0200
TZNAME:CEST
DTSTART:20240331T010000
END:DAYLIGHT
BEGIN:STANDARD
TZOFFSETFROM:+0200
TZOFFSETTO:+0100
TZNAME:CET
DTSTART:20241027T010000
END:STANDARD
TZID:Africa/Abidjan
BEGIN:STANDARD
TZOFFSETFROM:+0000
TZOFFSETTO:+0000
TZNAME:GMT
DTSTART:20240101T000000
END:STANDARD
END:VTIMEZONE
BEGIN:VEVENT
DTSTART;TZID=Europe/Warsaw:20240418T110000
DTEND;TZID=Europe/Warsaw:20240418T170000
DTSTAMP:20260422T220003
CREATED:20230424T102333Z
LAST-MODIFIED:20230424T102333Z
UID:10014253-1713438000-1713459600@kultura.tarnow.pl
SUMMARY:Surrealizm – Salvador Dali i inni
DESCRIPTION:Artyści: Krystyna Baniowska\, Piotr Barszczowski\, Piotr Bubak\, Stanisław Chmiel\, Ewa Fleszar\, Roman Fleszar\, Weronika Fleszar\, Mateusz Kijak\, Kazimierz Klimkiewicz\, Stanisław Kucharzyk\, Elżbieta Pazera\, Witold Pazera\, Michał Poręba\, Elżbieta Remian\, Piotr Rączka\, Jerzy Ruszel\, Anna Śliwińska\, Kazimierz Twardowski\, Grzegorz Wójcik\, Aleksandra Zuba-Benn \nSłowo SUR – to NA\, np.: sur la table – na stole. SURREALIZM – NADREALIZM\, zorganizowany ruch intelektualny pierwszej ćwierci XX wieku powstały we Francji. Surrealiści przyjęli ten termin w hołdzie dla G. Apollinaire`a\, który pierwszy użył tego sformułowania w 1918 roku w podtytule swojej sztuki\, nadając ruchowi nowy sens. Wyrastał on z doświadczeń\, przeżyć i przemyśleń związanych z I wojną światową\, a wywodził się z dadaizmu. Jednym z dążeń surrealizmu było pełne wyzwolenie osobowości człowieka\, pojęte jako ujawnienie jego ukrytych sił\, pragnień i marzeń\, zepchniętych w podświadomość przez rozum i rozsądek\, ogólnie przyjęte zasady obyczajowe i moralne. \nMANIFEST SURREALIZMU w 1924 roku napisał – ogłosił Andre BRETON\, początkowo odnosił się do literatury\, szybko jednak zainteresowali się nim twórcy innych dziedzin sztuki – wspaniałym przykładem są tu artyści malarze\, graficy. MANIFEST otworzył prawo do mówienia o nadrzędności przestrzeni na pograniczu snu i jawy. Artyści szukali metod i sposobu na wyrażenie idei tego nowego ruchu\, środki jakimi się posługiwali przedstawiały elementy rzeczywistości ujęte w nadrealny\, fantastyczny sposób. Obrazy były zapisem ze snów\, urojeń\, stanów delirycznych\, czy wszelkich czynności wykonywanych bez kontroli rozumu. Elementy rzeczywistości miały wymykać się logice\, rewolucjonizować życie codzienne…..obiekty i przedmioty\, nawet człowiek\, powinny znaleźć się w innych bytach\, przejść transformację\, np: ”człowiek jest ucieleśnionym deszczem”\, inny zaś z młotem\, lub ma jabłko zamiast głowy\, otwierający drzwi których nie ma……. a jak czytać istoty ciekłe z waty\, z wężowych skór\, upierzone drzewa\, zwierzęta niesione wiatrem\, modelowane z piasku. Surrealizm to miejsce spotkań najróżniejszych obiektów pochodzących z odmiennych kontekstów\, gdzie wszystko nabiera nowych nieoczekiwanych znaczeń……. np.: ”człowiek klatka schodowa\, człowiek litera\, ogryziona kość\, kropka\, strzęp\, kula\, człowiek trumna\, piszczałka\, sznurówka\, bagaż\, mgła i człowiek osad”\, a książka która gryzie ręce albo kłuje w oczy – tu przedmiot został wyzwolony i stał się wampirem\, książka dostaje przeciwstawną do swojej nową naturę. Bretonowskie ”puszczenie w obieg” przedmiotów dla wielu artystów stało się inspiracją do dania im nowego życia. Aktywność rzeczy dotychczas martwych\, obiektów nieuzależnionych od kontroli rozumu to niewyczerpane źródło tematów\, np.: ”wiatr upadł twarzą na ziemię”\, krzak śpiewa psalm”\, powietrze\, woda\, ziemia\, ogień\, barany\, smoki\, stwory złożone z mieczy\, igieł\, sztyletów. Do dziś wielu artystów korzysta i odwołuje się do postulowanego przez Bretona ”modelu wewnętrznego” czyli poszukiwania w sferze podświadomości\, jak to się dzieje\, mamy to każdego dnia: reklama\, teledyski\, wideoklipy. Nie ulega wątpliwości\, że surrealizm\, nie tylko twórcom\, ale i odbiorcom otworzył nowe obszary wyobraźni. \nKrystyna Baniowska Stąsiek Meyer (Wstęp do katalogu wystawy) \n 
URL:https://kultura.tarnow.pl/wydarzenie/surrealizm-salvador-dali-i-inni/2024-04-18/
LOCATION:Galeria ARTEKA\, Wałowa 16\, Tarnów\, 33-100
CATEGORIES:wystawy
ORGANIZER;CN="Stowarzyszenie Tarnowskich Artyst%C3%B3w Plastyk%C3%B3w":MAILTO:stowarzyszenie.arteka@gmail.com
END:VEVENT
BEGIN:VEVENT
DTSTART;TZID=Europe/Warsaw:20240418T120000
DTEND;TZID=Europe/Warsaw:20240418T150000
DTSTAMP:20260422T220003
CREATED:20240329T124813Z
LAST-MODIFIED:20240517T122620Z
UID:10015734-1713441600-1713452400@kultura.tarnow.pl
SUMMARY:Jerzy Ruszel "Malarstwo"
DESCRIPTION:
URL:https://kultura.tarnow.pl/wydarzenie/jerzy-ruszel-malarstwo-11/2024-04-18/
LOCATION:małopolskie
CATEGORIES:wystawy
END:VEVENT
BEGIN:VEVENT
DTSTART;TZID=Africa/Abidjan:20240418T190000
DTEND;TZID=Africa/Abidjan:20240418T193000
DTSTAMP:20260422T220003
CREATED:20240408T074303Z
LAST-MODIFIED:20240516T145437Z
UID:10015615-1713466800-1713468600@kultura.tarnow.pl
SUMMARY:Borys Płonka - spotkanie autorskie
DESCRIPTION:W czwartek 18 kwietnia 2024 r.\, o godzinie 17:30 w Czytelni Czasopism Miejskiej Biblioteki Publicznej w Tarnowie (ul. Krakowska 4\, parter) odbędzie się spotkanie z Borysem Płonką\, autorem monumentalnych książek o tematyce węgierskiej\, przybliżających polskim czytelnikom historię i kulturę Węgrów.  \n  \nAutor (rocznik 1968) jest z wykształcenia prawnikiem\, absolwentem UMCS w Lublinie\, a z zamiłowania pasjonatem geografii\, demografii i historii. Dużo podróżuje po świecie wzbogacając swoją wiedzę w tych dziedzinach. Prowadził badania geograficzne zespołowo (Zespół Naukowy Politechniki Rzeszowskiej – badania Jeziora Solińskiego) i samodzielnie (Libia). Pierwszy artykuł opublikował w Pracach Geograficznych „Studia nad geopolityką XX wieku” pod redakcją prof. Piotra Eberhardta (2013). Na swoim koncie ma monumentalne publikacje o tematyce węgierskiej „Węgrzy. Stosunki demograficzno-etniczne na przestrzeni dziejów” (2018)\, „Karl von Czoernig i jego wielka mapa narodowości Cesarstwa Austriackiego” (2022)\, „Węgrzy w Rumunii w latach 1918-1941” (2023).
URL:https://kultura.tarnow.pl/wydarzenie/borys-plonka-spotkanie-autorskie-2/
LOCATION:Miejska Biblioteka Publiczna im. J. Słowackiego
CATEGORIES:wieczory autorskie
END:VEVENT
BEGIN:VEVENT
DTSTART;TZID=Africa/Abidjan:20240418T190000
DTEND;TZID=Africa/Abidjan:20240418T193000
DTSTAMP:20260422T220003
CREATED:20240408T074303Z
LAST-MODIFIED:20240516T145444Z
UID:10015700-1713466800-1713468600@kultura.tarnow.pl
SUMMARY:Borys Płonka - spotkanie autorskie
DESCRIPTION:W czwartek 18 kwietnia 2024 r.\, o godzinie 17:30 w Czytelni Czasopism Miejskiej Biblioteki Publicznej w Tarnowie (ul. Krakowska 4\, parter) odbędzie się spotkanie z Borysem Płonką\, autorem monumentalnych książek o tematyce węgierskiej\, przybliżających polskim czytelnikom historię i kulturę Węgrów.  \n  \nAutor (rocznik 1968) jest z wykształcenia prawnikiem\, absolwentem UMCS w Lublinie\, a z zamiłowania pasjonatem geografii\, demografii i historii. Dużo podróżuje po świecie wzbogacając swoją wiedzę w tych dziedzinach. Prowadził badania geograficzne zespołowo (Zespół Naukowy Politechniki Rzeszowskiej – badania Jeziora Solińskiego) i samodzielnie (Libia). Pierwszy artykuł opublikował w Pracach Geograficznych „Studia nad geopolityką XX wieku” pod redakcją prof. Piotra Eberhardta (2013). Na swoim koncie ma monumentalne publikacje o tematyce węgierskiej „Węgrzy. Stosunki demograficzno-etniczne na przestrzeni dziejów” (2018)\, „Karl von Czoernig i jego wielka mapa narodowości Cesarstwa Austriackiego” (2022)\, „Węgrzy w Rumunii w latach 1918-1941” (2023).
URL:https://kultura.tarnow.pl/wydarzenie/borys-plonka-spotkanie-autorskie/
LOCATION:Miejska Biblioteka Publiczna im. J. Słowackiego
CATEGORIES:wieczory autorskie
END:VEVENT
BEGIN:VEVENT
DTSTART;TZID=Europe/Warsaw:20240418T193000
DTEND;TZID=Europe/Warsaw:20240418T213000
DTSTAMP:20260422T220003
CREATED:20240319T113032Z
LAST-MODIFIED:20240319T113032Z
UID:10015633-1713468600-1713475800@kultura.tarnow.pl
SUMMARY:"Muzyka zespołu Metallica symfonicznie"
DESCRIPTION:W roku 2024 na kolejne koncerty zawita do Polski wyjątkowy projekt – pod szyldem „Muzyka zespołu Metallica symfonicznie” wystąpi jeden z najlepszych coverbandów Metallica na świecie. W skład projektu wchodzi czteroosobowy zespół „Orion” oraz orkiestra symfoniczna. Na koncertach usłyszymy największe przeboje Metallica w symfonicznych aranżacjach wykonanych tak jak na słynnej płycie „Metallica S&M”. To blisko dwie godziny klasyki rocka/metalu w niezwykłym wydaniu! Po doskonale przyjętych trasach koncertowych\, projekt wystąpi w 2024 roku na kilkunastu koncertach w całej Polsce. \nOrganizatorem trasy jest Piosenka Plus oraz Fantom Media. \nBilety
URL:https://kultura.tarnow.pl/wydarzenie/muzyka-zespolu-metallica-symfonicznie/
LOCATION:Centrum Sztuki Mościce\, Traugutta 1\, Tarnów\, małopolskie\, 33-101\, Polska
CATEGORIES:koncerty
GEO:50.009833;20.92706
X-APPLE-STRUCTURED-LOCATION;VALUE=URI;X-ADDRESS=Centrum Sztuki Mościce Traugutta 1 Tarnów małopolskie 33-101 Polska;X-APPLE-RADIUS=500;X-TITLE=Traugutta 1:geo:20.92706,50.009833
END:VEVENT
END:VCALENDAR