BEGIN:VCALENDAR
VERSION:2.0
PRODID:-//kultura.tarnów - ECPv6.4.0.1//NONSGML v1.0//EN
CALSCALE:GREGORIAN
METHOD:PUBLISH
X-ORIGINAL-URL:https://kultura.tarnow.pl
X-WR-CALDESC:Wydarzenia dla
REFRESH-INTERVAL;VALUE=DURATION:PT1H
X-Robots-Tag:noindex
X-PUBLISHED-TTL:PT1H
BEGIN:VTIMEZONE
TZID:Europe/Warsaw
BEGIN:DAYLIGHT
TZOFFSETFROM:+0100
TZOFFSETTO:+0200
TZNAME:CEST
DTSTART:20240331T010000
END:DAYLIGHT
BEGIN:STANDARD
TZOFFSETFROM:+0200
TZOFFSETTO:+0100
TZNAME:CET
DTSTART:20241027T010000
END:STANDARD
END:VTIMEZONE
BEGIN:VEVENT
DTSTART;TZID=Europe/Warsaw:20240407T100000
DTEND;TZID=Europe/Warsaw:20240407T170000
DTSTAMP:20260422T142048
CREATED:20240312T074151Z
LAST-MODIFIED:20240318T134425Z
UID:10015590-1712484000-1712509200@kultura.tarnow.pl
SUMMARY:Juliusz Kosin "Studzenie Słońca
DESCRIPTION:„Na jednej z poduszek siedział ten stwór\, ciemna\, spiętrzona\ngórka wielkości kretowiska. Było zbyt mroczno\, żeby dokładnie\ngo obejrzeć. (…) Trudno było stwierdzić sposób jego poruszania\nsię. Najpierw schwytać\, a potem obejrzeć”.\nBelcampo\, Wielkie wydarzenie \nJako ludzie wyszliśmy ponad prawa świata zwierząt\, ale spełnienie tej „aspiracji” spłacamy poprzez targające nami tęsknoty\, towarzyszące nam wątpliwości i stałe napotykanie rzeczy\, które przekraczają granice naszego pojmowania. Najnowsze prace Juliusza Kosina to zbiór świetnego formalnie malarstwa z pogranicza abstrakcji i sztuki przedstawieniowej. Można by skończyć ten tekst\, pisząc\, że wszystko\, co ukazał\, zostało wymyślone\, ulepione w wyobraźni z malarskich sentymentów\, wyśnionych snów\, przeczytanych książek\, obejrzanych filmów i zasłyszanych legend. Robiąc to\, dużo stracimy. Skoro ktoś pochwycił dla nas te niesamowite stwory\, warto je dokładnie obejrzeć.\nJuliusz Kosin bohaterów swoich płócien nazywa psychopompami – w wierzeniach i mitach byli to przewodnicy dusz\, w psychologii analitycznej odpowiednicy animy i animusa łączących ego z nieświadomością. Artysta nadaje tym duchowym bytom ostrość i dosłowność. Nie czujemy pulsującej w nich krwi\, a mimo to wiemy\, że są żywe. Ich tkanki namnażają się w sposób mniej bądź bardziej chaotyczny. Nieprzewidywalne są ich stan skupienia i kierunki rozwoju – najczęściej czujemy\, jakby potężna siła rozsadzała je od środka\, prowokując wzrastanie.\nNa obrazie samoistne funkcjonowanie psychopompów czasem jest bardziej ekspresyjne\, innym razem kubizujące\, lśniące lub wygaszone\, dynamiczne bądź zatrzymane w portretowym bezruchu. Mogą one budzić zarówno sympatię\, jak i strach. Rozczytanie ich charakteru artysta pozostawia intuicji odbiorcy. Skazani jesteśmy na ocenę na podstawie powierzchowności\, gdyż dana jest nam jedynie ich forma. Czasem przewinie się sugestia cechy osobniczej\, bo jaki może być tytułowy Arcyłotr? Z drugiej strony\, co przewrotne i wspólne dla wszystkich wizerunków\, i tak dostrzeżemy w nim raczej kolejny element spajający malarską rzeczywistość niż predatora.\nArtysta nie wskazuje\, gdzie rezydują rozrzedzone dusze\, które poddał kondensacji. Przemieszczają się one swobodnie między bezgranicznymi przestrzeniami i wymiarami. Niekiedy ta sceneria niepokojąco przypomina ziemskie\, ściślej: niderlandzkie krajobrazy – dalekie reminiscencje Bruegla\, Boscha. Czy to oznacza\, że psychopompy objawiają się tylko wybranym? A może to pejzaże postapokaliptyczne? Albo plan na koniec świata\, w którym studzenie Słońca zapoczątkuje ciąg reakcji\, w wyniku których gwiazda ta pochłonie Ziemię wraz z pobliskimi planetami\, aby z czasem przekształcić się w czarną dziurę\, która wciągnie absolutnie wszystko. Ostatni gasi światło! \nJuliusz Kosin – urodzony w 1989 roku w Częstochowie. Absolwent Wydziału Malarstwa Akademii Sztuk Pięknych im. Jana Matejki w Krakowie. Studiował w pracowni malarstwa prof. Leszka Misiaka i pracowni rysunku prof. Teresy Kotkowskiej-Rzepeckiej. W 2013 obronił dyplom z malarstwa zrealizowany w pracowni prof. Leszka Misiaka uzupełniony aneksem z grafiki warsztatowej w Pracowni Wklęsłodruku prof. Henryka Ożoga. Od 2019 roku pracownik dydaktyczny na Wydziale Architektury Wnętrz Akademii Sztuk Pięknych im. Jana Matejki w Krakowie. \n17.03-11.04.2024\nBWA Tarnów / Pałacyk Strzelecki\, ul. Słowackiego 1 \nWernisaż wystawy w niedzielę 17.03\, g. 16:00 \nkuratorka: Martyna Sobczyk\npartner: Galeria Nanazenit
URL:https://kultura.tarnow.pl/wydarzenie/juliusz-kosin-studzenie-slonca/2024-04-07/
LOCATION:Biuro Wystaw Artystycznych\, ul. Słowackiego 1\, Tarnów\, małopolskie\, 33-100\, Polska
CATEGORIES:wystawy
ORGANIZER;CN="Biuro Wystaw Artystycznych":MAILTO:biuro@bwa.tarnow.pl
GEO:50.0178761;20.9827521
X-APPLE-STRUCTURED-LOCATION;VALUE=URI;X-ADDRESS=Biuro Wystaw Artystycznych ul. Słowackiego 1 Tarnów małopolskie 33-100 Polska;X-APPLE-RADIUS=500;X-TITLE=ul. Słowackiego 1:geo:20.9827521,50.0178761
END:VEVENT
BEGIN:VEVENT
DTSTART;TZID=Europe/Warsaw:20240407T120000
DTEND;TZID=Europe/Warsaw:20240407T150000
DTSTAMP:20260422T142048
CREATED:20240329T124813Z
LAST-MODIFIED:20240517T122620Z
UID:10015727-1712491200-1712502000@kultura.tarnow.pl
SUMMARY:Jerzy Ruszel "Malarstwo"
DESCRIPTION:
URL:https://kultura.tarnow.pl/wydarzenie/jerzy-ruszel-malarstwo-11/2024-04-07/
LOCATION:małopolskie
CATEGORIES:wystawy
END:VEVENT
BEGIN:VEVENT
DTSTART;TZID=Europe/Warsaw:20240407T160000
DTEND;TZID=Europe/Warsaw:20240407T173000
DTSTAMP:20260422T142048
CREATED:20240319T085307Z
LAST-MODIFIED:20240319T085307Z
UID:10015613-1712505600-1712511000@kultura.tarnow.pl
SUMMARY:Koncert SOLski Chór "Gdzie się podziały tamte prywatki BIS"
DESCRIPTION:7 kwietnia niedziela godz. 16.00 Duża Scena \nWracając do ciepło przyjętego repertuaru SOLski chór chciałby spróbować znów zaczarować rzeczywistość a myśląc już o wiośnie zabierze Państwa w podróż do przeszłości w rytmie cha-cha. Będzie to wyprawa przez dekady i przywoływanie największych polskich przebojów PRL-u od lat 40tych do 80tych XX wieku. Nie zabraknie Anny Jantar\, Marka Grechuty\, a Czarny Alibaba poprowadzi przez tamte prywatki\, abyście Państwo już o nic się nie martwili i mogli choć na chwilę wrócić wspomnieniami do hitów każdej potańcówki. \nKoncert odbędzie się 7 kwietnia o godzinie 16.00 na Dużej Scenie Teatru im. Ludwika Solskiego w Tarnowie\, gdzie chór zaprezentuje po raz drugi repertuar wypracowany m.in podczas projektu “Warsztaty dla chóru Solski” dofinansowanego przez Urząd Marszałkowski Województwa Małopolskiego w ramach programu „Małopolskie Chóry – Małopolska Rozśpiewana”.\nChór wystąpi pod egidą Anny Podkościelnej-Cyz w aranżacjach Bartłomieja Szułakiewicza przy akompaniamencie Piotra Niedojadły. \nBilety w cenie 40 zł (normalny)\, 30 zł (grupowy tj. 6 osób i więcej) dostępne w Kasie Teatru oraz online.\nhttps://teatr.tarnow.pl/repertuar/?smonth=2024-04
URL:https://kultura.tarnow.pl/wydarzenie/koncert-solski-chor-gdzie-sie-podzialy-tamte-prywatki-bis/
LOCATION:Teatr im. L.Solskiego\, Mickiewicza 4\, Tarnów\, małopolskie\, 33-100\, Polska
CATEGORIES:koncerty
ATTACH;FMTTYPE=image/jpeg:https://kultura.tarnow.pl/wp-content/uploads/chór-www-kwiecien.jpg
GEO:50.0159214;20.987504
X-APPLE-STRUCTURED-LOCATION;VALUE=URI;X-ADDRESS=Teatr im. L.Solskiego Mickiewicza 4 Tarnów małopolskie 33-100 Polska;X-APPLE-RADIUS=500;X-TITLE=Mickiewicza 4:geo:20.987504,50.0159214
END:VEVENT
END:VCALENDAR