BEGIN:VCALENDAR
VERSION:2.0
PRODID:-//kultura.tarnów - ECPv6.4.0.1//NONSGML v1.0//EN
CALSCALE:GREGORIAN
METHOD:PUBLISH
X-ORIGINAL-URL:https://kultura.tarnow.pl
X-WR-CALDESC:Wydarzenia dla
REFRESH-INTERVAL;VALUE=DURATION:PT1H
X-Robots-Tag:noindex
X-PUBLISHED-TTL:PT1H
BEGIN:VTIMEZONE
TZID:Europe/Warsaw
BEGIN:DAYLIGHT
TZOFFSETFROM:+0100
TZOFFSETTO:+0200
TZNAME:CEST
DTSTART:20240331T010000
END:DAYLIGHT
BEGIN:STANDARD
TZOFFSETFROM:+0200
TZOFFSETTO:+0100
TZNAME:CET
DTSTART:20241027T010000
END:STANDARD
END:VTIMEZONE
BEGIN:VEVENT
DTSTART;TZID=Europe/Warsaw:20240324T090000
DTEND;TZID=Europe/Warsaw:20240324T170000
DTSTAMP:20260422T030851
CREATED:20240219T090540Z
LAST-MODIFIED:20240219T090627Z
UID:10015377-1711270800-1711299600@kultura.tarnow.pl
SUMMARY: Wewnętrzny horyzont
DESCRIPTION:Biuro Wystaw Artystycznych w Tarnowie zaprasza na wystawę „Wewnętrzny horyzont” \nArtyści i artystki: Agnieszka Bartak-Lisikiewicz\, Dominika Borek\, Magdalena Daniec\, Tomasz Daniec\, Grzegorz Frydryk\, Piotr Idzi\, Antonina Janus-Szybist\, Paweł Marcinek\, Agnieszka Pawłowska-Górska\, Agnieszka Piksa \nPrace z kolekcji Małopolskiej Fundacji Muzeum Sztuki Współczesnej: Aneta Grzeszykowska & Jan Smaga\, Miho Iwata \nKuratorzy: Dominika Borek\, Paweł Marcinek \nWystawa czynna do 28.03.2024 r.: \nPoniedziałek-czwartek 9:00-17:00\nNiedziela 9:00-17:00 \nProjekt finansowany ze środków Akademii Tarnowskiej\, umowa nr BAD-05/2023 Wewnętrzny horyzont.
URL:https://kultura.tarnow.pl/wydarzenie/wewnetrzny-horyzont-2/2024-03-24/
LOCATION:BWA na Dworcu PKP\, Plac Dworcowy 4\, Tarnów\, małopolskie\, 33-100\, Polska
CATEGORIES:wystawy
ORGANIZER;CN="Biuro Wystaw Artystycznych":MAILTO:biuro@bwa.tarnow.pl
GEO:50.0057629;20.9744639
X-APPLE-STRUCTURED-LOCATION;VALUE=URI;X-ADDRESS=BWA na Dworcu PKP Plac Dworcowy 4 Tarnów małopolskie 33-100 Polska;X-APPLE-RADIUS=500;X-TITLE=Plac Dworcowy 4:geo:20.9744639,50.0057629
END:VEVENT
BEGIN:VEVENT
DTSTART;TZID=Europe/Warsaw:20240324T100000
DTEND;TZID=Europe/Warsaw:20240324T170000
DTSTAMP:20260422T030851
CREATED:20240305T135333Z
LAST-MODIFIED:20240305T135333Z
UID:10015553-1711274400-1711299600@kultura.tarnow.pl
SUMMARY:Jarmark “Wielkanocne Śniadanie” oraz warsztaty wielkanocne
DESCRIPTION:W dniach 20-26 marca zapraszamy do Tarnowa na wydarzenia pod wspólną nazwą “Wielkanocne Śniadanie”. W tych dniach odbędzie się jarmark wielkanocny na tarnowskim rynku (22-24.03.2024) oraz wielkanocne warsztaty (20\, 21 i 26.03.2024). Szczegółowy opis wydarzeń: \nW dniach 22-24.03.2024 r. w pięknej scenerii  tarnowskiego Rynku odbędzie się Jarmark „Wielkanocne Śniadanie”. Główną częścią wydarzenia będzie kiermasz produktów wielkanocnych i lokalnych oraz rzemiosła artystycznego\, nie zabraknie też innych atrakcji. \nWydarzenie na Rynku uatrakcyjnią pokazy kulinarne live cooking (w każdym dniu kucharz zdradzi tajniki przygotowania innej wielkanocnej potrawy). Uczestnicy jarmarku będą mieli również możliwość degustacji tradycyjnych potraw serwowanych podczas „wielkanocnego śniadania”. \nNie zabraknie bezpłatnego zwiedzania Tarnowa z przewodnikiem. Wycieczki enomeleksem\, wyruszą spod siedziby TCI – Rynek 7. \nOdbędą się wg poniższego harmonogramu: \nPiątek 22.03.2024 w godzinach: 13.00-14.00\, 14.15-15.15\, 15.30-16.30 oraz 16.45-17.45. \nSobota 23.03.2024 w godzinach: 10.00-11.00\, 11.15-12.15\, 12.30-13.30\, 13.45-14.45\, 15.00-16.00. \nNiedziela 24.03.2024 w godzinach: 10.00-11.00\, 11.15-12.15\, 12.30-13.30\, 13.45-14.45\, 15.00-16.00. \nBezpłatne bilety do odbioru\, na pół godziny przez wyjazdem\, w biurze TCI – Rynek 7. \nNa stoisku Gminy Ryglice – Centrum Kultury w Ryglicach – będzie malowanie twarzy oraz warsztaty tworzenia palm wielkanocnych. \nA na stoisku Malowany Miś – pamiątki wielkanocne\, pamiątki z Zalipia oraz pokaz malowania tradycyjnych zalipiańskich motywów. \nTrzydniowy jarmark wielkanocny ożywią i umilą występy regionalnych zespołów folklorystycznych „Zalasowianie” oraz „Mali Zalasowianie”. \nZapraszamy na Rynek w Tarnowie: \nPiątek 22.03.2024 r.\, godz. 13.00 – 18.00 \nSobota 23.03.2024. r. godz. 10.00 – 18.00 \nNiedziela 24.03.2024 r. godz. 10.00 – 17.00 \nWSTĘP WOLNY!!! \nW dniach 20\, 21 oraz 26 marca 2024 r. zapraszamy również na wielkanocne warsztaty. \nUczestnictwo w warsztatach jest bezpłatne. Obowiązują wcześniejsze zapisy telefoniczne 14 688 90 90. \nIlość miejsc ograniczona! \nTematy i terminy warsztatów: \nWarsztaty tworzenia pisanek „Jajo\, jajko\, jajeczko” \nŚroda\, 20.03.2024 r.\, godz. 16.00-18.00 \nWarsztaty tworzenia palm wielkanocnych „Palma do nieba” \nCzwartek\, 21.03.2024 r.\, godz. 16.30-19.00 \nWarsztaty kulinarne związane z kuchnią świąteczną „Pyszna Wielkanoc” \nWtorek\, 26.03.2024 r.\, godz. 10.00-14.00 i 15.00-19.00 \nPowyższe warsztaty odbędą się w Multimedialnym Centrum Artystycznym\, ul. Wałowa 25 \n—– \nOrganizatorem wydarzeń jest Tarnowskie Centrum Informacji\, we współpracy z Tarnowską Organizacją Turystyczną\, zarządcą marki EnoTarnowskie \nWydarzenia są realizowane w ramach projektu Tarnów „Nowe Spojrzenie” i sfinansowane ze środków Norweskiego Mechanizmu Finansowego.
URL:https://kultura.tarnow.pl/wydarzenie/jarmark-wielkanocne-sniadanie-oraz-warsztaty-wielkanocne/2024-03-24/
LOCATION:Rynek\, Tarnów\, małopolskie\, 33-100\, Polska
CATEGORIES:spotkania
ORGANIZER;CN="Tarnowskie Centrum Informacji":MAILTO:centrum@kultura.tarnow.pl
GEO:50.0121011;20.9858407
END:VEVENT
BEGIN:VEVENT
DTSTART;TZID=Europe/Warsaw:20240324T100000
DTEND;TZID=Europe/Warsaw:20240324T170000
DTSTAMP:20260422T030851
CREATED:20240312T074151Z
LAST-MODIFIED:20240318T134425Z
UID:10015580-1711274400-1711299600@kultura.tarnow.pl
SUMMARY:Juliusz Kosin "Studzenie Słońca
DESCRIPTION:„Na jednej z poduszek siedział ten stwór\, ciemna\, spiętrzona\ngórka wielkości kretowiska. Było zbyt mroczno\, żeby dokładnie\ngo obejrzeć. (…) Trudno było stwierdzić sposób jego poruszania\nsię. Najpierw schwytać\, a potem obejrzeć”.\nBelcampo\, Wielkie wydarzenie \nJako ludzie wyszliśmy ponad prawa świata zwierząt\, ale spełnienie tej „aspiracji” spłacamy poprzez targające nami tęsknoty\, towarzyszące nam wątpliwości i stałe napotykanie rzeczy\, które przekraczają granice naszego pojmowania. Najnowsze prace Juliusza Kosina to zbiór świetnego formalnie malarstwa z pogranicza abstrakcji i sztuki przedstawieniowej. Można by skończyć ten tekst\, pisząc\, że wszystko\, co ukazał\, zostało wymyślone\, ulepione w wyobraźni z malarskich sentymentów\, wyśnionych snów\, przeczytanych książek\, obejrzanych filmów i zasłyszanych legend. Robiąc to\, dużo stracimy. Skoro ktoś pochwycił dla nas te niesamowite stwory\, warto je dokładnie obejrzeć.\nJuliusz Kosin bohaterów swoich płócien nazywa psychopompami – w wierzeniach i mitach byli to przewodnicy dusz\, w psychologii analitycznej odpowiednicy animy i animusa łączących ego z nieświadomością. Artysta nadaje tym duchowym bytom ostrość i dosłowność. Nie czujemy pulsującej w nich krwi\, a mimo to wiemy\, że są żywe. Ich tkanki namnażają się w sposób mniej bądź bardziej chaotyczny. Nieprzewidywalne są ich stan skupienia i kierunki rozwoju – najczęściej czujemy\, jakby potężna siła rozsadzała je od środka\, prowokując wzrastanie.\nNa obrazie samoistne funkcjonowanie psychopompów czasem jest bardziej ekspresyjne\, innym razem kubizujące\, lśniące lub wygaszone\, dynamiczne bądź zatrzymane w portretowym bezruchu. Mogą one budzić zarówno sympatię\, jak i strach. Rozczytanie ich charakteru artysta pozostawia intuicji odbiorcy. Skazani jesteśmy na ocenę na podstawie powierzchowności\, gdyż dana jest nam jedynie ich forma. Czasem przewinie się sugestia cechy osobniczej\, bo jaki może być tytułowy Arcyłotr? Z drugiej strony\, co przewrotne i wspólne dla wszystkich wizerunków\, i tak dostrzeżemy w nim raczej kolejny element spajający malarską rzeczywistość niż predatora.\nArtysta nie wskazuje\, gdzie rezydują rozrzedzone dusze\, które poddał kondensacji. Przemieszczają się one swobodnie między bezgranicznymi przestrzeniami i wymiarami. Niekiedy ta sceneria niepokojąco przypomina ziemskie\, ściślej: niderlandzkie krajobrazy – dalekie reminiscencje Bruegla\, Boscha. Czy to oznacza\, że psychopompy objawiają się tylko wybranym? A może to pejzaże postapokaliptyczne? Albo plan na koniec świata\, w którym studzenie Słońca zapoczątkuje ciąg reakcji\, w wyniku których gwiazda ta pochłonie Ziemię wraz z pobliskimi planetami\, aby z czasem przekształcić się w czarną dziurę\, która wciągnie absolutnie wszystko. Ostatni gasi światło! \nJuliusz Kosin – urodzony w 1989 roku w Częstochowie. Absolwent Wydziału Malarstwa Akademii Sztuk Pięknych im. Jana Matejki w Krakowie. Studiował w pracowni malarstwa prof. Leszka Misiaka i pracowni rysunku prof. Teresy Kotkowskiej-Rzepeckiej. W 2013 obronił dyplom z malarstwa zrealizowany w pracowni prof. Leszka Misiaka uzupełniony aneksem z grafiki warsztatowej w Pracowni Wklęsłodruku prof. Henryka Ożoga. Od 2019 roku pracownik dydaktyczny na Wydziale Architektury Wnętrz Akademii Sztuk Pięknych im. Jana Matejki w Krakowie. \n17.03-11.04.2024\nBWA Tarnów / Pałacyk Strzelecki\, ul. Słowackiego 1 \nWernisaż wystawy w niedzielę 17.03\, g. 16:00 \nkuratorka: Martyna Sobczyk\npartner: Galeria Nanazenit
URL:https://kultura.tarnow.pl/wydarzenie/juliusz-kosin-studzenie-slonca/2024-03-24/
LOCATION:Biuro Wystaw Artystycznych\, ul. Słowackiego 1\, Tarnów\, małopolskie\, 33-100\, Polska
CATEGORIES:wystawy
ORGANIZER;CN="Biuro Wystaw Artystycznych":MAILTO:biuro@bwa.tarnow.pl
GEO:50.0178761;20.9827521
X-APPLE-STRUCTURED-LOCATION;VALUE=URI;X-ADDRESS=Biuro Wystaw Artystycznych ul. Słowackiego 1 Tarnów małopolskie 33-100 Polska;X-APPLE-RADIUS=500;X-TITLE=ul. Słowackiego 1:geo:20.9827521,50.0178761
END:VEVENT
END:VCALENDAR