BEGIN:VCALENDAR
VERSION:2.0
PRODID:-//kultura.tarnów - ECPv6.4.0.1//NONSGML v1.0//EN
CALSCALE:GREGORIAN
METHOD:PUBLISH
X-ORIGINAL-URL:https://kultura.tarnow.pl
X-WR-CALDESC:Wydarzenia dla
REFRESH-INTERVAL;VALUE=DURATION:PT1H
X-Robots-Tag:noindex
X-PUBLISHED-TTL:PT1H
BEGIN:VTIMEZONE
TZID:Europe/Warsaw
BEGIN:DAYLIGHT
TZOFFSETFROM:+0100
TZOFFSETTO:+0200
TZNAME:CEST
DTSTART:20240331T010000
END:DAYLIGHT
BEGIN:STANDARD
TZOFFSETFROM:+0200
TZOFFSETTO:+0100
TZNAME:CET
DTSTART:20241027T010000
END:STANDARD
END:VTIMEZONE
BEGIN:VEVENT
DTSTART;TZID=Europe/Warsaw:20240318T090000
DTEND;TZID=Europe/Warsaw:20240318T150000
DTSTAMP:20260421T194303
CREATED:20240304T115149Z
LAST-MODIFIED:20240304T115227Z
UID:10015492-1710752400-1710774000@kultura.tarnow.pl
SUMMARY:Seamus Heaney – życie i twórczość
DESCRIPTION:Od 6 marca do 5 kwietnia br. Galeria Niebieska MBP (ul. Krakowska 4) będzie gościć przygotowaną przez Fundację Kultury Irlandzkiej wystawę\, prezentującą życie i twórczość irlandzkiego Laureata Nagrody Nobla – Seamusa Heaneya. \n  \nO wystawie:\nNa 8 panelach umieszczone zostały informacje wprowadzające odbiorcę w świat wierszy Noblisty\, ukazują fragmenty jego biografii\, tłumaczeń i publikacji a także bliskich związków z Polską. Wszystkie te elementy mogą być pomocne w bliższym poznaniu jego twórczości. \nSeamus Heaney w swoich wierszach poruszał tematykę związaną z własnym dzieciństwem\, trudną sytuacją w Irlandii Północnej\, uniwersalnymi prawdami i uczuciami. W skład wystawy wchodzi przekrój jego wierszy i fragmenty prozy nawiązujące do tych właśnie tematów. Jako organizatorzy jesteśmy świadomi\, że nie są w stanie wyczerpać tematyki związanej z bogatą twórczością i życiem Noblisty\, sygnalizują i wskazują kierunek poznania niesamowitej osoby Autora. Zachęcają do sięgnięcia po jego liczne wiersze i eseje\, zagłębienia się w Jego twórczość. \n  \nSeamus Heaney\n(ur. 13 kwietnia 1939\, zm. 30 sierpnia 2013) irlandzki poeta\, eseista i dramaturg\, nazywany „najważniejszym poetą irlandzkim od czasów Yeatsa”. W 1995 r. nagrodzony Nagrodą Nobla w dziedzinie literatury za „dzieła charakteryzujące się lirycznym pięknem i etyczną głębią\, które sławią cuda dnia powszedniego i żywą przeszłość”. Oprócz poezji Heaney zajmował się także krytyką literacką\, dramatopisarstwem oraz tłumaczeniami\, wydał m.in. wierszowane tłumaczenie staroangielskiego eposu Beowulf. Za swoją misję uważał również popularyzowanie literatury\, uczestnicząc w licznych programach radiowych i telewizyjnych (np. w produkcjach BBC). W jego dorobku znalazły się także wiersze inspirowane poezją polskich autorów m.in. Zbigniewa Herberta czy angielskie tłumaczenie „Trenów” Kochanowskiego\, wydane wspólnie ze Stanisławem Barańczakiem w 1994 r. Heaney dał się poznać jako wielki przyjaciel Polski\, gdzie bywał częstym gościem m.in. w Krakowie podczas Spotkań Poetów\, gdzie zawarł bliską znajomość z innymi noblistami Czesławem Miłoszem i Wisławą Szymborską. W 2005 roku otrzymał tytuł doktora honoris causa Uniwersytetu Jagiellońskiego. \n \nOprowadzanie po wystawie i lekcje dla grup zorganizowanych:\nAnna Sadowska\, e-mail: sadowska@biblioteka.tarnow.pl\, tel.: 14 688 80 21\, wew. 22. \nZapraszamy na bezpłatne oprowadzanie po wystawie klas 7 i 8 Szkół Podstawowych oraz Szkół Ponadpodstawowych. W programie znajduje się przybliżenie postaci noblisty Seamusa Heaneya a także Irlandii\, jej historii\, kultury i tradycji.
URL:https://kultura.tarnow.pl/wydarzenie/seamus-heaney-zycie-i-tworczosc/2024-03-18/
LOCATION:Galeria Niebieska Miejskiej Biblioteki Publicznej im. J. Słowackiego w Tarnowie\, ul. Krakowska 4\, Tarnów\, małopolskie\, 33-100\, Polska
CATEGORIES:wystawy
ATTACH;FMTTYPE=image/jpeg:https://kultura.tarnow.pl/wp-content/uploads/Heaney_plakat-A3.jpg
GEO:50.0114517;20.9842414
X-APPLE-STRUCTURED-LOCATION;VALUE=URI;X-ADDRESS=Galeria Niebieska Miejskiej Biblioteki Publicznej im. J. Słowackiego w Tarnowie ul. Krakowska 4 Tarnów małopolskie 33-100 Polska;X-APPLE-RADIUS=500;X-TITLE=ul. Krakowska 4:geo:20.9842414,50.0114517
END:VEVENT
BEGIN:VEVENT
DTSTART;TZID=Europe/Warsaw:20240318T090000
DTEND;TZID=Europe/Warsaw:20240318T170000
DTSTAMP:20260421T194303
CREATED:20240219T090540Z
LAST-MODIFIED:20240219T090627Z
UID:10015373-1710752400-1710781200@kultura.tarnow.pl
SUMMARY: Wewnętrzny horyzont
DESCRIPTION:Biuro Wystaw Artystycznych w Tarnowie zaprasza na wystawę „Wewnętrzny horyzont” \nArtyści i artystki: Agnieszka Bartak-Lisikiewicz\, Dominika Borek\, Magdalena Daniec\, Tomasz Daniec\, Grzegorz Frydryk\, Piotr Idzi\, Antonina Janus-Szybist\, Paweł Marcinek\, Agnieszka Pawłowska-Górska\, Agnieszka Piksa \nPrace z kolekcji Małopolskiej Fundacji Muzeum Sztuki Współczesnej: Aneta Grzeszykowska & Jan Smaga\, Miho Iwata \nKuratorzy: Dominika Borek\, Paweł Marcinek \nWystawa czynna do 28.03.2024 r.: \nPoniedziałek-czwartek 9:00-17:00\nNiedziela 9:00-17:00 \nProjekt finansowany ze środków Akademii Tarnowskiej\, umowa nr BAD-05/2023 Wewnętrzny horyzont.
URL:https://kultura.tarnow.pl/wydarzenie/wewnetrzny-horyzont-2/2024-03-18/
LOCATION:BWA na Dworcu PKP\, Plac Dworcowy 4\, Tarnów\, małopolskie\, 33-100\, Polska
CATEGORIES:wystawy
ORGANIZER;CN="Biuro Wystaw Artystycznych":MAILTO:biuro@bwa.tarnow.pl
GEO:50.0057629;20.9744639
X-APPLE-STRUCTURED-LOCATION;VALUE=URI;X-ADDRESS=BWA na Dworcu PKP Plac Dworcowy 4 Tarnów małopolskie 33-100 Polska;X-APPLE-RADIUS=500;X-TITLE=Plac Dworcowy 4:geo:20.9744639,50.0057629
END:VEVENT
BEGIN:VEVENT
DTSTART;TZID=Europe/Warsaw:20240318T100000
DTEND;TZID=Europe/Warsaw:20240318T170000
DTSTAMP:20260421T194303
CREATED:20240228T072505Z
LAST-MODIFIED:20240228T072539Z
UID:10014952-1710756000-1710781200@kultura.tarnow.pl
SUMMARY:"Autoportret naturalnie" Inez Baturo
DESCRIPTION:Tarnowskie Centrum Kultury zaprasza na wystawę fotografii Inez Baturo „Autoportret naturalnie” do Galerii TCK.\nWernisaż z udziałem autorki odbędzie się 8 marca o godzinie 18:00. \n„Fotografując pejzaż\, portretuję siebie\, własne emocje związane z byciem tu i teraz\, w kontakcie z przyrodą i z pierwotnym światem.\nCzuję\, że jestem częścią natury\, jej składową. Krajobraz jest pretekstem do zanurzenia się w harmonii i ciszy miejsc\, które są z mojego punktu widzenia prawdziwe.” \nINEZ BATURO\nUrodziła się w roku 1966. Mieszka w Bielsku-Białej. Filolog angielski. Członkini Związku Polskich Artystów Fotografików. Jedna z członków założycieli Związku Polskich Fotografów Przyrody. Należy do Agencji Forum oraz do IRIS Photo\, organizacji z siedzibą w Wielkiej Brytanii\, promującej światową fotografię kobiet. W latach 1992-2015 Inez Baturo prowadziła Wydawnictwo Baturo\, specjalizujące się w książkach albumowych\, które wypromowało prace wielu polskich artystów fotografików. Od roku 1992 do dnia dzisiejszego jest kuratorką Galerii Fotografii B&B w Bielsku-Białej (do roku 2017 wraz z nieżyjącym już Andrzejem Baturo). Fundatorka i prezes Fundacji Centrum Fotografii. Organizatorka biennale fotografii światowej – FotoArtFestivalu. Organizuje liczne kursy\, spotkania\, plenery fotograficzne i międzynarodowe projekty. Fotografie publikowała m. in. we Voyage\, Podróżach\, National Geographic. Jest autorką czterech albumów autorskich: Beskidy (dwie publikacje)\, Cieszyn\, Inez Baturo – fotografia pejzażowa (2013). Prace publikowała także w albumach zbiorowych pt.: Góry Polskie i Bielsko-Biała. Jej prace i biografia zostały ujęte w następujących publikacjach: „Mistrzowie polskiego pejzażu” oraz w prestiżowej publikacji autorstwa Naomi Rosenblum – „Women`s History of Photography” (Abbeville Press\, Nowy Jork) a także w „Donne & Fotografia” (Udine Musei\, Włochy). Przetłumaczyła z języka angielskiego „Historię fotografii światowej” Naomi Rosenblum\, największe tego typu opracowanie na świecie.\nWażniejsze nagrody to:\n– Nagroda Prezydenta Miasta Bielsko-Biała w dziedzinie kultury\n– Ikar 2005- Doroczna Nagroda Ministra Kultury i Dziedzictwa Narodowego za wybitne osiągnięcia w dziedzinie sztuk plastycznych (2007)\n– Stypendium Stowarzyszenia Autorów ZAiKS\, Warszawa 2011\, 2012\n– Nagroda Stowarzyszenia Autorów ZAiKS za osiągnięcia w dziedzinie sztuk wizualnych (2023)\nJej prace znajdują się w zbiorach:\n– British Library (Women`s Issues) w Londynie\n– Muzeum Historyczne (Zamek) w Bielsku-Białej\n– Zbiorach Specjalnych Wojewódzkiej Biblioteki Publicznej w Lublinie\n– Museum of Humanity (Wielka Brytania)\n– Ratusz\, Grand Rapids\, Michigan (USA)\n– i w zbiorach prywatnych
URL:https://kultura.tarnow.pl/wydarzenie/autoportret-naturalnie-inez-baturo-2024-03-09/2024-03-18/
LOCATION:Tarnowskie Centrum Kultury\, Rynek 5\, Tarnów\, małopolskie\, 33-100\, Polska
CATEGORIES:wystawy
ATTACH;FMTTYPE=image/jpeg:https://kultura.tarnow.pl/wp-content/uploads/1d9e32b009fc539f2e673227bbdcdabe.jpeg
GEO:50.012155;20.9878542
X-APPLE-STRUCTURED-LOCATION;VALUE=URI;X-ADDRESS=Tarnowskie Centrum Kultury Rynek 5 Tarnów małopolskie 33-100 Polska;X-APPLE-RADIUS=500;X-TITLE=Rynek 5:geo:20.9878542,50.012155
END:VEVENT
END:VCALENDAR