BEGIN:VCALENDAR
VERSION:2.0
PRODID:-//kultura.tarnów - ECPv6.4.0.1//NONSGML v1.0//EN
CALSCALE:GREGORIAN
METHOD:PUBLISH
X-ORIGINAL-URL:https://kultura.tarnow.pl
X-WR-CALDESC:Wydarzenia dla
REFRESH-INTERVAL;VALUE=DURATION:PT1H
X-Robots-Tag:noindex
X-PUBLISHED-TTL:PT1H
BEGIN:VTIMEZONE
TZID:Europe/Warsaw
BEGIN:DAYLIGHT
TZOFFSETFROM:+0100
TZOFFSETTO:+0200
TZNAME:CEST
DTSTART:20240331T010000
END:DAYLIGHT
BEGIN:STANDARD
TZOFFSETFROM:+0200
TZOFFSETTO:+0100
TZNAME:CET
DTSTART:20241027T010000
END:STANDARD
END:VTIMEZONE
BEGIN:VEVENT
DTSTART;TZID=Europe/Warsaw:20240317T090000
DTEND;TZID=Europe/Warsaw:20240317T170000
DTSTAMP:20260423T045412
CREATED:20240219T090540Z
LAST-MODIFIED:20240219T090627Z
UID:10015372-1710666000-1710694800@kultura.tarnow.pl
SUMMARY: Wewnętrzny horyzont
DESCRIPTION:Biuro Wystaw Artystycznych w Tarnowie zaprasza na wystawę „Wewnętrzny horyzont” \nArtyści i artystki: Agnieszka Bartak-Lisikiewicz\, Dominika Borek\, Magdalena Daniec\, Tomasz Daniec\, Grzegorz Frydryk\, Piotr Idzi\, Antonina Janus-Szybist\, Paweł Marcinek\, Agnieszka Pawłowska-Górska\, Agnieszka Piksa \nPrace z kolekcji Małopolskiej Fundacji Muzeum Sztuki Współczesnej: Aneta Grzeszykowska & Jan Smaga\, Miho Iwata \nKuratorzy: Dominika Borek\, Paweł Marcinek \nWystawa czynna do 28.03.2024 r.: \nPoniedziałek-czwartek 9:00-17:00\nNiedziela 9:00-17:00 \nProjekt finansowany ze środków Akademii Tarnowskiej\, umowa nr BAD-05/2023 Wewnętrzny horyzont.
URL:https://kultura.tarnow.pl/wydarzenie/wewnetrzny-horyzont-2/2024-03-17/
LOCATION:BWA na Dworcu PKP\, Plac Dworcowy 4\, Tarnów\, małopolskie\, 33-100\, Polska
CATEGORIES:wystawy
ORGANIZER;CN="Biuro Wystaw Artystycznych":MAILTO:biuro@bwa.tarnow.pl
GEO:50.0057629;20.9744639
X-APPLE-STRUCTURED-LOCATION;VALUE=URI;X-ADDRESS=BWA na Dworcu PKP Plac Dworcowy 4 Tarnów małopolskie 33-100 Polska;X-APPLE-RADIUS=500;X-TITLE=Plac Dworcowy 4:geo:20.9744639,50.0057629
END:VEVENT
BEGIN:VEVENT
DTSTART;TZID=Europe/Warsaw:20240317T100000
DTEND;TZID=Europe/Warsaw:20240317T170000
DTSTAMP:20260423T045412
CREATED:20240312T074151Z
LAST-MODIFIED:20240318T134425Z
UID:10015575-1710669600-1710694800@kultura.tarnow.pl
SUMMARY:Juliusz Kosin "Studzenie Słońca
DESCRIPTION:„Na jednej z poduszek siedział ten stwór\, ciemna\, spiętrzona\ngórka wielkości kretowiska. Było zbyt mroczno\, żeby dokładnie\ngo obejrzeć. (…) Trudno było stwierdzić sposób jego poruszania\nsię. Najpierw schwytać\, a potem obejrzeć”.\nBelcampo\, Wielkie wydarzenie \nJako ludzie wyszliśmy ponad prawa świata zwierząt\, ale spełnienie tej „aspiracji” spłacamy poprzez targające nami tęsknoty\, towarzyszące nam wątpliwości i stałe napotykanie rzeczy\, które przekraczają granice naszego pojmowania. Najnowsze prace Juliusza Kosina to zbiór świetnego formalnie malarstwa z pogranicza abstrakcji i sztuki przedstawieniowej. Można by skończyć ten tekst\, pisząc\, że wszystko\, co ukazał\, zostało wymyślone\, ulepione w wyobraźni z malarskich sentymentów\, wyśnionych snów\, przeczytanych książek\, obejrzanych filmów i zasłyszanych legend. Robiąc to\, dużo stracimy. Skoro ktoś pochwycił dla nas te niesamowite stwory\, warto je dokładnie obejrzeć.\nJuliusz Kosin bohaterów swoich płócien nazywa psychopompami – w wierzeniach i mitach byli to przewodnicy dusz\, w psychologii analitycznej odpowiednicy animy i animusa łączących ego z nieświadomością. Artysta nadaje tym duchowym bytom ostrość i dosłowność. Nie czujemy pulsującej w nich krwi\, a mimo to wiemy\, że są żywe. Ich tkanki namnażają się w sposób mniej bądź bardziej chaotyczny. Nieprzewidywalne są ich stan skupienia i kierunki rozwoju – najczęściej czujemy\, jakby potężna siła rozsadzała je od środka\, prowokując wzrastanie.\nNa obrazie samoistne funkcjonowanie psychopompów czasem jest bardziej ekspresyjne\, innym razem kubizujące\, lśniące lub wygaszone\, dynamiczne bądź zatrzymane w portretowym bezruchu. Mogą one budzić zarówno sympatię\, jak i strach. Rozczytanie ich charakteru artysta pozostawia intuicji odbiorcy. Skazani jesteśmy na ocenę na podstawie powierzchowności\, gdyż dana jest nam jedynie ich forma. Czasem przewinie się sugestia cechy osobniczej\, bo jaki może być tytułowy Arcyłotr? Z drugiej strony\, co przewrotne i wspólne dla wszystkich wizerunków\, i tak dostrzeżemy w nim raczej kolejny element spajający malarską rzeczywistość niż predatora.\nArtysta nie wskazuje\, gdzie rezydują rozrzedzone dusze\, które poddał kondensacji. Przemieszczają się one swobodnie między bezgranicznymi przestrzeniami i wymiarami. Niekiedy ta sceneria niepokojąco przypomina ziemskie\, ściślej: niderlandzkie krajobrazy – dalekie reminiscencje Bruegla\, Boscha. Czy to oznacza\, że psychopompy objawiają się tylko wybranym? A może to pejzaże postapokaliptyczne? Albo plan na koniec świata\, w którym studzenie Słońca zapoczątkuje ciąg reakcji\, w wyniku których gwiazda ta pochłonie Ziemię wraz z pobliskimi planetami\, aby z czasem przekształcić się w czarną dziurę\, która wciągnie absolutnie wszystko. Ostatni gasi światło! \nJuliusz Kosin – urodzony w 1989 roku w Częstochowie. Absolwent Wydziału Malarstwa Akademii Sztuk Pięknych im. Jana Matejki w Krakowie. Studiował w pracowni malarstwa prof. Leszka Misiaka i pracowni rysunku prof. Teresy Kotkowskiej-Rzepeckiej. W 2013 obronił dyplom z malarstwa zrealizowany w pracowni prof. Leszka Misiaka uzupełniony aneksem z grafiki warsztatowej w Pracowni Wklęsłodruku prof. Henryka Ożoga. Od 2019 roku pracownik dydaktyczny na Wydziale Architektury Wnętrz Akademii Sztuk Pięknych im. Jana Matejki w Krakowie. \n17.03-11.04.2024\nBWA Tarnów / Pałacyk Strzelecki\, ul. Słowackiego 1 \nWernisaż wystawy w niedzielę 17.03\, g. 16:00 \nkuratorka: Martyna Sobczyk\npartner: Galeria Nanazenit
URL:https://kultura.tarnow.pl/wydarzenie/juliusz-kosin-studzenie-slonca/2024-03-17/
LOCATION:Biuro Wystaw Artystycznych\, ul. Słowackiego 1\, Tarnów\, małopolskie\, 33-100\, Polska
CATEGORIES:wystawy
ORGANIZER;CN="Biuro Wystaw Artystycznych":MAILTO:biuro@bwa.tarnow.pl
GEO:50.0178761;20.9827521
X-APPLE-STRUCTURED-LOCATION;VALUE=URI;X-ADDRESS=Biuro Wystaw Artystycznych ul. Słowackiego 1 Tarnów małopolskie 33-100 Polska;X-APPLE-RADIUS=500;X-TITLE=ul. Słowackiego 1:geo:20.9827521,50.0178761
END:VEVENT
BEGIN:VEVENT
DTSTART;TZID=Europe/Warsaw:20240317T120000
DTEND;TZID=Europe/Warsaw:20240317T140000
DTSTAMP:20260423T045412
CREATED:20240314T124221Z
LAST-MODIFIED:20240314T124221Z
UID:10015602-1710676800-1710684000@kultura.tarnow.pl
SUMMARY:Detale architektoniczne w Tarnowie. Spacer z Agnieszką Partridge.
DESCRIPTION:Spacer zapowiada „Mapę detali architektonicznych Tarnowa”\, która wkrótce ukażę się w wersji drukowanej. Na mapie będzie ponad 30 adresów\, pod którymi znajdziemy unikalne detale: ceramikę\, elementy kamienne\, metaloplastykę\, snycerkę\, szyldy i reklamy oraz detale małej architektury ze Starówki oraz innych części miasta. Autorką wyboru detali i ich opisów jest Agnieszka Partridge. Za oprawę graficzną mapy odpowiedzialna jest Natalia Sikorska. Autorami zdjęć są młodzi fotografowie z Tarnowa. Projekt zostanie też zaprezentowany w formie wystawy w oddziale BWA – Multimedialnym Centrum Artystycznym przy ul. Wałowej 25 (II połowa kwietnia\, finisaż podczas Międzynarodowej Nocy Muzeów 18 maja). Mapa wydana przez Biuro Wystaw Artystycznych w Tarnowie jest częścią większych działań BWA promujących architekturę Tarnowa.\n\nAgnieszka Partridge – dr nauk technicznych Wydziału Architektury Politechniki Krakowskiej\, publicystka\, historyczka sztuki. Członkini stowarzyszeń twórczych: PKN ICOMOS\, Towarzystwa Miłośników Historii i Zabytków Krakowa\, Stowarzyszenia Dziennikarzy Polskich\, Stowarzyszenia Filmowców Polskich\, Stowarzyszenia Historyków Sztuki.\nAutorka książek\, m.in.: „Otwórzcie bramy pamięci. Cmentarze wojenne z lat 1914–1918 w Małopolsce” (z fotografikiem Rafałem Korzeniowskim)\, opracowania historii wsi małopolskiej w wieku XX: „Pleśna\, jakiej już nie ma. Historie w fotografiach” i monografii poświęconej ceramice architektonicznej XIX i XX w. „Potęga ornamentu”. Jej kolekcja ceramiki architektonicznej była prezentowana w formie wystawy „Wzory w kwadracie zamknięte – ceramiczne zdobienia wnętrz z przełomu XIX i XX wieku” w Muzeum Okręgowym w Tarnowie (2021-2022)\, której towarzyszył prowadzony przez nią\, cieszący się dużą popularnością\, spacer po Tarnowie. Współpracowała z BWA Tarnów przy 19. Festiwalu Sztuki ArtFest 2021\, wygłaszając wykład „UFO w starej kamienicy\, czyli opowieść całkiem prawdopodobna. Futuryzm w ceramice architektonicznej z XIX i XX wieku”.\n\n\n\n\n\n\n\n\n\n\n\n\n\n\n\n\n\nMultimedialne Centrum Artystyczne – oddział BWA Tarnów\, ul. Wałowa 25\n\n\n\n\n\n\n\n\n\nNiedziela 17.03.2024\, g. 12:00\n\n\n\n\n\n\n\nZbiórka pod Multimedialnym Centrum Artystycznym\, ul. Wałowa 25*\nWstęp wolny\, nie obowiązują zapisy\nCzas trwania ok. 2h\n*W przypadku niesprzyjającej pogody spacer odbędzie się w MCA\, w formie spotkania z pokazem zdjęć.\n\n\n\n\n\n\n#Tarnów Nowe Spojrzenie\nProjekt „Tarnów – Nowe Spojrzenie”\, realizowany w ramach Programu Rozwój Lokalny\, finansowany ze środków Funduszy Norweskich.
URL:https://kultura.tarnow.pl/wydarzenie/detale-architektoniczne-w-tarnowie-spacer-z-agnieszka-partridge/
LOCATION:Multimedialne Centrum Artystyczne\, Wałowa 25\, Tarnów\, małopolskie\, 33-100\, Polska
CATEGORIES:spotkania
ATTACH;FMTTYPE=image/jpeg:https://kultura.tarnow.pl/wp-content/uploads/431116070_910259187774089_2739430267362537866_n.jpg
ORGANIZER;CN="Biuro Wystaw Artystycznych":MAILTO:biuro@bwa.tarnow.pl
GEO:50.013866931068;20.987989998201
X-APPLE-STRUCTURED-LOCATION;VALUE=URI;X-ADDRESS=Multimedialne Centrum Artystyczne Wałowa 25 Tarnów małopolskie 33-100 Polska;X-APPLE-RADIUS=500;X-TITLE=Wałowa 25:geo:20.987989998201,50.013866931068
END:VEVENT
BEGIN:VEVENT
DTSTART;TZID=Europe/Warsaw:20240317T150000
DTEND;TZID=Europe/Warsaw:20240317T160000
DTSTAMP:20260423T045412
CREATED:20240306T081212Z
LAST-MODIFIED:20240306T081212Z
UID:10015564-1710687600-1710691200@kultura.tarnow.pl
SUMMARY:"Kiedy Króla boli ząb"
DESCRIPTION:Spektakl dla dzieci Teatru Rabcio w ramach Teatru Młodych Widzów \n17 marca 2024\, godz. 15:00 \nKróla boli ząb i nikt nie może mu pomóc: ani kucharz\, ani Ochmistrzyni\, ani Królowa\, ani Kot\, ani Damy Dworu… ani nawet Król Teść… i Czarnoksiężnik. A tymczasem ból zęba tak dokucza Królowi\, że wojna wisi na włosku. Sytuację próbuje ratować Księżniczka\, lecz zostaje podejrzana o szpiegoswto i trafia do więzienia… na dodatek Król zgubił berło a Ochmistrzyni zapowiada\, że od pierwszego odchodzi. I kto wie\, jakby się to wszystko skończyło\, gdyby nie podstęp…i Dentysta. \nSpektakl dla dzieci od 3 lat
URL:https://kultura.tarnow.pl/wydarzenie/kiedy-krola-boli-zab-4/
LOCATION:Centrum Sztuki Mościce\, Traugutta 1\, Tarnów\, małopolskie\, 33-101\, Polska
CATEGORIES:spektakle
ATTACH;FMTTYPE=image/jpeg:https://kultura.tarnow.pl/wp-content/uploads/img_c2f2b582919582da405b268e845442fe.jpeg
GEO:50.009833;20.92706
X-APPLE-STRUCTURED-LOCATION;VALUE=URI;X-ADDRESS=Centrum Sztuki Mościce Traugutta 1 Tarnów małopolskie 33-101 Polska;X-APPLE-RADIUS=500;X-TITLE=Traugutta 1:geo:20.92706,50.009833
END:VEVENT
BEGIN:VEVENT
DTSTART;TZID=Europe/Warsaw:20240317T180000
DTEND;TZID=Europe/Warsaw:20240317T193000
DTSTAMP:20260423T045412
CREATED:20240312T073907Z
LAST-MODIFIED:20240312T073907Z
UID:10015572-1710698400-1710703800@kultura.tarnow.pl
SUMMARY:Filharmonia Krakowska "Koncert Pasyjny"
DESCRIPTION:W repertuarze: \nFerenc Liszt – O filii et filiae z oratorium Chrystus\nAntonio Vivaldi – Sinfonia Al Santo Sepolcro\nGiovanni Battista Pergolesi – Stabat Mater \nWykonawcy: \nPaweł Wajrak – skrzypce\, kierownictwo artystyczne\nJustyna Dybek-Boczek – skrzypce\nAnna Migdał-Chojecka – altówka\nFranciszek Pall – wiolonczela\nDuszan Korczakowski – kontrabas\nAnna Huszczo – klawesyn \nSEI TERRE: \nKatarzyna Guran – sopran solo\nJoanna Święszek-Przeliorz – mezzosopran solo\nKlaudia Czyszczoń – sopran\nAnna Zawisza – sopran\nAnna Bober – alt\nAleksandra Korzonek – alt \nBilety do nabycia  na stronie : https://filharmoniakrakow.pl/public/program/specjalny-koncert-pasyjny—tarnw \n17 marca 2024 godz. 18.00 \nSala koncertowa Zespołu Szkół Muzycznych\, ul. Lippóczy`ego 4. \n \n  \n  \n 
URL:https://kultura.tarnow.pl/wydarzenie/filharmonia-krakowska-koncert-pasyjny/
LOCATION:Sala Koncertowa Zespołu Szkół Muzycznych\, Lippóczy’ego 4\, Tarnów\, małopolskie\, 33-100\, Polska
CATEGORIES:koncerty
ATTACH;FMTTYPE=image/jpeg:https://kultura.tarnow.pl/wp-content/uploads/2024.03.17_TARNOW2024.03.17_page-0001.jpg
ORGANIZER;CN="Zesp%C3%B3%C5%82 Szk%C3%B3%C5%82 Muzycznych":MAILTO:szkola@zsmuz.tarnow.pl
GEO:50.0205582;20.9801972
X-APPLE-STRUCTURED-LOCATION;VALUE=URI;X-ADDRESS=Sala Koncertowa Zespołu Szkół Muzycznych Lippóczy’ego 4 Tarnów małopolskie 33-100 Polska;X-APPLE-RADIUS=500;X-TITLE=Lippóczy’ego 4:geo:20.9801972,50.0205582
END:VEVENT
BEGIN:VEVENT
DTSTART;TZID=Europe/Warsaw:20240317T180000
DTEND;TZID=Europe/Warsaw:20240317T200000
DTSTAMP:20260423T045413
CREATED:20240126T131745Z
LAST-MODIFIED:20240126T131839Z
UID:10015271-1710698400-1710705600@kultura.tarnow.pl
SUMMARY:FunFest - Festiwal Humoru
DESCRIPTION:FunFest! Zapraszamy na drugą edycję festiwalu do Centrum Sztuki Mościce! \nW ramach festiwalu dobrego humoru odbędzie się siedem wydarzeń. Program festiwalu został ułożony\, zarówno dla młodzieży\, jak i starszych odbiorców\, dla miłośników ponadczasowych polskich komedii i osób\, które cenią dobrą grę aktorską oraz doceniają błyskotliwe monologi! \nFunFest jest okazją do spotkania się i dobrej zabawy! \nProgram Festiwalu: \n1 marca 2024\, godz. 18:00 – Kabaret Czesuaf\n \n3 marca 2024\,  godz. 18:00 – „Komedia odlotowa\, czyli lumbago” – spektakl komediowy Teatru Capitol\n \n15 marca 2024\,  godz. 19:00 – Pan Li – komik\, iluzjonista\n \n17 marca 2024\,  godz. 18.00 – seans filmu „Chłopaki nie płaczą”\n \n20 marca 2024\, godz. 19:00 – Kacper Ruciński – stand-up\n \n22 marca 2024\, godz. 9:00 – Brzuchomówca Piotr Boruta i Czocher – występ dla grup  przedszkolnych i szkolnych\n \n1 – 31 marca 2024 – „Takie czasy” – wystawa The Krasnals
URL:https://kultura.tarnow.pl/wydarzenie/funfest-festiwal-humoru/2024-03-17/
LOCATION:Centrum Sztuki Mościce\, Traugutta 1\, Tarnów\, małopolskie\, 33-101\, Polska
CATEGORIES:festiwale
GEO:50.009833;20.92706
X-APPLE-STRUCTURED-LOCATION;VALUE=URI;X-ADDRESS=Centrum Sztuki Mościce Traugutta 1 Tarnów małopolskie 33-101 Polska;X-APPLE-RADIUS=500;X-TITLE=Traugutta 1:geo:20.92706,50.009833
END:VEVENT
END:VCALENDAR