BEGIN:VCALENDAR
VERSION:2.0
PRODID:-//kultura.tarnów - ECPv6.4.0.1//NONSGML v1.0//EN
CALSCALE:GREGORIAN
METHOD:PUBLISH
X-WR-CALNAME:kultura.tarnów
X-ORIGINAL-URL:https://kultura.tarnow.pl
X-WR-CALDESC:Wydarzenia dla
REFRESH-INTERVAL;VALUE=DURATION:PT1H
X-Robots-Tag:noindex
X-PUBLISHED-TTL:PT1H
BEGIN:VTIMEZONE
TZID:Europe/Warsaw
BEGIN:DAYLIGHT
TZOFFSETFROM:+0100
TZOFFSETTO:+0200
TZNAME:CEST
DTSTART:20240331T010000
END:DAYLIGHT
BEGIN:STANDARD
TZOFFSETFROM:+0200
TZOFFSETTO:+0100
TZNAME:CET
DTSTART:20241027T010000
END:STANDARD
END:VTIMEZONE
BEGIN:VEVENT
DTSTART;TZID=Europe/Warsaw:20240316T100000
DTEND;TZID=Europe/Warsaw:20240316T170000
DTSTAMP:20260422T022338
CREATED:20240228T072505Z
LAST-MODIFIED:20240228T072539Z
UID:10014951-1710583200-1710608400@kultura.tarnow.pl
SUMMARY:"Autoportret naturalnie" Inez Baturo
DESCRIPTION:Tarnowskie Centrum Kultury zaprasza na wystawę fotografii Inez Baturo „Autoportret naturalnie” do Galerii TCK.\nWernisaż z udziałem autorki odbędzie się 8 marca o godzinie 18:00. \n„Fotografując pejzaż\, portretuję siebie\, własne emocje związane z byciem tu i teraz\, w kontakcie z przyrodą i z pierwotnym światem.\nCzuję\, że jestem częścią natury\, jej składową. Krajobraz jest pretekstem do zanurzenia się w harmonii i ciszy miejsc\, które są z mojego punktu widzenia prawdziwe.” \nINEZ BATURO\nUrodziła się w roku 1966. Mieszka w Bielsku-Białej. Filolog angielski. Członkini Związku Polskich Artystów Fotografików. Jedna z członków założycieli Związku Polskich Fotografów Przyrody. Należy do Agencji Forum oraz do IRIS Photo\, organizacji z siedzibą w Wielkiej Brytanii\, promującej światową fotografię kobiet. W latach 1992-2015 Inez Baturo prowadziła Wydawnictwo Baturo\, specjalizujące się w książkach albumowych\, które wypromowało prace wielu polskich artystów fotografików. Od roku 1992 do dnia dzisiejszego jest kuratorką Galerii Fotografii B&B w Bielsku-Białej (do roku 2017 wraz z nieżyjącym już Andrzejem Baturo). Fundatorka i prezes Fundacji Centrum Fotografii. Organizatorka biennale fotografii światowej – FotoArtFestivalu. Organizuje liczne kursy\, spotkania\, plenery fotograficzne i międzynarodowe projekty. Fotografie publikowała m. in. we Voyage\, Podróżach\, National Geographic. Jest autorką czterech albumów autorskich: Beskidy (dwie publikacje)\, Cieszyn\, Inez Baturo – fotografia pejzażowa (2013). Prace publikowała także w albumach zbiorowych pt.: Góry Polskie i Bielsko-Biała. Jej prace i biografia zostały ujęte w następujących publikacjach: „Mistrzowie polskiego pejzażu” oraz w prestiżowej publikacji autorstwa Naomi Rosenblum – „Women`s History of Photography” (Abbeville Press\, Nowy Jork) a także w „Donne & Fotografia” (Udine Musei\, Włochy). Przetłumaczyła z języka angielskiego „Historię fotografii światowej” Naomi Rosenblum\, największe tego typu opracowanie na świecie.\nWażniejsze nagrody to:\n– Nagroda Prezydenta Miasta Bielsko-Biała w dziedzinie kultury\n– Ikar 2005- Doroczna Nagroda Ministra Kultury i Dziedzictwa Narodowego za wybitne osiągnięcia w dziedzinie sztuk plastycznych (2007)\n– Stypendium Stowarzyszenia Autorów ZAiKS\, Warszawa 2011\, 2012\n– Nagroda Stowarzyszenia Autorów ZAiKS za osiągnięcia w dziedzinie sztuk wizualnych (2023)\nJej prace znajdują się w zbiorach:\n– British Library (Women`s Issues) w Londynie\n– Muzeum Historyczne (Zamek) w Bielsku-Białej\n– Zbiorach Specjalnych Wojewódzkiej Biblioteki Publicznej w Lublinie\n– Museum of Humanity (Wielka Brytania)\n– Ratusz\, Grand Rapids\, Michigan (USA)\n– i w zbiorach prywatnych
URL:https://kultura.tarnow.pl/wydarzenie/autoportret-naturalnie-inez-baturo-2024-03-09/2024-03-16/
LOCATION:Tarnowskie Centrum Kultury\, Rynek 5\, Tarnów\, małopolskie\, 33-100\, Polska
CATEGORIES:wystawy
ATTACH;FMTTYPE=image/jpeg:https://kultura.tarnow.pl/wp-content/uploads/1d9e32b009fc539f2e673227bbdcdabe.jpeg
GEO:50.012155;20.9878542
X-APPLE-STRUCTURED-LOCATION;VALUE=URI;X-ADDRESS=Tarnowskie Centrum Kultury Rynek 5 Tarnów małopolskie 33-100 Polska;X-APPLE-RADIUS=500;X-TITLE=Rynek 5:geo:20.9878542,50.012155
END:VEVENT
BEGIN:VEVENT
DTSTART;TZID=Europe/Warsaw:20240316T110000
DTEND;TZID=Europe/Warsaw:20240316T150000
DTSTAMP:20260422T022338
CREATED:20240229T124944Z
LAST-MODIFIED:20240229T124944Z
UID:10015474-1710586800-1710601200@kultura.tarnow.pl
SUMMARY:Kopia z mistrza – warsztaty malarskie inspirowane dziełami sztuki
DESCRIPTION:Chcesz na chwilę wejść w skórę słynnych artystek i artystów? Poczuć dreszczyk ekscytacji badając detale wybranego dzieła sztuki\, aby go jak najwierniej namalować? Młodzież i dorosłych zapraszamy na warsztaty\, podczas wykonamy jak najwierniejsze reprodukcje obrazów sztuki współczesnej. Każdy wybierze obraz dla siebie z przygotowanych albumów i wydruków. Będziemy mieszać farby\, by uzyskać kolory najbliższe oryginałów\, wykorzystamy technikę rzutowania i szablonu by zachować kompozycję i precyzję linii. Wykonane reprodukcje zostaną zaprezentowane w Dom.Ku podczas wystawy edukacyjnej „Kopia z mistrza”. Po wystawie będzie można zabrać wykonane reprodukcje do domu. Warsztaty prowadzi Dorota Omylska. \nWarsztaty są płatne: 50 zł od osoby. W cenie zapewniamy narzędzia i materiały (zagruntowane podłoże i farby akrylowe). Zapisy: 14 696 51 00
URL:https://kultura.tarnow.pl/wydarzenie/kopia-z-mistrza-warsztaty-malarskie-inspirowane-dzielami-sztuki/
LOCATION:Dom Kultury Westerplatte 8a\, Westerplatte 8a\, Tarnów\, Polska - małopolskie\, 33-100\, Polska
CATEGORIES:warsztaty
ATTACH;FMTTYPE=image/jpeg:https://kultura.tarnow.pl/wp-content/uploads/Kopia-z-mistrza_s-1.jpg
ORGANIZER;CN="Dom Kultury Westerplatte 8a":MAILTO:westerplatte@tck.pl
GEO:50.0273033;21.0087361
X-APPLE-STRUCTURED-LOCATION;VALUE=URI;X-ADDRESS=Dom Kultury Westerplatte 8a Westerplatte 8a Tarnów Polska - małopolskie 33-100 Polska;X-APPLE-RADIUS=500;X-TITLE=Westerplatte 8a:geo:21.0087361,50.0273033
END:VEVENT
BEGIN:VEVENT
DTSTART;TZID=Europe/Warsaw:20240316T110000
DTEND;TZID=Europe/Warsaw:20240316T170000
DTSTAMP:20260422T022338
CREATED:20230424T102333Z
LAST-MODIFIED:20230424T102333Z
UID:10014230-1710586800-1710608400@kultura.tarnow.pl
SUMMARY:Surrealizm – Salvador Dali i inni
DESCRIPTION:Artyści: Krystyna Baniowska\, Piotr Barszczowski\, Piotr Bubak\, Stanisław Chmiel\, Ewa Fleszar\, Roman Fleszar\, Weronika Fleszar\, Mateusz Kijak\, Kazimierz Klimkiewicz\, Stanisław Kucharzyk\, Elżbieta Pazera\, Witold Pazera\, Michał Poręba\, Elżbieta Remian\, Piotr Rączka\, Jerzy Ruszel\, Anna Śliwińska\, Kazimierz Twardowski\, Grzegorz Wójcik\, Aleksandra Zuba-Benn \nSłowo SUR – to NA\, np.: sur la table – na stole. SURREALIZM – NADREALIZM\, zorganizowany ruch intelektualny pierwszej ćwierci XX wieku powstały we Francji. Surrealiści przyjęli ten termin w hołdzie dla G. Apollinaire`a\, który pierwszy użył tego sformułowania w 1918 roku w podtytule swojej sztuki\, nadając ruchowi nowy sens. Wyrastał on z doświadczeń\, przeżyć i przemyśleń związanych z I wojną światową\, a wywodził się z dadaizmu. Jednym z dążeń surrealizmu było pełne wyzwolenie osobowości człowieka\, pojęte jako ujawnienie jego ukrytych sił\, pragnień i marzeń\, zepchniętych w podświadomość przez rozum i rozsądek\, ogólnie przyjęte zasady obyczajowe i moralne. \nMANIFEST SURREALIZMU w 1924 roku napisał – ogłosił Andre BRETON\, początkowo odnosił się do literatury\, szybko jednak zainteresowali się nim twórcy innych dziedzin sztuki – wspaniałym przykładem są tu artyści malarze\, graficy. MANIFEST otworzył prawo do mówienia o nadrzędności przestrzeni na pograniczu snu i jawy. Artyści szukali metod i sposobu na wyrażenie idei tego nowego ruchu\, środki jakimi się posługiwali przedstawiały elementy rzeczywistości ujęte w nadrealny\, fantastyczny sposób. Obrazy były zapisem ze snów\, urojeń\, stanów delirycznych\, czy wszelkich czynności wykonywanych bez kontroli rozumu. Elementy rzeczywistości miały wymykać się logice\, rewolucjonizować życie codzienne…..obiekty i przedmioty\, nawet człowiek\, powinny znaleźć się w innych bytach\, przejść transformację\, np: ”człowiek jest ucieleśnionym deszczem”\, inny zaś z młotem\, lub ma jabłko zamiast głowy\, otwierający drzwi których nie ma……. a jak czytać istoty ciekłe z waty\, z wężowych skór\, upierzone drzewa\, zwierzęta niesione wiatrem\, modelowane z piasku. Surrealizm to miejsce spotkań najróżniejszych obiektów pochodzących z odmiennych kontekstów\, gdzie wszystko nabiera nowych nieoczekiwanych znaczeń……. np.: ”człowiek klatka schodowa\, człowiek litera\, ogryziona kość\, kropka\, strzęp\, kula\, człowiek trumna\, piszczałka\, sznurówka\, bagaż\, mgła i człowiek osad”\, a książka która gryzie ręce albo kłuje w oczy – tu przedmiot został wyzwolony i stał się wampirem\, książka dostaje przeciwstawną do swojej nową naturę. Bretonowskie ”puszczenie w obieg” przedmiotów dla wielu artystów stało się inspiracją do dania im nowego życia. Aktywność rzeczy dotychczas martwych\, obiektów nieuzależnionych od kontroli rozumu to niewyczerpane źródło tematów\, np.: ”wiatr upadł twarzą na ziemię”\, krzak śpiewa psalm”\, powietrze\, woda\, ziemia\, ogień\, barany\, smoki\, stwory złożone z mieczy\, igieł\, sztyletów. Do dziś wielu artystów korzysta i odwołuje się do postulowanego przez Bretona ”modelu wewnętrznego” czyli poszukiwania w sferze podświadomości\, jak to się dzieje\, mamy to każdego dnia: reklama\, teledyski\, wideoklipy. Nie ulega wątpliwości\, że surrealizm\, nie tylko twórcom\, ale i odbiorcom otworzył nowe obszary wyobraźni. \nKrystyna Baniowska Stąsiek Meyer (Wstęp do katalogu wystawy) \n 
URL:https://kultura.tarnow.pl/wydarzenie/surrealizm-salvador-dali-i-inni/2024-03-16/
LOCATION:Galeria ARTEKA\, Wałowa 16\, Tarnów\, 33-100
CATEGORIES:wystawy
ORGANIZER;CN="Stowarzyszenie Tarnowskich Artyst%C3%B3w Plastyk%C3%B3w":MAILTO:stowarzyszenie.arteka@gmail.com
END:VEVENT
BEGIN:VEVENT
DTSTART;TZID=Europe/Warsaw:20240316T110000
DTEND;TZID=Europe/Warsaw:20240316T170000
DTSTAMP:20260422T022338
CREATED:20240229T113052Z
LAST-MODIFIED:20240229T113155Z
UID:10015514-1710586800-1710608400@kultura.tarnow.pl
SUMMARY:"Sacrum" wystawa STAP
DESCRIPTION:Zapraszamy serdecznie na zbiorową wystawę \,\,SACRUM”\, w której biorą udział członkowie STAP.\nWernisaż odbędzie się dnia 29 lutego o godz. 18.00 w Galerii ARTEKA\, na ul. Wałowej 16 w Tarnowie. \nNazwaliśmy tą wystawę SACRUM \,ponieważ jest to pojęcie bardzo szerokie. Można go rozpatrywać na wielu płaszczyznach-teologicznej\, filozoficznej\, etycznej \,estetycznej i innych. Nas interesuje wątek związany ze sztuką\, a konkretniej ze sztuką o tematyce religijnej. Od początków dziejów człowiek poruszał ten temat\, a ślady prowadzą jeszcze do malarstwa jaskiniowego\, gdzie można zidentyfikować różne bóstwa narysowane\, wyryte\, namalowane na ścianach. We wszystkich religiach świata odnaleźć można przykłady przedstawień i symboli związanych z wiarą. \n\n\nNa naszej wystawie prezentujemy prace na temat Sacrum bardziej\, lub mniej wnikające w istotę tematu\, indywidualne rozważania i przemyślenia dotyczące religii\, wiary\, świętości. I nie są to już dzieła religijne \,lecz o tematyce religijnej. Zapraszamy do zobaczenia\, kontemplacji i przemyślenia treści dzieł prezentowanych w naszej galerii.\n\nArtyści:\nKrystyna Baniowska-Stąsiek\, Piotr F. Barszczowski\, Marek Benewiat\, Piotr Bubak\, Stanisław Chmiel\, Piotr Figiel\, Ewa Fleszar\, Roman Fleszar\, Weronika Fleszar\, Tomasz Głowacz\, Lidia Połeć-Kantor\, Kazimierz Klimkiewicz\, Roman Kobylarz\, Jerzy Martynów\, Marek Niedojadło\, Michał Poręba\, Piotr Rączka\, Jerzy Ruszel\, Anna Skupińska\, Anna Śliwińska\, Kazimierz Twardowski\, Bożena Wojtanowska\, Grzegorz Wójcik\, Aleksandra Zuba-Benn.\n\n\n\nWystawa będzie otwarta od 29.02 do 30.03.2024 r.\nWstęp wolny\nGODZINY OTWARCIA:\nwtorek – sobota\ngodz. 11:00 – 17:00\n\n 
URL:https://kultura.tarnow.pl/wydarzenie/sacrum-wystawa-stap-2024-03-01/2024-03-16/
LOCATION:Galeria ARTEKA\, Wałowa 16\, Tarnów\, 33-100
CATEGORIES:wystawy
ATTACH;FMTTYPE=image/jpeg:https://kultura.tarnow.pl/wp-content/uploads/424953060_316102434793516_7107905027067486345_n.jpg
ORGANIZER;CN="Stowarzyszenie Tarnowskich Artyst%C3%B3w Plastyk%C3%B3w":MAILTO:stowarzyszenie.arteka@gmail.com
END:VEVENT
BEGIN:VEVENT
DTSTART;TZID=Europe/Warsaw:20240316T180000
DTEND;TZID=Europe/Warsaw:20240316T193000
DTSTAMP:20260422T022338
CREATED:20240306T115243Z
LAST-MODIFIED:20240306T120710Z
UID:10015568-1710612000-1710617400@kultura.tarnow.pl
SUMMARY:Vołosi i Rondine
DESCRIPTION:Nazwani przez krytyków jednym z najbardziej ekscytujących zespołów na współczesnej scenie\, VOŁOSI są hipnotyzującym zderzeniem tradycji ze współczesnością. \n„Słuchać i patrzeć na nich to jak być pod zaklęciem” Jun-Lin Yeoh\, Rainforest World Music Festival \nIch historia rozpoczęła się w 2010 roku\, kiedy to bracia Krzysztof i Stanisław Lasoniowie spotkali tradycyjnych artystów w sercu polskich Beskidów. Razem z Janem Kaczmarzykiem\, Robertem Waszutem i Zbigniewem Michałkiem wypracowali indywidualny styl: dynamiczny\, finezyjny i emocjonalny. Odtąd pojawili się na scenie ponad 820 razy w 37 krajach świata. \nGrali w: Het Concertgebouw Amsterdam (Holandia)\, Sziget Festival (Węgry)\, St Martin-in-the-Fields i Kings Place w Londynie\, WOMAD Festival (Anglia)\, Wiener Konzerthaus (Austria)\, Colours of Ostrava (Czechy)\, Rainforest World Music Festival (Malezja)\, Shenzhen International Music Festival (Chiny)\, Stockholms Stadshuset (Szwecja)\, Hamamatsu World Music Festival (Japonia). \nOtwierali targi WOMEX 2017\, wystąpili na gali wręczenia Stockholm Water Prize na zaproszenie Króla Szwecji Karola XVI Gustawa. Byli gośćmi legendarnej koreańskiej audycji radiowej MBC „Bae Cheolsoo’s Music Camp”. Katie Derham zaprosiła ich do audycji „In Tune” w BBC.\nWielokrotnie nagradzani\, zdobyli Grand Prix i wszystkie pozaregulaminowe nagrody na festiwalu „Nowa Tradycja” 2010\, Grand Prix „Svetozar Stracina EBU Festival”\, Grand Prix „Czech Music Crossroads”\, 2016\, 2. miejsce na liście przebojów World Music Charts Europe i 1. miejsce na Balkan World Music Chart. Otrzymali tytuł płyty roku brytyjskiego miesięcznika „Songlines”.\nWspółpracowali z Niazem Diasamidze\, 33a\, Felixem Lajko\, Alexandrem Balanescu\, Lo’jo\, Sigrid Moldestad Trio. \nMary Ann Kennedy z BBC pisze o nich: \nVOŁOSI to rewelacja – ich zniewalająca energią gra przekracza muzyczne i geograficzne granice\ntworząc absolutnie nieodpartą mieszankę. Spróbujcie ich nie pokochać! \nOrkiestra Rondine to zespół działający od 2022 roku przy Centrum Sztuki Mościce w Tarnowie. Tworzą go muzycy z bogatym doświadczeniem scenicznym. Trzonem orkiestry jest 15-osobowy kwintet smyczkowy\, powiększany w zależności od programu\, o dodatkowe instrumenty\, takie jak flet\, klarnet\, saksofon czy instrumenty perkusyjne.\nOrkiestrę prowadzi Katarzyna Wrona.
URL:https://kultura.tarnow.pl/wydarzenie/volosi-i-rondine/
LOCATION:Centrum Sztuki Mościce\, Traugutta 1\, Tarnów\, małopolskie\, 33-101\, Polska
CATEGORIES:koncerty
ATTACH;FMTTYPE=image/jpeg:https://kultura.tarnow.pl/wp-content/uploads/Vołosi-i-Rondine-wiata2.jpg
GEO:50.009833;20.92706
X-APPLE-STRUCTURED-LOCATION;VALUE=URI;X-ADDRESS=Centrum Sztuki Mościce Traugutta 1 Tarnów małopolskie 33-101 Polska;X-APPLE-RADIUS=500;X-TITLE=Traugutta 1:geo:20.92706,50.009833
END:VEVENT
END:VCALENDAR