BEGIN:VCALENDAR
VERSION:2.0
PRODID:-//kultura.tarnów - ECPv6.4.0.1//NONSGML v1.0//EN
CALSCALE:GREGORIAN
METHOD:PUBLISH
X-WR-CALNAME:kultura.tarnów
X-ORIGINAL-URL:https://kultura.tarnow.pl
X-WR-CALDESC:Wydarzenia dla
REFRESH-INTERVAL;VALUE=DURATION:PT1H
X-Robots-Tag:noindex
X-PUBLISHED-TTL:PT1H
BEGIN:VTIMEZONE
TZID:Europe/Warsaw
BEGIN:DAYLIGHT
TZOFFSETFROM:+0100
TZOFFSETTO:+0200
TZNAME:CEST
DTSTART:20240331T010000
END:DAYLIGHT
BEGIN:STANDARD
TZOFFSETFROM:+0200
TZOFFSETTO:+0100
TZNAME:CET
DTSTART:20241027T010000
END:STANDARD
END:VTIMEZONE
BEGIN:VEVENT
DTSTART;TZID=Europe/Warsaw:20240310T090000
DTEND;TZID=Europe/Warsaw:20240310T170000
DTSTAMP:20260422T022346
CREATED:20240219T090540Z
LAST-MODIFIED:20240219T090627Z
UID:10015367-1710061200-1710090000@kultura.tarnow.pl
SUMMARY: Wewnętrzny horyzont
DESCRIPTION:Biuro Wystaw Artystycznych w Tarnowie zaprasza na wystawę „Wewnętrzny horyzont” \nArtyści i artystki: Agnieszka Bartak-Lisikiewicz\, Dominika Borek\, Magdalena Daniec\, Tomasz Daniec\, Grzegorz Frydryk\, Piotr Idzi\, Antonina Janus-Szybist\, Paweł Marcinek\, Agnieszka Pawłowska-Górska\, Agnieszka Piksa \nPrace z kolekcji Małopolskiej Fundacji Muzeum Sztuki Współczesnej: Aneta Grzeszykowska & Jan Smaga\, Miho Iwata \nKuratorzy: Dominika Borek\, Paweł Marcinek \nWystawa czynna do 28.03.2024 r.: \nPoniedziałek-czwartek 9:00-17:00\nNiedziela 9:00-17:00 \nProjekt finansowany ze środków Akademii Tarnowskiej\, umowa nr BAD-05/2023 Wewnętrzny horyzont.
URL:https://kultura.tarnow.pl/wydarzenie/wewnetrzny-horyzont-2/2024-03-10/
LOCATION:BWA na Dworcu PKP\, Plac Dworcowy 4\, Tarnów\, małopolskie\, 33-100\, Polska
CATEGORIES:wystawy
ORGANIZER;CN="Biuro Wystaw Artystycznych":MAILTO:biuro@bwa.tarnow.pl
GEO:50.0057629;20.9744639
X-APPLE-STRUCTURED-LOCATION;VALUE=URI;X-ADDRESS=BWA na Dworcu PKP Plac Dworcowy 4 Tarnów małopolskie 33-100 Polska;X-APPLE-RADIUS=500;X-TITLE=Plac Dworcowy 4:geo:20.9744639,50.0057629
END:VEVENT
BEGIN:VEVENT
DTSTART;TZID=Europe/Warsaw:20240310T153000
DTEND;TZID=Europe/Warsaw:20240310T173000
DTSTAMP:20260422T022346
CREATED:20231208T094202Z
LAST-MODIFIED:20231208T094202Z
UID:10015146-1710084600-1710091800@kultura.tarnow.pl
SUMMARY:Kabaret Neo-Nówka "Tradycje Polskie"
DESCRIPTION:Podobno pewnych imion nie można wzywać nadaremno. A Kabaret Neo-Nówka kiedyś jedno takie zawezwał i to przez telefon… Oj co się wtedy wydarzyło… 😉 Tym razem zapraszamy na najnowszy program Romana Żurka\, Michała Gawlińskiego i Radosława Bieleckiego p.t. Tradycje Polskie! Podobno „Tradycja w narodzie rzecz święta” – czy aby na pewno? Jak polskie tradycje wyglądają widziane oczami Kabaretu Neo-Nówka? Tego jeszcze nie zdradzimy. Jedno jest pewne – czeka Was duża dawka dobrego humoru i premierowe skecze\, których nie znajdziecie w telewizyjnych programach czy w Internecie. „Tradycje Polskie” to gwarancja niezwykle udanego wieczoru. Czy po raz kolejny będzie kontrowersyjnie? Przyjdź i przekonaj się sam! \n \n 
URL:https://kultura.tarnow.pl/wydarzenie/kabaret-neo-nowka-tradycje-polskie/
LOCATION:Arena Jaskółka Tarnów\, ul. Traugutta 3B\, Tarnów\, Polska - małopolskie\, 33-101\, Polska
CATEGORIES:kabarety
ATTACH;FMTTYPE=image/jpeg:https://kultura.tarnow.pl/wp-content/uploads/e14c95f6bddfd2baf394a7237d6e92fc.jpg
GEO:50.009086;20.929684
X-APPLE-STRUCTURED-LOCATION;VALUE=URI;X-ADDRESS=Arena Jaskółka Tarnów ul. Traugutta 3B Tarnów Polska - małopolskie 33-101 Polska;X-APPLE-RADIUS=500;X-TITLE=ul. Traugutta 3B:geo:20.929684,50.009086
END:VEVENT
BEGIN:VEVENT
DTSTART;TZID=Europe/Warsaw:20240310T170000
DTEND;TZID=Europe/Warsaw:20240310T180000
DTSTAMP:20260422T022346
CREATED:20240229T124236Z
LAST-MODIFIED:20240229T124236Z
UID:10015561-1710090000-1710093600@kultura.tarnow.pl
SUMMARY:Koncercik „Być Kobietą”
DESCRIPTION:Znamy się tylko z widzenia\, ale możemy spotkać się w Dom.Ku\, by wspólnie posłuchać najpiękniejszych piosenek o kobietach i miłości w wykonaniu zespołu STOLAT (działającego przy Domu Kultury Westerplatte). Zapraszamy tych\, co mają blisko i tych\, którzy muszą pofatygować się autobusem lub wsiąść do pociągu ściskając w ręku kamień zielony (i bilet oczywiście). Bartek Szułakiewicz zagra na klawiszach\, a panie słowami Anny Marii zaśpiewają jak to jest być kobietą. Wstęp bezpłatny.
URL:https://kultura.tarnow.pl/wydarzenie/koncercik-byc-kobieta/
LOCATION:Dom Kultury Westerplatte 8a\, Westerplatte 8a\, Tarnów\, Polska - małopolskie\, 33-100\, Polska
CATEGORIES:koncerty
ATTACH;FMTTYPE=image/jpeg:https://kultura.tarnow.pl/wp-content/uploads/Być-kobietą_100Lat_s.jpg
ORGANIZER;CN="Dom Kultury Westerplatte 8a":MAILTO:westerplatte@tck.pl
GEO:50.0273033;21.0087361
X-APPLE-STRUCTURED-LOCATION;VALUE=URI;X-ADDRESS=Dom Kultury Westerplatte 8a Westerplatte 8a Tarnów Polska - małopolskie 33-100 Polska;X-APPLE-RADIUS=500;X-TITLE=Westerplatte 8a:geo:21.0087361,50.0273033
END:VEVENT
BEGIN:VEVENT
DTSTART;TZID=Europe/Warsaw:20240310T180000
DTEND;TZID=Europe/Warsaw:20240310T200000
DTSTAMP:20260422T022346
CREATED:20240221T084945Z
LAST-MODIFIED:20240221T084945Z
UID:10015453-1710093600-1710100800@kultura.tarnow.pl
SUMMARY:The Backwards - Beatlemania
DESCRIPTION:The Backwards – czołowy światowy zespół odtwarzający pełną twórczość grupy The Beatles – od Beatlemanii do rozbudowanych aranżacji z ostatnich płyt (Sgt. Pepper\, Abbey Road\, Let It Be)\, których nawet sami The Beatles nigdy nie wykonali publicznie. \nZespół powstał w 1996 roku w Koszycach na Słowacji. Do dnia dzisiejszego The Backwards zagrali przeszło 3000 entuzjastycznie przyjętych koncertów w Europie (Francja\, Holandia\, Belgia\, Niemcy\, Austria\, Węgry\, Hiszpania\, Wielka Brytania\, Czechy\, Słowacja) i USA (koncerty w 24 Stanach)\, występowali w programach telewizyjnych\, radiowych i produkcjach teatralnych. Ich musicalowy show „Beatles Legends” cieszył się taką popularnością w Czeskiej Pradze\, że nie schodził z afisza przez rok. \nTeraz mogą Państwo zobaczyć ich występ u siebie. To nie tylko koncert\, ale niemal iluzjonistyczne widowisko jak najwierniej oddające realia występów i twórczości The Beatles\, bez żadnych kompromisów\, w 100% na żywo (włącznie z partiami orkiestrowymi granymi na instrumentach klawiszowych)\, z dokładnie takimi samymi gitarami używanymi zgodnie z historyczną dokładnością w poszczególnych utworach (w sumie widzimy ich kilkanaście)\, z basistą grającym lewą ręką jak Paul McCartney\, w strojach będących wiernymi kopiami oryginalnych ubiorów słynnej Czwórki z Liverpoolu\, w perukach zmienianych stosownie do wyglądu Johna\, Paula\, George’a i Ringo w poszczególnych latach\, a przede wszystkim z żywą muzyką w każdym detalu do złudzenia wiernie oddającą brzmienie zarówno instrumentów jak i partii wokalnych ze zdumiewająco naśladowaną barwą głosu! \nDzięki The Backwards możemy przenieść się w czasie i wszystkimi zmysłami doświadczyć tego co słyszymy w nagraniach The Beatles!
URL:https://kultura.tarnow.pl/wydarzenie/the-backwards-beatlemania/
LOCATION:Centrum Sztuki Mościce\, Traugutta 1\, Tarnów\, małopolskie\, 33-101\, Polska
CATEGORIES:koncerty
ATTACH;FMTTYPE=image/jpeg:https://kultura.tarnow.pl/wp-content/uploads/img_1d2294f027b2fd87945192ddb91c40aa.jpeg
GEO:50.009833;20.92706
X-APPLE-STRUCTURED-LOCATION;VALUE=URI;X-ADDRESS=Centrum Sztuki Mościce Traugutta 1 Tarnów małopolskie 33-101 Polska;X-APPLE-RADIUS=500;X-TITLE=Traugutta 1:geo:20.92706,50.009833
END:VEVENT
END:VCALENDAR