BEGIN:VCALENDAR
VERSION:2.0
PRODID:-//kultura.tarnów - ECPv6.4.0.1//NONSGML v1.0//EN
CALSCALE:GREGORIAN
METHOD:PUBLISH
X-ORIGINAL-URL:https://kultura.tarnow.pl
X-WR-CALDESC:Wydarzenia dla
REFRESH-INTERVAL;VALUE=DURATION:PT1H
X-Robots-Tag:noindex
X-PUBLISHED-TTL:PT1H
BEGIN:VTIMEZONE
TZID:Europe/Warsaw
BEGIN:DAYLIGHT
TZOFFSETFROM:+0100
TZOFFSETTO:+0200
TZNAME:CEST
DTSTART:20240331T010000
END:DAYLIGHT
BEGIN:STANDARD
TZOFFSETFROM:+0200
TZOFFSETTO:+0100
TZNAME:CET
DTSTART:20241027T010000
END:STANDARD
END:VTIMEZONE
BEGIN:VEVENT
DTSTART;TZID=Europe/Warsaw:20240306T080000
DTEND;TZID=Europe/Warsaw:20240306T170000
DTSTAMP:20260422T022520
CREATED:20240229T124102Z
LAST-MODIFIED:20240229T124102Z
UID:10015555-1709712000-1709744400@kultura.tarnow.pl
SUMMARY:Tarnów opisany – akcja dźwiękowa z okazji 694. rocznicy założenia miasta
DESCRIPTION:Codziennie je mijamy: zabytkowe obiekty\, charakterystyczne budynki\, jedyne w swoim rodzaju miejsca\, które rozpozna każda osoba mieszkająca w Tarnowie. Wystarczy przysłowiowy „rzut oka”. A jak te obiekty widzą dzieci? \nPobaw się z nami w odgadywanie tarnowskich miejsc i obiektów na podstawie opisów dźwiękowych nagranych przez dzieci z grupy teatralno-muzycznej Dom.Ku. Przez trzy dni\, w naszych mediach społecznościowych opublikujemy 10 nagrań. \nOdsłuchaj je i zgadnij\, o jakim obiekcie\, miejscu mówią dzieciaki\, ale nie wpisuj nigdzie jego nazwy! Czekamy wyłącznie na odpowiedzi plastyczne – w komentarzu pod danym opisem wklej zdjęcie rysunku wykonanego przez dziecko. Konkurs plastyczny trwa do 15 marca\, a najciekawsze prace zostaną nagrodzone. Akcja zorganizowana z okazji 694. rocznicy założenia Tarnowa. \nRegulamin konkursu jest dostępny na stronie  www.tck.pl pod opisem akcji.
URL:https://kultura.tarnow.pl/wydarzenie/tarnow-opisany-akcja-dzwiekowa-z-okazji-694-rocznicy-zalozenia-miasta/2024-03-06/
LOCATION:Dom Kultury Westerplatte 8a\, Westerplatte 8a\, Tarnów\, Polska - małopolskie\, 33-100\, Polska
CATEGORIES:konkursy
ATTACH;FMTTYPE=image/jpeg:https://kultura.tarnow.pl/wp-content/uploads/Tarnow-opisany_akcja-dźwiękowa_s.jpg
ORGANIZER;CN="Dom Kultury Westerplatte 8a":MAILTO:westerplatte@tck.pl
GEO:50.0273033;21.0087361
X-APPLE-STRUCTURED-LOCATION;VALUE=URI;X-ADDRESS=Dom Kultury Westerplatte 8a Westerplatte 8a Tarnów Polska - małopolskie 33-100 Polska;X-APPLE-RADIUS=500;X-TITLE=Westerplatte 8a:geo:21.0087361,50.0273033
END:VEVENT
BEGIN:VEVENT
DTSTART;TZID=Europe/Warsaw:20240306T090000
DTEND;TZID=Europe/Warsaw:20240306T150000
DTSTAMP:20260422T022520
CREATED:20240304T115149Z
LAST-MODIFIED:20240304T115227Z
UID:10015487-1709715600-1709737200@kultura.tarnow.pl
SUMMARY:Seamus Heaney – życie i twórczość
DESCRIPTION:Od 6 marca do 5 kwietnia br. Galeria Niebieska MBP (ul. Krakowska 4) będzie gościć przygotowaną przez Fundację Kultury Irlandzkiej wystawę\, prezentującą życie i twórczość irlandzkiego Laureata Nagrody Nobla – Seamusa Heaneya. \n  \nO wystawie:\nNa 8 panelach umieszczone zostały informacje wprowadzające odbiorcę w świat wierszy Noblisty\, ukazują fragmenty jego biografii\, tłumaczeń i publikacji a także bliskich związków z Polską. Wszystkie te elementy mogą być pomocne w bliższym poznaniu jego twórczości. \nSeamus Heaney w swoich wierszach poruszał tematykę związaną z własnym dzieciństwem\, trudną sytuacją w Irlandii Północnej\, uniwersalnymi prawdami i uczuciami. W skład wystawy wchodzi przekrój jego wierszy i fragmenty prozy nawiązujące do tych właśnie tematów. Jako organizatorzy jesteśmy świadomi\, że nie są w stanie wyczerpać tematyki związanej z bogatą twórczością i życiem Noblisty\, sygnalizują i wskazują kierunek poznania niesamowitej osoby Autora. Zachęcają do sięgnięcia po jego liczne wiersze i eseje\, zagłębienia się w Jego twórczość. \n  \nSeamus Heaney\n(ur. 13 kwietnia 1939\, zm. 30 sierpnia 2013) irlandzki poeta\, eseista i dramaturg\, nazywany „najważniejszym poetą irlandzkim od czasów Yeatsa”. W 1995 r. nagrodzony Nagrodą Nobla w dziedzinie literatury za „dzieła charakteryzujące się lirycznym pięknem i etyczną głębią\, które sławią cuda dnia powszedniego i żywą przeszłość”. Oprócz poezji Heaney zajmował się także krytyką literacką\, dramatopisarstwem oraz tłumaczeniami\, wydał m.in. wierszowane tłumaczenie staroangielskiego eposu Beowulf. Za swoją misję uważał również popularyzowanie literatury\, uczestnicząc w licznych programach radiowych i telewizyjnych (np. w produkcjach BBC). W jego dorobku znalazły się także wiersze inspirowane poezją polskich autorów m.in. Zbigniewa Herberta czy angielskie tłumaczenie „Trenów” Kochanowskiego\, wydane wspólnie ze Stanisławem Barańczakiem w 1994 r. Heaney dał się poznać jako wielki przyjaciel Polski\, gdzie bywał częstym gościem m.in. w Krakowie podczas Spotkań Poetów\, gdzie zawarł bliską znajomość z innymi noblistami Czesławem Miłoszem i Wisławą Szymborską. W 2005 roku otrzymał tytuł doktora honoris causa Uniwersytetu Jagiellońskiego. \n \nOprowadzanie po wystawie i lekcje dla grup zorganizowanych:\nAnna Sadowska\, e-mail: sadowska@biblioteka.tarnow.pl\, tel.: 14 688 80 21\, wew. 22. \nZapraszamy na bezpłatne oprowadzanie po wystawie klas 7 i 8 Szkół Podstawowych oraz Szkół Ponadpodstawowych. W programie znajduje się przybliżenie postaci noblisty Seamusa Heaneya a także Irlandii\, jej historii\, kultury i tradycji.
URL:https://kultura.tarnow.pl/wydarzenie/seamus-heaney-zycie-i-tworczosc/2024-03-06/
LOCATION:Galeria Niebieska Miejskiej Biblioteki Publicznej im. J. Słowackiego w Tarnowie\, ul. Krakowska 4\, Tarnów\, małopolskie\, 33-100\, Polska
CATEGORIES:wystawy
ATTACH;FMTTYPE=image/jpeg:https://kultura.tarnow.pl/wp-content/uploads/Heaney_plakat-A3.jpg
GEO:50.0114517;20.9842414
X-APPLE-STRUCTURED-LOCATION;VALUE=URI;X-ADDRESS=Galeria Niebieska Miejskiej Biblioteki Publicznej im. J. Słowackiego w Tarnowie ul. Krakowska 4 Tarnów małopolskie 33-100 Polska;X-APPLE-RADIUS=500;X-TITLE=ul. Krakowska 4:geo:20.9842414,50.0114517
END:VEVENT
BEGIN:VEVENT
DTSTART;TZID=Europe/Warsaw:20240306T090000
DTEND;TZID=Europe/Warsaw:20240306T170000
DTSTAMP:20260422T022520
CREATED:20240219T090540Z
LAST-MODIFIED:20240219T090627Z
UID:10015365-1709715600-1709744400@kultura.tarnow.pl
SUMMARY: Wewnętrzny horyzont
DESCRIPTION:Biuro Wystaw Artystycznych w Tarnowie zaprasza na wystawę „Wewnętrzny horyzont” \nArtyści i artystki: Agnieszka Bartak-Lisikiewicz\, Dominika Borek\, Magdalena Daniec\, Tomasz Daniec\, Grzegorz Frydryk\, Piotr Idzi\, Antonina Janus-Szybist\, Paweł Marcinek\, Agnieszka Pawłowska-Górska\, Agnieszka Piksa \nPrace z kolekcji Małopolskiej Fundacji Muzeum Sztuki Współczesnej: Aneta Grzeszykowska & Jan Smaga\, Miho Iwata \nKuratorzy: Dominika Borek\, Paweł Marcinek \nWystawa czynna do 28.03.2024 r.: \nPoniedziałek-czwartek 9:00-17:00\nNiedziela 9:00-17:00 \nProjekt finansowany ze środków Akademii Tarnowskiej\, umowa nr BAD-05/2023 Wewnętrzny horyzont.
URL:https://kultura.tarnow.pl/wydarzenie/wewnetrzny-horyzont-2/2024-03-06/
LOCATION:BWA na Dworcu PKP\, Plac Dworcowy 4\, Tarnów\, małopolskie\, 33-100\, Polska
CATEGORIES:wystawy
ORGANIZER;CN="Biuro Wystaw Artystycznych":MAILTO:biuro@bwa.tarnow.pl
GEO:50.0057629;20.9744639
X-APPLE-STRUCTURED-LOCATION;VALUE=URI;X-ADDRESS=BWA na Dworcu PKP Plac Dworcowy 4 Tarnów małopolskie 33-100 Polska;X-APPLE-RADIUS=500;X-TITLE=Plac Dworcowy 4:geo:20.9744639,50.0057629
END:VEVENT
BEGIN:VEVENT
DTSTART;TZID=Europe/Warsaw:20240306T100000
DTEND;TZID=Europe/Warsaw:20240306T170000
DTSTAMP:20260422T022520
CREATED:20240219T090259Z
LAST-MODIFIED:20240219T090259Z
UID:10015540-1709719200-1709744400@kultura.tarnow.pl
SUMMARY:Twój maszkaron
DESCRIPTION:Wystawa powstała we współpracy Biura Wystaw Artystycznych i inicjatywy @niezlemiejsce. Jest prezentacją efektów pracy z warsztatów odbywających się w grudniu 2023\, które były nagrodą w konkursie. Zadaniem uczestniczących grup było przygotowanie wystawy prezentującej kolorowanki z Architektonicznego Elementarza Tarnowa. Konkurs miał na celu rozwijanie przestrzennej świadomości u dzieci oraz ich obcowanie z architektoniczną wiedzą na elementarnym poziomie. W efekcie warsztatów powstało około 130 małych maszkaronów\, które stały się tematem przewodnim wystawy. \nDo wystawy został stworzony profil na instagramie @twoj_maszakaron\, dzięki któremu każdy zwiedzający ekspozycję może stać się [maszkaronem] jej częścią! – przyjdź na Wałową 25 i dowiedz się więcej! \nProwadzący warsztaty: Akademia Architektury – Sonia i Bartłomiej Pochopień \nW programie wystawy: \nWarsztaty z animacji poklatkowej – szczegóły wkrótce \nWystawa czynna 14.02-7.03.2024: \nponiedziałek\, środa\, czwartek 10:00-17:00 \nniedziela: 10:00-17:00\, wstęp wolny (na wystawę i wydarzenia) \nZwycięskie grupy: \nPrzedszkola \nI miejsce: grupy VI\, V i IV – Przedszkole Publiczne nr 32 w Tarnowie \nII miejsce: Przedszkole Publiczne nr 33 w Tarnowie \nIII miejsce: Przedszkole Publiczne nr 5 w Tarnowie \nSzkoły podstawowe \nI miejsce: Społeczna Szkoła Podstawowa nr 2 STO w Tarnowie \nII miejsce: Szkoła Podstawowa nr 23 w Tarnowie \nIII miejsce: Szkoła Podstawowa nr 14 w Tarnowie (klasa 3b)
URL:https://kultura.tarnow.pl/wydarzenie/twoj-maszkaron/2024-03-06/
LOCATION:Multimedialne Centrum Artystyczne\, Wałowa 25\, Tarnów\, małopolskie\, 33-100\, Polska
CATEGORIES:wystawy
ATTACH;FMTTYPE=image/png:https://kultura.tarnow.pl/wp-content/uploads/Twoj-maszkaron_grafika.png
ORGANIZER;CN="Biuro Wystaw Artystycznych":MAILTO:biuro@bwa.tarnow.pl
GEO:50.013866931068;20.987989998201
X-APPLE-STRUCTURED-LOCATION;VALUE=URI;X-ADDRESS=Multimedialne Centrum Artystyczne Wałowa 25 Tarnów małopolskie 33-100 Polska;X-APPLE-RADIUS=500;X-TITLE=Wałowa 25:geo:20.987989998201,50.013866931068
END:VEVENT
BEGIN:VEVENT
DTSTART;TZID=Europe/Warsaw:20240306T110000
DTEND;TZID=Europe/Warsaw:20240306T170000
DTSTAMP:20260422T022520
CREATED:20230424T102333Z
LAST-MODIFIED:20230424T102333Z
UID:10014222-1709722800-1709744400@kultura.tarnow.pl
SUMMARY:Surrealizm – Salvador Dali i inni
DESCRIPTION:Artyści: Krystyna Baniowska\, Piotr Barszczowski\, Piotr Bubak\, Stanisław Chmiel\, Ewa Fleszar\, Roman Fleszar\, Weronika Fleszar\, Mateusz Kijak\, Kazimierz Klimkiewicz\, Stanisław Kucharzyk\, Elżbieta Pazera\, Witold Pazera\, Michał Poręba\, Elżbieta Remian\, Piotr Rączka\, Jerzy Ruszel\, Anna Śliwińska\, Kazimierz Twardowski\, Grzegorz Wójcik\, Aleksandra Zuba-Benn \nSłowo SUR – to NA\, np.: sur la table – na stole. SURREALIZM – NADREALIZM\, zorganizowany ruch intelektualny pierwszej ćwierci XX wieku powstały we Francji. Surrealiści przyjęli ten termin w hołdzie dla G. Apollinaire`a\, który pierwszy użył tego sformułowania w 1918 roku w podtytule swojej sztuki\, nadając ruchowi nowy sens. Wyrastał on z doświadczeń\, przeżyć i przemyśleń związanych z I wojną światową\, a wywodził się z dadaizmu. Jednym z dążeń surrealizmu było pełne wyzwolenie osobowości człowieka\, pojęte jako ujawnienie jego ukrytych sił\, pragnień i marzeń\, zepchniętych w podświadomość przez rozum i rozsądek\, ogólnie przyjęte zasady obyczajowe i moralne. \nMANIFEST SURREALIZMU w 1924 roku napisał – ogłosił Andre BRETON\, początkowo odnosił się do literatury\, szybko jednak zainteresowali się nim twórcy innych dziedzin sztuki – wspaniałym przykładem są tu artyści malarze\, graficy. MANIFEST otworzył prawo do mówienia o nadrzędności przestrzeni na pograniczu snu i jawy. Artyści szukali metod i sposobu na wyrażenie idei tego nowego ruchu\, środki jakimi się posługiwali przedstawiały elementy rzeczywistości ujęte w nadrealny\, fantastyczny sposób. Obrazy były zapisem ze snów\, urojeń\, stanów delirycznych\, czy wszelkich czynności wykonywanych bez kontroli rozumu. Elementy rzeczywistości miały wymykać się logice\, rewolucjonizować życie codzienne…..obiekty i przedmioty\, nawet człowiek\, powinny znaleźć się w innych bytach\, przejść transformację\, np: ”człowiek jest ucieleśnionym deszczem”\, inny zaś z młotem\, lub ma jabłko zamiast głowy\, otwierający drzwi których nie ma……. a jak czytać istoty ciekłe z waty\, z wężowych skór\, upierzone drzewa\, zwierzęta niesione wiatrem\, modelowane z piasku. Surrealizm to miejsce spotkań najróżniejszych obiektów pochodzących z odmiennych kontekstów\, gdzie wszystko nabiera nowych nieoczekiwanych znaczeń……. np.: ”człowiek klatka schodowa\, człowiek litera\, ogryziona kość\, kropka\, strzęp\, kula\, człowiek trumna\, piszczałka\, sznurówka\, bagaż\, mgła i człowiek osad”\, a książka która gryzie ręce albo kłuje w oczy – tu przedmiot został wyzwolony i stał się wampirem\, książka dostaje przeciwstawną do swojej nową naturę. Bretonowskie ”puszczenie w obieg” przedmiotów dla wielu artystów stało się inspiracją do dania im nowego życia. Aktywność rzeczy dotychczas martwych\, obiektów nieuzależnionych od kontroli rozumu to niewyczerpane źródło tematów\, np.: ”wiatr upadł twarzą na ziemię”\, krzak śpiewa psalm”\, powietrze\, woda\, ziemia\, ogień\, barany\, smoki\, stwory złożone z mieczy\, igieł\, sztyletów. Do dziś wielu artystów korzysta i odwołuje się do postulowanego przez Bretona ”modelu wewnętrznego” czyli poszukiwania w sferze podświadomości\, jak to się dzieje\, mamy to każdego dnia: reklama\, teledyski\, wideoklipy. Nie ulega wątpliwości\, że surrealizm\, nie tylko twórcom\, ale i odbiorcom otworzył nowe obszary wyobraźni. \nKrystyna Baniowska Stąsiek Meyer (Wstęp do katalogu wystawy) \n 
URL:https://kultura.tarnow.pl/wydarzenie/surrealizm-salvador-dali-i-inni/2024-03-06/
LOCATION:Galeria ARTEKA\, Wałowa 16\, Tarnów\, 33-100
CATEGORIES:wystawy
ORGANIZER;CN="Stowarzyszenie Tarnowskich Artyst%C3%B3w Plastyk%C3%B3w":MAILTO:stowarzyszenie.arteka@gmail.com
END:VEVENT
BEGIN:VEVENT
DTSTART;TZID=Europe/Warsaw:20240306T110000
DTEND;TZID=Europe/Warsaw:20240306T170000
DTSTAMP:20260422T022520
CREATED:20240229T113052Z
LAST-MODIFIED:20240229T113155Z
UID:10015506-1709722800-1709744400@kultura.tarnow.pl
SUMMARY:"Sacrum" wystawa STAP
DESCRIPTION:Zapraszamy serdecznie na zbiorową wystawę \,\,SACRUM”\, w której biorą udział członkowie STAP.\nWernisaż odbędzie się dnia 29 lutego o godz. 18.00 w Galerii ARTEKA\, na ul. Wałowej 16 w Tarnowie. \nNazwaliśmy tą wystawę SACRUM \,ponieważ jest to pojęcie bardzo szerokie. Można go rozpatrywać na wielu płaszczyznach-teologicznej\, filozoficznej\, etycznej \,estetycznej i innych. Nas interesuje wątek związany ze sztuką\, a konkretniej ze sztuką o tematyce religijnej. Od początków dziejów człowiek poruszał ten temat\, a ślady prowadzą jeszcze do malarstwa jaskiniowego\, gdzie można zidentyfikować różne bóstwa narysowane\, wyryte\, namalowane na ścianach. We wszystkich religiach świata odnaleźć można przykłady przedstawień i symboli związanych z wiarą. \n\n\nNa naszej wystawie prezentujemy prace na temat Sacrum bardziej\, lub mniej wnikające w istotę tematu\, indywidualne rozważania i przemyślenia dotyczące religii\, wiary\, świętości. I nie są to już dzieła religijne \,lecz o tematyce religijnej. Zapraszamy do zobaczenia\, kontemplacji i przemyślenia treści dzieł prezentowanych w naszej galerii.\n\nArtyści:\nKrystyna Baniowska-Stąsiek\, Piotr F. Barszczowski\, Marek Benewiat\, Piotr Bubak\, Stanisław Chmiel\, Piotr Figiel\, Ewa Fleszar\, Roman Fleszar\, Weronika Fleszar\, Tomasz Głowacz\, Lidia Połeć-Kantor\, Kazimierz Klimkiewicz\, Roman Kobylarz\, Jerzy Martynów\, Marek Niedojadło\, Michał Poręba\, Piotr Rączka\, Jerzy Ruszel\, Anna Skupińska\, Anna Śliwińska\, Kazimierz Twardowski\, Bożena Wojtanowska\, Grzegorz Wójcik\, Aleksandra Zuba-Benn.\n\n\n\nWystawa będzie otwarta od 29.02 do 30.03.2024 r.\nWstęp wolny\nGODZINY OTWARCIA:\nwtorek – sobota\ngodz. 11:00 – 17:00\n\n 
URL:https://kultura.tarnow.pl/wydarzenie/sacrum-wystawa-stap-2024-03-01/2024-03-06/
LOCATION:Galeria ARTEKA\, Wałowa 16\, Tarnów\, 33-100
CATEGORIES:wystawy
ATTACH;FMTTYPE=image/jpeg:https://kultura.tarnow.pl/wp-content/uploads/424953060_316102434793516_7107905027067486345_n.jpg
ORGANIZER;CN="Stowarzyszenie Tarnowskich Artyst%C3%B3w Plastyk%C3%B3w":MAILTO:stowarzyszenie.arteka@gmail.com
END:VEVENT
BEGIN:VEVENT
DTSTART;TZID=Europe/Warsaw:20240306T180000
DTEND;TZID=Europe/Warsaw:20240306T210000
DTSTAMP:20260422T022520
CREATED:20240229T123920Z
LAST-MODIFIED:20240229T123920Z
UID:10015547-1709748000-1709758800@kultura.tarnow.pl
SUMMARY:Plansza łączy
DESCRIPTION:Gry planszowe w Domu Kultury mają już swoich fanów\, ale z radością przywitamy nowych uczestników. Mamy nowe gry do przetestowania\, m.in. „Dobry rok” i „Na skrzydłach” polecone nam przez zaprzyjaźnionych graczy. Wpadajcie rodzinnie i ze znajomymi. Jeśli nie macie towarzystwa do grania – tutaj na pewno je znajdziecie! Gry planszowe to ćwiczenia na logikę\, kreatywne myślenie\, wyobraźnię i zaproszenie do przeżycia małej przygody. Wstęp bezpłatny.
URL:https://kultura.tarnow.pl/wydarzenie/plansza-laczy/2024-03-06/
LOCATION:Dom Kultury Westerplatte 8a\, Westerplatte 8a\, Tarnów\, Polska - małopolskie\, 33-100\, Polska
CATEGORIES:warsztaty
ATTACH;FMTTYPE=image/jpeg:https://kultura.tarnow.pl/wp-content/uploads/KGP_marzec24_s.jpg
ORGANIZER;CN="Dom Kultury Westerplatte 8a":MAILTO:westerplatte@tck.pl
GEO:50.0273033;21.0087361
X-APPLE-STRUCTURED-LOCATION;VALUE=URI;X-ADDRESS=Dom Kultury Westerplatte 8a Westerplatte 8a Tarnów Polska - małopolskie 33-100 Polska;X-APPLE-RADIUS=500;X-TITLE=Westerplatte 8a:geo:21.0087361,50.0273033
END:VEVENT
END:VCALENDAR