BEGIN:VCALENDAR
VERSION:2.0
PRODID:-//kultura.tarnów - ECPv6.4.0.1//NONSGML v1.0//EN
CALSCALE:GREGORIAN
METHOD:PUBLISH
X-WR-CALNAME:kultura.tarnów
X-ORIGINAL-URL:https://kultura.tarnow.pl
X-WR-CALDESC:Wydarzenia dla
REFRESH-INTERVAL;VALUE=DURATION:PT1H
X-Robots-Tag:noindex
X-PUBLISHED-TTL:PT1H
BEGIN:VTIMEZONE
TZID:Europe/Warsaw
BEGIN:DAYLIGHT
TZOFFSETFROM:+0100
TZOFFSETTO:+0200
TZNAME:CEST
DTSTART:20240331T010000
END:DAYLIGHT
BEGIN:STANDARD
TZOFFSETFROM:+0200
TZOFFSETTO:+0100
TZNAME:CET
DTSTART:20241027T010000
END:STANDARD
END:VTIMEZONE
BEGIN:VEVENT
DTSTART;TZID=Europe/Warsaw:20240303T090000
DTEND;TZID=Europe/Warsaw:20240303T170000
DTSTAMP:20260421T131523
CREATED:20240219T090540Z
LAST-MODIFIED:20240219T090627Z
UID:10015362-1709456400-1709485200@kultura.tarnow.pl
SUMMARY: Wewnętrzny horyzont
DESCRIPTION:Biuro Wystaw Artystycznych w Tarnowie zaprasza na wystawę „Wewnętrzny horyzont” \nArtyści i artystki: Agnieszka Bartak-Lisikiewicz\, Dominika Borek\, Magdalena Daniec\, Tomasz Daniec\, Grzegorz Frydryk\, Piotr Idzi\, Antonina Janus-Szybist\, Paweł Marcinek\, Agnieszka Pawłowska-Górska\, Agnieszka Piksa \nPrace z kolekcji Małopolskiej Fundacji Muzeum Sztuki Współczesnej: Aneta Grzeszykowska & Jan Smaga\, Miho Iwata \nKuratorzy: Dominika Borek\, Paweł Marcinek \nWystawa czynna do 28.03.2024 r.: \nPoniedziałek-czwartek 9:00-17:00\nNiedziela 9:00-17:00 \nProjekt finansowany ze środków Akademii Tarnowskiej\, umowa nr BAD-05/2023 Wewnętrzny horyzont.
URL:https://kultura.tarnow.pl/wydarzenie/wewnetrzny-horyzont-2/2024-03-03/
LOCATION:BWA na Dworcu PKP\, Plac Dworcowy 4\, Tarnów\, małopolskie\, 33-100\, Polska
CATEGORIES:wystawy
ORGANIZER;CN="Biuro Wystaw Artystycznych":MAILTO:biuro@bwa.tarnow.pl
GEO:50.0057629;20.9744639
X-APPLE-STRUCTURED-LOCATION;VALUE=URI;X-ADDRESS=BWA na Dworcu PKP Plac Dworcowy 4 Tarnów małopolskie 33-100 Polska;X-APPLE-RADIUS=500;X-TITLE=Plac Dworcowy 4:geo:20.9744639,50.0057629
END:VEVENT
BEGIN:VEVENT
DTSTART;TZID=Europe/Warsaw:20240303T100000
DTEND;TZID=Europe/Warsaw:20240303T170000
DTSTAMP:20260421T131523
CREATED:20240219T090259Z
LAST-MODIFIED:20240219T090259Z
UID:10015538-1709460000-1709485200@kultura.tarnow.pl
SUMMARY:Twój maszkaron
DESCRIPTION:Wystawa powstała we współpracy Biura Wystaw Artystycznych i inicjatywy @niezlemiejsce. Jest prezentacją efektów pracy z warsztatów odbywających się w grudniu 2023\, które były nagrodą w konkursie. Zadaniem uczestniczących grup było przygotowanie wystawy prezentującej kolorowanki z Architektonicznego Elementarza Tarnowa. Konkurs miał na celu rozwijanie przestrzennej świadomości u dzieci oraz ich obcowanie z architektoniczną wiedzą na elementarnym poziomie. W efekcie warsztatów powstało około 130 małych maszkaronów\, które stały się tematem przewodnim wystawy. \nDo wystawy został stworzony profil na instagramie @twoj_maszakaron\, dzięki któremu każdy zwiedzający ekspozycję może stać się [maszkaronem] jej częścią! – przyjdź na Wałową 25 i dowiedz się więcej! \nProwadzący warsztaty: Akademia Architektury – Sonia i Bartłomiej Pochopień \nW programie wystawy: \nWarsztaty z animacji poklatkowej – szczegóły wkrótce \nWystawa czynna 14.02-7.03.2024: \nponiedziałek\, środa\, czwartek 10:00-17:00 \nniedziela: 10:00-17:00\, wstęp wolny (na wystawę i wydarzenia) \nZwycięskie grupy: \nPrzedszkola \nI miejsce: grupy VI\, V i IV – Przedszkole Publiczne nr 32 w Tarnowie \nII miejsce: Przedszkole Publiczne nr 33 w Tarnowie \nIII miejsce: Przedszkole Publiczne nr 5 w Tarnowie \nSzkoły podstawowe \nI miejsce: Społeczna Szkoła Podstawowa nr 2 STO w Tarnowie \nII miejsce: Szkoła Podstawowa nr 23 w Tarnowie \nIII miejsce: Szkoła Podstawowa nr 14 w Tarnowie (klasa 3b)
URL:https://kultura.tarnow.pl/wydarzenie/twoj-maszkaron/2024-03-03/
LOCATION:Multimedialne Centrum Artystyczne\, Wałowa 25\, Tarnów\, małopolskie\, 33-100\, Polska
CATEGORIES:wystawy
ATTACH;FMTTYPE=image/png:https://kultura.tarnow.pl/wp-content/uploads/Twoj-maszkaron_grafika.png
ORGANIZER;CN="Biuro Wystaw Artystycznych":MAILTO:biuro@bwa.tarnow.pl
GEO:50.013866931068;20.987989998201
X-APPLE-STRUCTURED-LOCATION;VALUE=URI;X-ADDRESS=Multimedialne Centrum Artystyczne Wałowa 25 Tarnów małopolskie 33-100 Polska;X-APPLE-RADIUS=500;X-TITLE=Wałowa 25:geo:20.987989998201,50.013866931068
END:VEVENT
BEGIN:VEVENT
DTSTART;TZID=Europe/Warsaw:20240303T110000
DTEND;TZID=Europe/Warsaw:20240303T123000
DTSTAMP:20260421T131523
CREATED:20240205T084632Z
LAST-MODIFIED:20240205T084632Z
UID:10015440-1709463600-1709469000@kultura.tarnow.pl
SUMMARY:Spotkanie autorskie z Justyną Bednarek
DESCRIPTION:Miejska Biblioteka Publiczna im. J. Słowackiego w Tarnowie serdecznie zaprasza rodziców z dziećmi w wieku 6-12 lat na spotkanie z autorką “Niesamowitych przygód dziesięciu skarpetek” – Justyną Bednarek. \nSpotkanie odbędzie się w niedzielę 3 marca 2024 r. o godzinie 11:00 w Filii nr 17 w Domu Kultury “Westerplatte”\, przy ul. Westerplatte 8a. \nWstęp wolny \n  \nJUSTYNA BEDNAREK\nUrodzona w 1970 w Warszawie – polska dziennikarka i autorka książek dla dzieci\, absolwentka romanistyki.\nAbsolwentka Szkoły Muzycznej 1. st. im. Karola Szymanowskiego w Warszawie\, wydziału Filologii Romańskiej Uniwersytetu Warszawskiego oraz Uniwersytetu Ludowego Rzemiosła Artystycznego w Woli Sękowej.\nPrzez wiele lat pracowała jako redaktorka pism kobiecych. „Niesamowite przygody dziesięciu skarpetek”\, wydane w 2015 roku przez Poradnię K\, są jej powrotem do literatury dziecięcej. Zilustrowane przez Daniela de Latour\, Skarpetki zdobyły kilka nominacji i nagród. W roku 2016 ukazały się jej dwie kolejne książki: „Pięć sprytnych kun” z ilustracjami Daniela de Latour oraz „W to mi graj. Bajki muzyczne”\, z malarskimi grafikami Józefa Wilkonia. Wszystkie pozycje opublikowała Poradnia K. W marcu 2017 roku ukazała się druga część skarpetkowej sagi\, pod tytułem „Nowe przygody skarpetek (jeszcze bardziej niesamowite)”\, ponownie zilustrowana przez Daniela de Latour. W planach jest realizacja serialu animowanego inspirowanego książką. \nCyt. za wikipedia (dostęp 1.02.2024 r.)
URL:https://kultura.tarnow.pl/wydarzenie/spotkanie-autorskie-z-justyna-bednarek/
LOCATION:Dom Kultury Westerplatte 8a\, Westerplatte 8a\, Tarnów\, Polska - małopolskie\, 33-100\, Polska
CATEGORIES:wieczory autorskie
ATTACH;FMTTYPE=image/jpeg:https://kultura.tarnow.pl/wp-content/uploads/Bednarek_plakat.jpg
GEO:50.0273033;21.0087361
X-APPLE-STRUCTURED-LOCATION;VALUE=URI;X-ADDRESS=Dom Kultury Westerplatte 8a Westerplatte 8a Tarnów Polska - małopolskie 33-100 Polska;X-APPLE-RADIUS=500;X-TITLE=Westerplatte 8a:geo:21.0087361,50.0273033
END:VEVENT
BEGIN:VEVENT
DTSTART;TZID=Europe/Warsaw:20240303T140000
DTEND;TZID=Europe/Warsaw:20240303T153000
DTSTAMP:20260421T131523
CREATED:20240213T141003Z
LAST-MODIFIED:20240213T141046Z
UID:10015477-1709474400-1709479800@kultura.tarnow.pl
SUMMARY:"Dziecięca Ferajna" Bohaterom
DESCRIPTION:
URL:https://kultura.tarnow.pl/wydarzenie/dziecieca-ferajna-bohaterom-2/
LOCATION:Kościół Chrystusa Dobrego Pasterza\, 16 Pułku Piechoty 10\, Tarnów\, małopolskie\, 33-100\, Polska
CATEGORIES:koncerty
ATTACH;FMTTYPE=image/jpeg:https://kultura.tarnow.pl/wp-content/uploads/Dziecięca-Ferajna-Bohaterom.jpg
GEO:50.028847535201;21.004993220343
X-APPLE-STRUCTURED-LOCATION;VALUE=URI;X-ADDRESS=Kościół Chrystusa Dobrego Pasterza 16 Pułku Piechoty 10 Tarnów małopolskie 33-100 Polska;X-APPLE-RADIUS=500;X-TITLE=16 Pułku Piechoty 10:geo:21.004993220343,50.028847535201
END:VEVENT
BEGIN:VEVENT
DTSTART;TZID=Europe/Warsaw:20240303T180000
DTEND;TZID=Europe/Warsaw:20240303T200000
DTSTAMP:20260421T131523
CREATED:20240126T131745Z
LAST-MODIFIED:20240126T131839Z
UID:10015269-1709488800-1709496000@kultura.tarnow.pl
SUMMARY:FunFest - Festiwal Humoru
DESCRIPTION:FunFest! Zapraszamy na drugą edycję festiwalu do Centrum Sztuki Mościce! \nW ramach festiwalu dobrego humoru odbędzie się siedem wydarzeń. Program festiwalu został ułożony\, zarówno dla młodzieży\, jak i starszych odbiorców\, dla miłośników ponadczasowych polskich komedii i osób\, które cenią dobrą grę aktorską oraz doceniają błyskotliwe monologi! \nFunFest jest okazją do spotkania się i dobrej zabawy! \nProgram Festiwalu: \n1 marca 2024\, godz. 18:00 – Kabaret Czesuaf\n \n3 marca 2024\,  godz. 18:00 – „Komedia odlotowa\, czyli lumbago” – spektakl komediowy Teatru Capitol\n \n15 marca 2024\,  godz. 19:00 – Pan Li – komik\, iluzjonista\n \n17 marca 2024\,  godz. 18.00 – seans filmu „Chłopaki nie płaczą”\n \n20 marca 2024\, godz. 19:00 – Kacper Ruciński – stand-up\n \n22 marca 2024\, godz. 9:00 – Brzuchomówca Piotr Boruta i Czocher – występ dla grup  przedszkolnych i szkolnych\n \n1 – 31 marca 2024 – „Takie czasy” – wystawa The Krasnals
URL:https://kultura.tarnow.pl/wydarzenie/funfest-festiwal-humoru/2024-03-03/
LOCATION:Centrum Sztuki Mościce\, Traugutta 1\, Tarnów\, małopolskie\, 33-101\, Polska
CATEGORIES:festiwale
GEO:50.009833;20.92706
X-APPLE-STRUCTURED-LOCATION;VALUE=URI;X-ADDRESS=Centrum Sztuki Mościce Traugutta 1 Tarnów małopolskie 33-101 Polska;X-APPLE-RADIUS=500;X-TITLE=Traugutta 1:geo:20.92706,50.009833
END:VEVENT
END:VCALENDAR