BEGIN:VCALENDAR
VERSION:2.0
PRODID:-//kultura.tarnów - ECPv6.4.0.1//NONSGML v1.0//EN
CALSCALE:GREGORIAN
METHOD:PUBLISH
X-WR-CALNAME:kultura.tarnów
X-ORIGINAL-URL:https://kultura.tarnow.pl
X-WR-CALDESC:Wydarzenia dla
REFRESH-INTERVAL;VALUE=DURATION:PT1H
X-Robots-Tag:noindex
X-PUBLISHED-TTL:PT1H
BEGIN:VTIMEZONE
TZID:Europe/Warsaw
BEGIN:DAYLIGHT
TZOFFSETFROM:+0100
TZOFFSETTO:+0200
TZNAME:CEST
DTSTART:20240331T010000
END:DAYLIGHT
BEGIN:STANDARD
TZOFFSETFROM:+0200
TZOFFSETTO:+0100
TZNAME:CET
DTSTART:20241027T010000
END:STANDARD
END:VTIMEZONE
BEGIN:VEVENT
DTSTART;TZID=Europe/Warsaw:20240302T100000
DTEND;TZID=Europe/Warsaw:20240302T120000
DTSTAMP:20260421T193504
CREATED:20240229T123722Z
LAST-MODIFIED:20240229T123722Z
UID:10015544-1709373600-1709380800@kultura.tarnow.pl
SUMMARY:Muzyczne wygibasy.
DESCRIPTION:Idzie wiosna! Warsztaty muzyczno-taneczne dla rodzin z dziećmi 3-5 lat \nNa warsztatach rodzice z dziećmi będą śpiewać\, ruszać się w rytm muzyki\, ćwiczyć wyrażanie swoich emocji za pomocą ruchu i tańca. Zajęcia rytmiczne uczą koncentracji\, poprawiają pamięć\, mają korzystny wpływ na motorykę i orientację przestrzenną u dzieci. Dają też solidne podstawy do podjęcia nauki w szkole\, ponieważ kształtują umiejętności językowe oraz matematyczne. Dzięki muzyce zyskujemy wgląd w siebie i w innych\, uczymy się wyrażania uczuć i rozwijamy wyobraźnię. Poprzez wspólną zabawę wzmacniamy więź i relację z dzieckiem. \nZajęcia są płatne i odbywają się w dwóch godzinach: \ngodz. 10:00 – 11:30  i godz. 12:00-13:30. Jedna grupa może liczyć 15 par. \nZajęcia prowadzą: Magdalena Trusz i Bartek Szułakiewicz. \nOpłata: 15 zł od pary (rodzic i dziecko). Zapisy: 14 696 51 00 \nProszę zabrać obuwie na zmianę.
URL:https://kultura.tarnow.pl/wydarzenie/muzyczne-wygibasy/
LOCATION:Dom Kultury Westerplatte 8a\, Westerplatte 8a\, Tarnów\, Polska - małopolskie\, 33-100\, Polska
CATEGORIES:warsztaty
ATTACH;FMTTYPE=image/jpeg:https://kultura.tarnow.pl/wp-content/uploads/Muzyczne-wygibasy_s.jpg
ORGANIZER;CN="Dom Kultury Westerplatte 8a":MAILTO:westerplatte@tck.pl
GEO:50.0273033;21.0087361
X-APPLE-STRUCTURED-LOCATION;VALUE=URI;X-ADDRESS=Dom Kultury Westerplatte 8a Westerplatte 8a Tarnów Polska - małopolskie 33-100 Polska;X-APPLE-RADIUS=500;X-TITLE=Westerplatte 8a:geo:21.0087361,50.0273033
END:VEVENT
BEGIN:VEVENT
DTSTART;TZID=Europe/Warsaw:20240302T110000
DTEND;TZID=Europe/Warsaw:20240302T170000
DTSTAMP:20260421T193504
CREATED:20230424T102333Z
LAST-MODIFIED:20230424T102333Z
UID:10014220-1709377200-1709398800@kultura.tarnow.pl
SUMMARY:Surrealizm – Salvador Dali i inni
DESCRIPTION:Artyści: Krystyna Baniowska\, Piotr Barszczowski\, Piotr Bubak\, Stanisław Chmiel\, Ewa Fleszar\, Roman Fleszar\, Weronika Fleszar\, Mateusz Kijak\, Kazimierz Klimkiewicz\, Stanisław Kucharzyk\, Elżbieta Pazera\, Witold Pazera\, Michał Poręba\, Elżbieta Remian\, Piotr Rączka\, Jerzy Ruszel\, Anna Śliwińska\, Kazimierz Twardowski\, Grzegorz Wójcik\, Aleksandra Zuba-Benn \nSłowo SUR – to NA\, np.: sur la table – na stole. SURREALIZM – NADREALIZM\, zorganizowany ruch intelektualny pierwszej ćwierci XX wieku powstały we Francji. Surrealiści przyjęli ten termin w hołdzie dla G. Apollinaire`a\, który pierwszy użył tego sformułowania w 1918 roku w podtytule swojej sztuki\, nadając ruchowi nowy sens. Wyrastał on z doświadczeń\, przeżyć i przemyśleń związanych z I wojną światową\, a wywodził się z dadaizmu. Jednym z dążeń surrealizmu było pełne wyzwolenie osobowości człowieka\, pojęte jako ujawnienie jego ukrytych sił\, pragnień i marzeń\, zepchniętych w podświadomość przez rozum i rozsądek\, ogólnie przyjęte zasady obyczajowe i moralne. \nMANIFEST SURREALIZMU w 1924 roku napisał – ogłosił Andre BRETON\, początkowo odnosił się do literatury\, szybko jednak zainteresowali się nim twórcy innych dziedzin sztuki – wspaniałym przykładem są tu artyści malarze\, graficy. MANIFEST otworzył prawo do mówienia o nadrzędności przestrzeni na pograniczu snu i jawy. Artyści szukali metod i sposobu na wyrażenie idei tego nowego ruchu\, środki jakimi się posługiwali przedstawiały elementy rzeczywistości ujęte w nadrealny\, fantastyczny sposób. Obrazy były zapisem ze snów\, urojeń\, stanów delirycznych\, czy wszelkich czynności wykonywanych bez kontroli rozumu. Elementy rzeczywistości miały wymykać się logice\, rewolucjonizować życie codzienne…..obiekty i przedmioty\, nawet człowiek\, powinny znaleźć się w innych bytach\, przejść transformację\, np: ”człowiek jest ucieleśnionym deszczem”\, inny zaś z młotem\, lub ma jabłko zamiast głowy\, otwierający drzwi których nie ma……. a jak czytać istoty ciekłe z waty\, z wężowych skór\, upierzone drzewa\, zwierzęta niesione wiatrem\, modelowane z piasku. Surrealizm to miejsce spotkań najróżniejszych obiektów pochodzących z odmiennych kontekstów\, gdzie wszystko nabiera nowych nieoczekiwanych znaczeń……. np.: ”człowiek klatka schodowa\, człowiek litera\, ogryziona kość\, kropka\, strzęp\, kula\, człowiek trumna\, piszczałka\, sznurówka\, bagaż\, mgła i człowiek osad”\, a książka która gryzie ręce albo kłuje w oczy – tu przedmiot został wyzwolony i stał się wampirem\, książka dostaje przeciwstawną do swojej nową naturę. Bretonowskie ”puszczenie w obieg” przedmiotów dla wielu artystów stało się inspiracją do dania im nowego życia. Aktywność rzeczy dotychczas martwych\, obiektów nieuzależnionych od kontroli rozumu to niewyczerpane źródło tematów\, np.: ”wiatr upadł twarzą na ziemię”\, krzak śpiewa psalm”\, powietrze\, woda\, ziemia\, ogień\, barany\, smoki\, stwory złożone z mieczy\, igieł\, sztyletów. Do dziś wielu artystów korzysta i odwołuje się do postulowanego przez Bretona ”modelu wewnętrznego” czyli poszukiwania w sferze podświadomości\, jak to się dzieje\, mamy to każdego dnia: reklama\, teledyski\, wideoklipy. Nie ulega wątpliwości\, że surrealizm\, nie tylko twórcom\, ale i odbiorcom otworzył nowe obszary wyobraźni. \nKrystyna Baniowska Stąsiek Meyer (Wstęp do katalogu wystawy) \n 
URL:https://kultura.tarnow.pl/wydarzenie/surrealizm-salvador-dali-i-inni/2024-03-02/
LOCATION:Galeria ARTEKA\, Wałowa 16\, Tarnów\, 33-100
CATEGORIES:wystawy
ORGANIZER;CN="Stowarzyszenie Tarnowskich Artyst%C3%B3w Plastyk%C3%B3w":MAILTO:stowarzyszenie.arteka@gmail.com
END:VEVENT
BEGIN:VEVENT
DTSTART;TZID=Europe/Warsaw:20240302T110000
DTEND;TZID=Europe/Warsaw:20240302T170000
DTSTAMP:20260421T193504
CREATED:20240229T113052Z
LAST-MODIFIED:20240229T113155Z
UID:10015504-1709377200-1709398800@kultura.tarnow.pl
SUMMARY:"Sacrum" wystawa STAP
DESCRIPTION:Zapraszamy serdecznie na zbiorową wystawę \,\,SACRUM”\, w której biorą udział członkowie STAP.\nWernisaż odbędzie się dnia 29 lutego o godz. 18.00 w Galerii ARTEKA\, na ul. Wałowej 16 w Tarnowie. \nNazwaliśmy tą wystawę SACRUM \,ponieważ jest to pojęcie bardzo szerokie. Można go rozpatrywać na wielu płaszczyznach-teologicznej\, filozoficznej\, etycznej \,estetycznej i innych. Nas interesuje wątek związany ze sztuką\, a konkretniej ze sztuką o tematyce religijnej. Od początków dziejów człowiek poruszał ten temat\, a ślady prowadzą jeszcze do malarstwa jaskiniowego\, gdzie można zidentyfikować różne bóstwa narysowane\, wyryte\, namalowane na ścianach. We wszystkich religiach świata odnaleźć można przykłady przedstawień i symboli związanych z wiarą. \n\n\nNa naszej wystawie prezentujemy prace na temat Sacrum bardziej\, lub mniej wnikające w istotę tematu\, indywidualne rozważania i przemyślenia dotyczące religii\, wiary\, świętości. I nie są to już dzieła religijne \,lecz o tematyce religijnej. Zapraszamy do zobaczenia\, kontemplacji i przemyślenia treści dzieł prezentowanych w naszej galerii.\n\nArtyści:\nKrystyna Baniowska-Stąsiek\, Piotr F. Barszczowski\, Marek Benewiat\, Piotr Bubak\, Stanisław Chmiel\, Piotr Figiel\, Ewa Fleszar\, Roman Fleszar\, Weronika Fleszar\, Tomasz Głowacz\, Lidia Połeć-Kantor\, Kazimierz Klimkiewicz\, Roman Kobylarz\, Jerzy Martynów\, Marek Niedojadło\, Michał Poręba\, Piotr Rączka\, Jerzy Ruszel\, Anna Skupińska\, Anna Śliwińska\, Kazimierz Twardowski\, Bożena Wojtanowska\, Grzegorz Wójcik\, Aleksandra Zuba-Benn.\n\n\n\nWystawa będzie otwarta od 29.02 do 30.03.2024 r.\nWstęp wolny\nGODZINY OTWARCIA:\nwtorek – sobota\ngodz. 11:00 – 17:00\n\n 
URL:https://kultura.tarnow.pl/wydarzenie/sacrum-wystawa-stap-2024-03-01/2024-03-02/
LOCATION:Galeria ARTEKA\, Wałowa 16\, Tarnów\, 33-100
CATEGORIES:wystawy
ATTACH;FMTTYPE=image/jpeg:https://kultura.tarnow.pl/wp-content/uploads/424953060_316102434793516_7107905027067486345_n.jpg
ORGANIZER;CN="Stowarzyszenie Tarnowskich Artyst%C3%B3w Plastyk%C3%B3w":MAILTO:stowarzyszenie.arteka@gmail.com
END:VEVENT
BEGIN:VEVENT
DTSTART;TZID=Europe/Warsaw:20240302T180000
DTEND;TZID=Europe/Warsaw:20240302T190000
DTSTAMP:20260421T193504
CREATED:20240229T072925Z
LAST-MODIFIED:20240229T072925Z
UID:10014985-1709402400-1709406000@kultura.tarnow.pl
SUMMARY:"Powołany 2" i spotkanie z Marcinem Kwaśnym
DESCRIPTION:O filmie: \nUtalentowany plastycznie Arek doznaje miłosnego zawodu. Wyładowując złość\, niszczy ogrodzenie przypadkowego domu. Na jego nieszczęście świadkiem wydarzenia jest ksiądz\, który przyjaźni się z właścicielem posesji. Duchowny proponuje Arkowi\, że sprawa rozejdzie się po kościach pod warunkiem\, że chłopak pomoże w odmalowaniu zniszczonego kościoła. Stara świątynia wkrótce staje się schronieniem dla znajomych Arka\, którym grozi poważne niebezpieczeństwo. Ksiądz\, widząc problemy\, z jakimi mierzą się jego niespodziewani goście\, opowiada im cztery inspirujące\, prawdziwe\, a do tego szalenie spektakularne historie… \n„Powołany 2” to kontynuacja internetowego hitu\, który stał się fenomenem w sieci i dotarł do milionów widzów na całym świecie. Tym razem powraca na wielkim ekranie w gwiazdorskiej obsadzie. \nMarcin Kwaśny (ur. 5 stycznia 1979 w Tarnowie) – polski aktor teatralny\, telewizyjny i filmowy\, scenarzysta i reżyser. Występował w roli weterynarza Julka Lubczyka w serialu Na kocią łapę w telewizji Polsat\, a także w roli Rafała Kocója w serialu Szpilki na Giewoncie. \nPo ukończeniu III Liceum Ogólnokształcącego im. Adama Mickiewicza w Tarnowie podjął studia w warszawskiej Państwowej Wyższej Szkole Teatralnej\, którą ukończył w 2002. \nMając 15 lat\, wystąpił na szkolnej scenie w roli głównej w przedstawieniu Jerzego Zawieyskiego Rozdroże miłości. W wieku 17 lat pojawił się jako poeta Cyprian Kamil Norwid w sztuce Norwid tarnowskiego Teatru Młodego Widza. \nPo ukończeniu szkoły został aktorem Teatru Kwadrat w Warszawie. Rozgłos zyskał dzięki roli Marcina Wilczyńskiego w filmie Rezerwat (2007)\, za którą odebrał nagrodę na XI Międzynarodowym Festiwalu Filmowym Golden Brig w Odessie\, a jako współscenarzysta dostał nagrodę na V Nadbałtyckim Festiwalu Debiutów Filmowych w Swietłogorsku w Rosji (Baltic Debuts Film Festival). \nJest współzałożycielem Teatru Praskiego\, który we wrześniu 2008 rozpoczął pierwszy sezon teatralny. \nWystępował w produkcjach węgierskich i argentyńskich\, takich jak Aglaja\, Patagonia czy Polowanie na Anglika. \nZałożył firmę LemmonShot\, której zakres działania obejmuje produkcję spektakli\, filmów i prowadzenie imprez. Wraz z grupą przyjaciół stworzył fundację artystyczną Między Słowami.
URL:https://kultura.tarnow.pl/wydarzenie/powolany-2-i-spotkanie-z-marcinem-kwasnym/
LOCATION:Centrum Sztuki Mościce\, Traugutta 1\, Tarnów\, małopolskie\, 33-101\, Polska
CATEGORIES:spotkania
ATTACH;FMTTYPE=image/jpeg:https://kultura.tarnow.pl/wp-content/uploads/Powołany-2_internet.jpg
GEO:50.009833;20.92706
X-APPLE-STRUCTURED-LOCATION;VALUE=URI;X-ADDRESS=Centrum Sztuki Mościce Traugutta 1 Tarnów małopolskie 33-101 Polska;X-APPLE-RADIUS=500;X-TITLE=Traugutta 1:geo:20.92706,50.009833
END:VEVENT
BEGIN:VEVENT
DTSTART;TZID=Europe/Warsaw:20240302T180000
DTEND;TZID=Europe/Warsaw:20240302T193000
DTSTAMP:20260421T193504
CREATED:20240213T140239Z
LAST-MODIFIED:20240219T081407Z
UID:10015473-1709402400-1709407800@kultura.tarnow.pl
SUMMARY:"Dziecięca Ferajna" Bohaterom
DESCRIPTION:Serdecznie zapraszamy na wyjątkowy koncert z okazji Narodowego Dnia Pamięci Żołnierzy Wyklętych w sobotę 2 marca 2024 r. o godz. 18.00 w auli Pałacu Młodzieży w Tarnowie w wykonaniu „Dziecięcej Ferajny”. \nZespół „Dziecięca Ferajna” to ponad 100 osobowy skład uczniów z lokalnych szkół podstawowych z obszaru wszystkich województw Polski. Wojskowe mundury\, powstańcze opaski\, hełmy\, patriotyczne emblematy\, furażerki\, orzełki w koronie – to sceniczny ubiór młodych Artystów. \nKoncert to niekomercyjny\, edukacyjny projekt\, powstały z potrzeby propagowania tradycji\, pamięci o polskiej historii\, szacunku do kompozytorów utworów z zamierzchłych\, jak również współczesnych czasów\, skierowany głównie do dzieci szkół podstawowych. \nMłodzi artyści występowali już wielokrotnie\, m.in.: \n– podczas I Kongresu Patriotycznego w Elblągu\, \n– występ w Sejmie dla Parlamentarzystów na Sali Kolumnowej\, \n– w koncercie Powstania Warszawskiego dla kilkutysięcznej publiczności\, \n– podczas uroczystości 81. rocznicy męczeńskiej śmierci św. Maksymiliana Kolbe w Oświęcimiu\, \n– na Górze Cyranowskiej w Mielcu\, gdzie został odsłonięty największy w Polsce Pomnik Żołnierzy Niezłomnych Wyklętych. \nUczniowie wykonują  pieśni zarówno historyczne\, jak i utwory współczesne (zespoły HUBAL\, SOUL Sanok\, PANNY WYKLĘTE\, STUDIO S3\, ROKICZANKA\, MARGARET i SANAH). \nNajlepszą oceną działań „Dziecięcej Ferajny” są słowa odbiorców\, którzy po koncertach często podkreślają\, że spotkania niosą niesamowite ładunki emocjonalne i moc silnych wzruszeń.
URL:https://kultura.tarnow.pl/wydarzenie/dziecieca-ferajna-bohaterom/
LOCATION:Pałac Młodzieży\, ul. Piłsudskiego 24\, Tarnów\, małopolskie\, 33-100\, Polska
CATEGORIES:koncerty
ATTACH;FMTTYPE=image/jpeg:https://kultura.tarnow.pl/wp-content/uploads/Dziecięca-Ferajna-Bohaterom.jpg
GEO:50.0172246;20.9854709
X-APPLE-STRUCTURED-LOCATION;VALUE=URI;X-ADDRESS=Pałac Młodzieży ul. Piłsudskiego 24 Tarnów małopolskie 33-100 Polska;X-APPLE-RADIUS=500;X-TITLE=ul. Piłsudskiego 24:geo:20.9854709,50.0172246
END:VEVENT
BEGIN:VEVENT
DTSTART;TZID=Europe/Warsaw:20240302T183000
DTEND;TZID=Europe/Warsaw:20240302T193000
DTSTAMP:20260421T193504
CREATED:20240222T135218Z
LAST-MODIFIED:20240222T135218Z
UID:10014921-1709404200-1709407800@kultura.tarnow.pl
SUMMARY:Wernisaże dzień po dniu: piąta edycja
DESCRIPTION:Od pierwszej edycji cyklu „Wernisaże dzień po dniu” minęły już prawie dwa lata. Za kilka dni rozpocznie się jego piąta odsłona. Od 26 lutego do 2 marca 2024 roku w Galerii TCK zaprezentujemy 10 wystaw indywidualnych oraz 1 wystawę zbiorową. \nCharakter cyklu pozostaje niezmienny – każda wystawa potrwa od wernisażu do demontażu (godzina 15:00 następnego dnia). O tym\, dlaczego tak właśnie jest\, opowiada Tomasz Sobczak – Prezes Tarnowskiego Towarzystwa Fotograficznego\, koordynator otwARTej Pracowni Fotograficznej i pomysłodawca cyklu: \n(…) kontrowersyjna formuła zmusza fanów fotografii do uczestnictwa w otwarciu wystawy\, bo z definicji „żyje” ona tylko jeden dzień. Docierały do mnie głosy\, że to za krótko\, że nie zdążę zobaczyć\, że tak nie można. Jednak formuła jednodniowa pozostaje niezmienna. Nie od dziś wiadomo\, że na wernisażach wystaw dzieje się najwięcej. Ciekawe rozmowy\, spotkania\, obcowanie z autorem i innymi osobami. Wspomniana formuła ma zatem nieść także przesłanie\, że warto przychodzić na wernisaże! \n*wystawy są dostępne od momentu wernisażu do dnia następnego (w godz. 10:00-15:00)\, wstęp bezpłatny \n26 lutego\, godzina 18:30\nPaweł Wadas „Samoloty”\nKrzysztof Madej „Cerkiewne banie i krzyże” \n27 lutego\, godzina 18:30\nJan Pękala „Fanaberia – Magiczny Kazimierz”\nMateusz Kolano „Wehikuł czasu …. po kolei” \n28 lutego\, godzina 18:30\nElżbieta i Bogdan Litwora „Ostrza flamenco”\nWiesław Leżanka „Wild Desert” \n29 lutego\, godzina 18:30\nAgnieszka Hołda-Myśliwiec „Wychodzę z siebie. Portret jako próba poznania człowieka.”\nMarta Sysło „Baśnie dla starszych dzieci” \n1 marca\, godzina 18:30\n„Pasjonaci fotografii” – zbiorowa wystawa uczestników grupy początkującej otwARTej Pracowni Fotograficznej\nAutorzy: Tomasz Bania\, Robert Burza\, Monika Frys-Żurek\, Dominik Kozioł\, Katarzyna Maniak\, Barbara Mastalerek\, Monika Maurycy\, Beata Opałka\, Monika Rymanowska\, Maciej Szepielak\, Aleksandra Szot\, Elżbieta Szyzdek\, Magdalena Tomasik\, Paweł Wadas\, Ewa Wąż \n2 marca\, godzina 18:30\nGabriela Półkoszek „Bieguna Ciepła”\nEwa Serafińska „… bo czasami FAVELA to tylko słowo…” \nCykl wernisaży jest pewnego rodzaju podsumowaniem i prezentacją działań otwARTej Pracowni Fotograficznej działającej w Tarnowskim Centrum Kultury. Zajęcia prowadzone przez profesjonalistów z Tarnowskiego Towarzystwa Fotograficznego oraz osób zaprzyjaźnionych prowadzone są w trzech grupach: początkującej\, zaawansowanej oraz dziecięcej. Zapraszamy do zapisów na nowy semestr – w Biurze Obsługi TCK (Rynek 5\, Tarnów).
URL:https://kultura.tarnow.pl/wydarzenie/wernisaze-dzien-po-dniu-piata-edycja/2024-03-02/
LOCATION:Tarnowskie Centrum Kultury\, Rynek 5\, Tarnów\, małopolskie\, 33-100\, Polska
CATEGORIES:wernisaże
ATTACH;FMTTYPE=image/jpeg:https://kultura.tarnow.pl/wp-content/uploads/f28cff538ccdb82b922e4c01cb3fc9ae.jpeg
GEO:50.012155;20.9878542
X-APPLE-STRUCTURED-LOCATION;VALUE=URI;X-ADDRESS=Tarnowskie Centrum Kultury Rynek 5 Tarnów małopolskie 33-100 Polska;X-APPLE-RADIUS=500;X-TITLE=Rynek 5:geo:20.9878542,50.012155
END:VEVENT
END:VCALENDAR