BEGIN:VCALENDAR
VERSION:2.0
PRODID:-//kultura.tarnów - ECPv6.4.0.1//NONSGML v1.0//EN
CALSCALE:GREGORIAN
METHOD:PUBLISH
X-ORIGINAL-URL:https://kultura.tarnow.pl
X-WR-CALDESC:Wydarzenia dla
REFRESH-INTERVAL;VALUE=DURATION:PT1H
X-Robots-Tag:noindex
X-PUBLISHED-TTL:PT1H
BEGIN:VTIMEZONE
TZID:Europe/Warsaw
BEGIN:DAYLIGHT
TZOFFSETFROM:+0100
TZOFFSETTO:+0200
TZNAME:CEST
DTSTART:20240331T010000
END:DAYLIGHT
BEGIN:STANDARD
TZOFFSETFROM:+0200
TZOFFSETTO:+0100
TZNAME:CET
DTSTART:20241027T010000
END:STANDARD
END:VTIMEZONE
BEGIN:VEVENT
DTSTART;TZID=Europe/Warsaw:20240301T110000
DTEND;TZID=Europe/Warsaw:20240301T170000
DTSTAMP:20260423T065304
CREATED:20230424T102333Z
LAST-MODIFIED:20230424T102333Z
UID:10014219-1709290800-1709312400@kultura.tarnow.pl
SUMMARY:Surrealizm – Salvador Dali i inni
DESCRIPTION:Artyści: Krystyna Baniowska\, Piotr Barszczowski\, Piotr Bubak\, Stanisław Chmiel\, Ewa Fleszar\, Roman Fleszar\, Weronika Fleszar\, Mateusz Kijak\, Kazimierz Klimkiewicz\, Stanisław Kucharzyk\, Elżbieta Pazera\, Witold Pazera\, Michał Poręba\, Elżbieta Remian\, Piotr Rączka\, Jerzy Ruszel\, Anna Śliwińska\, Kazimierz Twardowski\, Grzegorz Wójcik\, Aleksandra Zuba-Benn \nSłowo SUR – to NA\, np.: sur la table – na stole. SURREALIZM – NADREALIZM\, zorganizowany ruch intelektualny pierwszej ćwierci XX wieku powstały we Francji. Surrealiści przyjęli ten termin w hołdzie dla G. Apollinaire`a\, który pierwszy użył tego sformułowania w 1918 roku w podtytule swojej sztuki\, nadając ruchowi nowy sens. Wyrastał on z doświadczeń\, przeżyć i przemyśleń związanych z I wojną światową\, a wywodził się z dadaizmu. Jednym z dążeń surrealizmu było pełne wyzwolenie osobowości człowieka\, pojęte jako ujawnienie jego ukrytych sił\, pragnień i marzeń\, zepchniętych w podświadomość przez rozum i rozsądek\, ogólnie przyjęte zasady obyczajowe i moralne. \nMANIFEST SURREALIZMU w 1924 roku napisał – ogłosił Andre BRETON\, początkowo odnosił się do literatury\, szybko jednak zainteresowali się nim twórcy innych dziedzin sztuki – wspaniałym przykładem są tu artyści malarze\, graficy. MANIFEST otworzył prawo do mówienia o nadrzędności przestrzeni na pograniczu snu i jawy. Artyści szukali metod i sposobu na wyrażenie idei tego nowego ruchu\, środki jakimi się posługiwali przedstawiały elementy rzeczywistości ujęte w nadrealny\, fantastyczny sposób. Obrazy były zapisem ze snów\, urojeń\, stanów delirycznych\, czy wszelkich czynności wykonywanych bez kontroli rozumu. Elementy rzeczywistości miały wymykać się logice\, rewolucjonizować życie codzienne…..obiekty i przedmioty\, nawet człowiek\, powinny znaleźć się w innych bytach\, przejść transformację\, np: ”człowiek jest ucieleśnionym deszczem”\, inny zaś z młotem\, lub ma jabłko zamiast głowy\, otwierający drzwi których nie ma……. a jak czytać istoty ciekłe z waty\, z wężowych skór\, upierzone drzewa\, zwierzęta niesione wiatrem\, modelowane z piasku. Surrealizm to miejsce spotkań najróżniejszych obiektów pochodzących z odmiennych kontekstów\, gdzie wszystko nabiera nowych nieoczekiwanych znaczeń……. np.: ”człowiek klatka schodowa\, człowiek litera\, ogryziona kość\, kropka\, strzęp\, kula\, człowiek trumna\, piszczałka\, sznurówka\, bagaż\, mgła i człowiek osad”\, a książka która gryzie ręce albo kłuje w oczy – tu przedmiot został wyzwolony i stał się wampirem\, książka dostaje przeciwstawną do swojej nową naturę. Bretonowskie ”puszczenie w obieg” przedmiotów dla wielu artystów stało się inspiracją do dania im nowego życia. Aktywność rzeczy dotychczas martwych\, obiektów nieuzależnionych od kontroli rozumu to niewyczerpane źródło tematów\, np.: ”wiatr upadł twarzą na ziemię”\, krzak śpiewa psalm”\, powietrze\, woda\, ziemia\, ogień\, barany\, smoki\, stwory złożone z mieczy\, igieł\, sztyletów. Do dziś wielu artystów korzysta i odwołuje się do postulowanego przez Bretona ”modelu wewnętrznego” czyli poszukiwania w sferze podświadomości\, jak to się dzieje\, mamy to każdego dnia: reklama\, teledyski\, wideoklipy. Nie ulega wątpliwości\, że surrealizm\, nie tylko twórcom\, ale i odbiorcom otworzył nowe obszary wyobraźni. \nKrystyna Baniowska Stąsiek Meyer (Wstęp do katalogu wystawy) \n 
URL:https://kultura.tarnow.pl/wydarzenie/surrealizm-salvador-dali-i-inni/2024-03-01/
LOCATION:Galeria ARTEKA\, Wałowa 16\, Tarnów\, 33-100
CATEGORIES:wystawy
ORGANIZER;CN="Stowarzyszenie Tarnowskich Artyst%C3%B3w Plastyk%C3%B3w":MAILTO:stowarzyszenie.arteka@gmail.com
END:VEVENT
BEGIN:VEVENT
DTSTART;TZID=Europe/Warsaw:20240301T110000
DTEND;TZID=Europe/Warsaw:20240301T170000
DTSTAMP:20260423T065304
CREATED:20240229T113052Z
LAST-MODIFIED:20240229T113155Z
UID:10015503-1709290800-1709312400@kultura.tarnow.pl
SUMMARY:"Sacrum" wystawa STAP
DESCRIPTION:Zapraszamy serdecznie na zbiorową wystawę \,\,SACRUM”\, w której biorą udział członkowie STAP.\nWernisaż odbędzie się dnia 29 lutego o godz. 18.00 w Galerii ARTEKA\, na ul. Wałowej 16 w Tarnowie. \nNazwaliśmy tą wystawę SACRUM \,ponieważ jest to pojęcie bardzo szerokie. Można go rozpatrywać na wielu płaszczyznach-teologicznej\, filozoficznej\, etycznej \,estetycznej i innych. Nas interesuje wątek związany ze sztuką\, a konkretniej ze sztuką o tematyce religijnej. Od początków dziejów człowiek poruszał ten temat\, a ślady prowadzą jeszcze do malarstwa jaskiniowego\, gdzie można zidentyfikować różne bóstwa narysowane\, wyryte\, namalowane na ścianach. We wszystkich religiach świata odnaleźć można przykłady przedstawień i symboli związanych z wiarą. \n\n\nNa naszej wystawie prezentujemy prace na temat Sacrum bardziej\, lub mniej wnikające w istotę tematu\, indywidualne rozważania i przemyślenia dotyczące religii\, wiary\, świętości. I nie są to już dzieła religijne \,lecz o tematyce religijnej. Zapraszamy do zobaczenia\, kontemplacji i przemyślenia treści dzieł prezentowanych w naszej galerii.\n\nArtyści:\nKrystyna Baniowska-Stąsiek\, Piotr F. Barszczowski\, Marek Benewiat\, Piotr Bubak\, Stanisław Chmiel\, Piotr Figiel\, Ewa Fleszar\, Roman Fleszar\, Weronika Fleszar\, Tomasz Głowacz\, Lidia Połeć-Kantor\, Kazimierz Klimkiewicz\, Roman Kobylarz\, Jerzy Martynów\, Marek Niedojadło\, Michał Poręba\, Piotr Rączka\, Jerzy Ruszel\, Anna Skupińska\, Anna Śliwińska\, Kazimierz Twardowski\, Bożena Wojtanowska\, Grzegorz Wójcik\, Aleksandra Zuba-Benn.\n\n\n\nWystawa będzie otwarta od 29.02 do 30.03.2024 r.\nWstęp wolny\nGODZINY OTWARCIA:\nwtorek – sobota\ngodz. 11:00 – 17:00\n\n 
URL:https://kultura.tarnow.pl/wydarzenie/sacrum-wystawa-stap-2024-03-01/2024-03-01/
LOCATION:Galeria ARTEKA\, Wałowa 16\, Tarnów\, 33-100
CATEGORIES:wystawy
ATTACH;FMTTYPE=image/jpeg:https://kultura.tarnow.pl/wp-content/uploads/424953060_316102434793516_7107905027067486345_n.jpg
ORGANIZER;CN="Stowarzyszenie Tarnowskich Artyst%C3%B3w Plastyk%C3%B3w":MAILTO:stowarzyszenie.arteka@gmail.com
END:VEVENT
BEGIN:VEVENT
DTSTART;TZID=Europe/Warsaw:20240301T173000
DTEND;TZID=Europe/Warsaw:20240301T183000
DTSTAMP:20260423T065304
CREATED:20240222T135513Z
LAST-MODIFIED:20240222T135513Z
UID:10014931-1709314200-1709317800@kultura.tarnow.pl
SUMMARY:Chiaroscuro - wystawa otwARTej Pracowni Sztuk Wizualnych
DESCRIPTION:Zapraszamy na wyjątkową wystawę malarstwa i rysunku uczestników grup: Klasycznych Technik Artystycznych oraz Kursu Rysunku z Modela OtwARTej Pracowni Sztuk Wizualnych TCK. Wernisaż w Galerii TCK odbędzie się 1 marca 2024 roku o godzinie 17:30\, a ekspozycję będzie można obejrzeć tylko do 2 marca (w godz. 10:00-15:00). Wstęp bezpłatny. Wystawa ta będzie prezentowana wspólnie z cyklem „Wernisaże dzień po dniu”\, o którego nietypowej formule można przeczytać tutaj. \nTytuł wystawy „CHIAROSCURO” wyjaśnia dr sztuki Anna Śliwińska: \nTermin chiaroscuro  – z języka włoskiego „jasny”/„ciemny” – oznacza duże natężenie kontrastów pomiędzy strefami światła i cienia w malarstwie\, rysunku i grafice.\nTaki rodzaj kompozycyjnego napięcia stosowany był najczęściej w epoce baroku\, ale już wcześniej\, w twórczości Leonarda da Vinci – którego uznaje się za twórcę tego określenia -można zauważyć tę niezwykłą siłę ekspresji\, wywołaną specyficznym sposobem operowania źródłem światła.\nW malarstwie ikon zasadniczym tematem  jest światło – i choć nigdy nie widać jego źródła\, ani kierunku  padania\, to poprzez tradycyjną technikę malowania proplasmos wydaje się być zdeponowane na desce podobrazia niczym szlachetny kruszec w sejfie.\nW rysunku postaci jest najlepszym sposobem na ukazanie modelunku ludzkiego ciała oraz zorientowania go w przestrzeni.\nŚwiatło  ma dla malarza podstawowe i zasadnicze znaczenie. Nie tylko jako właściwe oświetlenie przy pracy lub motywu\, który aktualnie jest inspiracją do powstania wypowiedzi twórczej . Światło\, to potężny środek wyrazu artystycznego i wyrafinowany język dialogu pomiędzy obrazem a odbiorcą na pełnej skali emocji i diapazonie wrażeń.
URL:https://kultura.tarnow.pl/wydarzenie/chiaroscuro-wystawa-otwartej-pracowni-sztuk-wizualnych/
LOCATION:Tarnowskie Centrum Kultury\, Rynek 5\, Tarnów\, małopolskie\, 33-100\, Polska
CATEGORIES:wernisaże
ATTACH;FMTTYPE=image/jpeg:https://kultura.tarnow.pl/wp-content/uploads/129db5e14d8575cbaf6e55e4ec21fc9f.jpeg
GEO:50.012155;20.9878542
X-APPLE-STRUCTURED-LOCATION;VALUE=URI;X-ADDRESS=Tarnowskie Centrum Kultury Rynek 5 Tarnów małopolskie 33-100 Polska;X-APPLE-RADIUS=500;X-TITLE=Rynek 5:geo:20.9878542,50.012155
END:VEVENT
BEGIN:VEVENT
DTSTART;TZID=Europe/Warsaw:20240301T180000
DTEND;TZID=Europe/Warsaw:20240301T200000
DTSTAMP:20260423T065304
CREATED:20240126T131745Z
LAST-MODIFIED:20240126T131839Z
UID:10015268-1709316000-1709323200@kultura.tarnow.pl
SUMMARY:FunFest - Festiwal Humoru
DESCRIPTION:FunFest! Zapraszamy na drugą edycję festiwalu do Centrum Sztuki Mościce! \nW ramach festiwalu dobrego humoru odbędzie się siedem wydarzeń. Program festiwalu został ułożony\, zarówno dla młodzieży\, jak i starszych odbiorców\, dla miłośników ponadczasowych polskich komedii i osób\, które cenią dobrą grę aktorską oraz doceniają błyskotliwe monologi! \nFunFest jest okazją do spotkania się i dobrej zabawy! \nProgram Festiwalu: \n1 marca 2024\, godz. 18:00 – Kabaret Czesuaf\n \n3 marca 2024\,  godz. 18:00 – „Komedia odlotowa\, czyli lumbago” – spektakl komediowy Teatru Capitol\n \n15 marca 2024\,  godz. 19:00 – Pan Li – komik\, iluzjonista\n \n17 marca 2024\,  godz. 18.00 – seans filmu „Chłopaki nie płaczą”\n \n20 marca 2024\, godz. 19:00 – Kacper Ruciński – stand-up\n \n22 marca 2024\, godz. 9:00 – Brzuchomówca Piotr Boruta i Czocher – występ dla grup  przedszkolnych i szkolnych\n \n1 – 31 marca 2024 – „Takie czasy” – wystawa The Krasnals
URL:https://kultura.tarnow.pl/wydarzenie/funfest-festiwal-humoru/2024-03-01/
LOCATION:Centrum Sztuki Mościce\, Traugutta 1\, Tarnów\, małopolskie\, 33-101\, Polska
CATEGORIES:festiwale
GEO:50.009833;20.92706
X-APPLE-STRUCTURED-LOCATION;VALUE=URI;X-ADDRESS=Centrum Sztuki Mościce Traugutta 1 Tarnów małopolskie 33-101 Polska;X-APPLE-RADIUS=500;X-TITLE=Traugutta 1:geo:20.92706,50.009833
END:VEVENT
BEGIN:VEVENT
DTSTART;TZID=Europe/Warsaw:20240301T183000
DTEND;TZID=Europe/Warsaw:20240301T193000
DTSTAMP:20260423T065304
CREATED:20240222T135218Z
LAST-MODIFIED:20240222T135218Z
UID:10014920-1709317800-1709321400@kultura.tarnow.pl
SUMMARY:Wernisaże dzień po dniu: piąta edycja
DESCRIPTION:Od pierwszej edycji cyklu „Wernisaże dzień po dniu” minęły już prawie dwa lata. Za kilka dni rozpocznie się jego piąta odsłona. Od 26 lutego do 2 marca 2024 roku w Galerii TCK zaprezentujemy 10 wystaw indywidualnych oraz 1 wystawę zbiorową. \nCharakter cyklu pozostaje niezmienny – każda wystawa potrwa od wernisażu do demontażu (godzina 15:00 następnego dnia). O tym\, dlaczego tak właśnie jest\, opowiada Tomasz Sobczak – Prezes Tarnowskiego Towarzystwa Fotograficznego\, koordynator otwARTej Pracowni Fotograficznej i pomysłodawca cyklu: \n(…) kontrowersyjna formuła zmusza fanów fotografii do uczestnictwa w otwarciu wystawy\, bo z definicji „żyje” ona tylko jeden dzień. Docierały do mnie głosy\, że to za krótko\, że nie zdążę zobaczyć\, że tak nie można. Jednak formuła jednodniowa pozostaje niezmienna. Nie od dziś wiadomo\, że na wernisażach wystaw dzieje się najwięcej. Ciekawe rozmowy\, spotkania\, obcowanie z autorem i innymi osobami. Wspomniana formuła ma zatem nieść także przesłanie\, że warto przychodzić na wernisaże! \n*wystawy są dostępne od momentu wernisażu do dnia następnego (w godz. 10:00-15:00)\, wstęp bezpłatny \n26 lutego\, godzina 18:30\nPaweł Wadas „Samoloty”\nKrzysztof Madej „Cerkiewne banie i krzyże” \n27 lutego\, godzina 18:30\nJan Pękala „Fanaberia – Magiczny Kazimierz”\nMateusz Kolano „Wehikuł czasu …. po kolei” \n28 lutego\, godzina 18:30\nElżbieta i Bogdan Litwora „Ostrza flamenco”\nWiesław Leżanka „Wild Desert” \n29 lutego\, godzina 18:30\nAgnieszka Hołda-Myśliwiec „Wychodzę z siebie. Portret jako próba poznania człowieka.”\nMarta Sysło „Baśnie dla starszych dzieci” \n1 marca\, godzina 18:30\n„Pasjonaci fotografii” – zbiorowa wystawa uczestników grupy początkującej otwARTej Pracowni Fotograficznej\nAutorzy: Tomasz Bania\, Robert Burza\, Monika Frys-Żurek\, Dominik Kozioł\, Katarzyna Maniak\, Barbara Mastalerek\, Monika Maurycy\, Beata Opałka\, Monika Rymanowska\, Maciej Szepielak\, Aleksandra Szot\, Elżbieta Szyzdek\, Magdalena Tomasik\, Paweł Wadas\, Ewa Wąż \n2 marca\, godzina 18:30\nGabriela Półkoszek „Bieguna Ciepła”\nEwa Serafińska „… bo czasami FAVELA to tylko słowo…” \nCykl wernisaży jest pewnego rodzaju podsumowaniem i prezentacją działań otwARTej Pracowni Fotograficznej działającej w Tarnowskim Centrum Kultury. Zajęcia prowadzone przez profesjonalistów z Tarnowskiego Towarzystwa Fotograficznego oraz osób zaprzyjaźnionych prowadzone są w trzech grupach: początkującej\, zaawansowanej oraz dziecięcej. Zapraszamy do zapisów na nowy semestr – w Biurze Obsługi TCK (Rynek 5\, Tarnów).
URL:https://kultura.tarnow.pl/wydarzenie/wernisaze-dzien-po-dniu-piata-edycja/2024-03-01/
LOCATION:Tarnowskie Centrum Kultury\, Rynek 5\, Tarnów\, małopolskie\, 33-100\, Polska
CATEGORIES:wernisaże
ATTACH;FMTTYPE=image/jpeg:https://kultura.tarnow.pl/wp-content/uploads/f28cff538ccdb82b922e4c01cb3fc9ae.jpeg
GEO:50.012155;20.9878542
X-APPLE-STRUCTURED-LOCATION;VALUE=URI;X-ADDRESS=Tarnowskie Centrum Kultury Rynek 5 Tarnów małopolskie 33-100 Polska;X-APPLE-RADIUS=500;X-TITLE=Rynek 5:geo:20.9878542,50.012155
END:VEVENT
END:VCALENDAR