BEGIN:VCALENDAR
VERSION:2.0
PRODID:-//kultura.tarnów - ECPv6.4.0.1//NONSGML v1.0//EN
CALSCALE:GREGORIAN
METHOD:PUBLISH
X-WR-CALNAME:kultura.tarnów
X-ORIGINAL-URL:https://kultura.tarnow.pl
X-WR-CALDESC:Wydarzenia dla
REFRESH-INTERVAL;VALUE=DURATION:PT1H
X-Robots-Tag:noindex
X-PUBLISHED-TTL:PT1H
BEGIN:VTIMEZONE
TZID:Europe/Warsaw
BEGIN:DAYLIGHT
TZOFFSETFROM:+0100
TZOFFSETTO:+0200
TZNAME:CEST
DTSTART:20240331T010000
END:DAYLIGHT
BEGIN:STANDARD
TZOFFSETFROM:+0200
TZOFFSETTO:+0100
TZNAME:CET
DTSTART:20241027T010000
END:STANDARD
END:VTIMEZONE
BEGIN:VEVENT
DTSTART;TZID=Europe/Warsaw:20240226T090000
DTEND;TZID=Europe/Warsaw:20240226T170000
DTSTAMP:20260421T112237
CREATED:20240219T090540Z
LAST-MODIFIED:20240219T090627Z
UID:10015358-1708938000-1708966800@kultura.tarnow.pl
SUMMARY: Wewnętrzny horyzont
DESCRIPTION:Biuro Wystaw Artystycznych w Tarnowie zaprasza na wystawę „Wewnętrzny horyzont” \nArtyści i artystki: Agnieszka Bartak-Lisikiewicz\, Dominika Borek\, Magdalena Daniec\, Tomasz Daniec\, Grzegorz Frydryk\, Piotr Idzi\, Antonina Janus-Szybist\, Paweł Marcinek\, Agnieszka Pawłowska-Górska\, Agnieszka Piksa \nPrace z kolekcji Małopolskiej Fundacji Muzeum Sztuki Współczesnej: Aneta Grzeszykowska & Jan Smaga\, Miho Iwata \nKuratorzy: Dominika Borek\, Paweł Marcinek \nWystawa czynna do 28.03.2024 r.: \nPoniedziałek-czwartek 9:00-17:00\nNiedziela 9:00-17:00 \nProjekt finansowany ze środków Akademii Tarnowskiej\, umowa nr BAD-05/2023 Wewnętrzny horyzont.
URL:https://kultura.tarnow.pl/wydarzenie/wewnetrzny-horyzont-2/2024-02-26/
LOCATION:BWA na Dworcu PKP\, Plac Dworcowy 4\, Tarnów\, małopolskie\, 33-100\, Polska
CATEGORIES:wystawy
ORGANIZER;CN="Biuro Wystaw Artystycznych":MAILTO:biuro@bwa.tarnow.pl
GEO:50.0057629;20.9744639
X-APPLE-STRUCTURED-LOCATION;VALUE=URI;X-ADDRESS=BWA na Dworcu PKP Plac Dworcowy 4 Tarnów małopolskie 33-100 Polska;X-APPLE-RADIUS=500;X-TITLE=Plac Dworcowy 4:geo:20.9744639,50.0057629
END:VEVENT
BEGIN:VEVENT
DTSTART;TZID=Europe/Warsaw:20240226T100000
DTEND;TZID=Europe/Warsaw:20240226T170000
DTSTAMP:20260421T112237
CREATED:20240219T090259Z
LAST-MODIFIED:20240219T090259Z
UID:10015535-1708941600-1708966800@kultura.tarnow.pl
SUMMARY:Twój maszkaron
DESCRIPTION:Wystawa powstała we współpracy Biura Wystaw Artystycznych i inicjatywy @niezlemiejsce. Jest prezentacją efektów pracy z warsztatów odbywających się w grudniu 2023\, które były nagrodą w konkursie. Zadaniem uczestniczących grup było przygotowanie wystawy prezentującej kolorowanki z Architektonicznego Elementarza Tarnowa. Konkurs miał na celu rozwijanie przestrzennej świadomości u dzieci oraz ich obcowanie z architektoniczną wiedzą na elementarnym poziomie. W efekcie warsztatów powstało około 130 małych maszkaronów\, które stały się tematem przewodnim wystawy. \nDo wystawy został stworzony profil na instagramie @twoj_maszakaron\, dzięki któremu każdy zwiedzający ekspozycję może stać się [maszkaronem] jej częścią! – przyjdź na Wałową 25 i dowiedz się więcej! \nProwadzący warsztaty: Akademia Architektury – Sonia i Bartłomiej Pochopień \nW programie wystawy: \nWarsztaty z animacji poklatkowej – szczegóły wkrótce \nWystawa czynna 14.02-7.03.2024: \nponiedziałek\, środa\, czwartek 10:00-17:00 \nniedziela: 10:00-17:00\, wstęp wolny (na wystawę i wydarzenia) \nZwycięskie grupy: \nPrzedszkola \nI miejsce: grupy VI\, V i IV – Przedszkole Publiczne nr 32 w Tarnowie \nII miejsce: Przedszkole Publiczne nr 33 w Tarnowie \nIII miejsce: Przedszkole Publiczne nr 5 w Tarnowie \nSzkoły podstawowe \nI miejsce: Społeczna Szkoła Podstawowa nr 2 STO w Tarnowie \nII miejsce: Szkoła Podstawowa nr 23 w Tarnowie \nIII miejsce: Szkoła Podstawowa nr 14 w Tarnowie (klasa 3b)
URL:https://kultura.tarnow.pl/wydarzenie/twoj-maszkaron/2024-02-26/
LOCATION:Multimedialne Centrum Artystyczne\, Wałowa 25\, Tarnów\, małopolskie\, 33-100\, Polska
CATEGORIES:wystawy
ATTACH;FMTTYPE=image/png:https://kultura.tarnow.pl/wp-content/uploads/Twoj-maszkaron_grafika.png
ORGANIZER;CN="Biuro Wystaw Artystycznych":MAILTO:biuro@bwa.tarnow.pl
GEO:50.013866931068;20.987989998201
X-APPLE-STRUCTURED-LOCATION;VALUE=URI;X-ADDRESS=Multimedialne Centrum Artystyczne Wałowa 25 Tarnów małopolskie 33-100 Polska;X-APPLE-RADIUS=500;X-TITLE=Wałowa 25:geo:20.987989998201,50.013866931068
END:VEVENT
BEGIN:VEVENT
DTSTART;TZID=Europe/Warsaw:20240226T183000
DTEND;TZID=Europe/Warsaw:20240226T193000
DTSTAMP:20260421T112237
CREATED:20240222T135218Z
LAST-MODIFIED:20240222T135218Z
UID:10014916-1708972200-1708975800@kultura.tarnow.pl
SUMMARY:Wernisaże dzień po dniu: piąta edycja
DESCRIPTION:Od pierwszej edycji cyklu „Wernisaże dzień po dniu” minęły już prawie dwa lata. Za kilka dni rozpocznie się jego piąta odsłona. Od 26 lutego do 2 marca 2024 roku w Galerii TCK zaprezentujemy 10 wystaw indywidualnych oraz 1 wystawę zbiorową. \nCharakter cyklu pozostaje niezmienny – każda wystawa potrwa od wernisażu do demontażu (godzina 15:00 następnego dnia). O tym\, dlaczego tak właśnie jest\, opowiada Tomasz Sobczak – Prezes Tarnowskiego Towarzystwa Fotograficznego\, koordynator otwARTej Pracowni Fotograficznej i pomysłodawca cyklu: \n(…) kontrowersyjna formuła zmusza fanów fotografii do uczestnictwa w otwarciu wystawy\, bo z definicji „żyje” ona tylko jeden dzień. Docierały do mnie głosy\, że to za krótko\, że nie zdążę zobaczyć\, że tak nie można. Jednak formuła jednodniowa pozostaje niezmienna. Nie od dziś wiadomo\, że na wernisażach wystaw dzieje się najwięcej. Ciekawe rozmowy\, spotkania\, obcowanie z autorem i innymi osobami. Wspomniana formuła ma zatem nieść także przesłanie\, że warto przychodzić na wernisaże! \n*wystawy są dostępne od momentu wernisażu do dnia następnego (w godz. 10:00-15:00)\, wstęp bezpłatny \n26 lutego\, godzina 18:30\nPaweł Wadas „Samoloty”\nKrzysztof Madej „Cerkiewne banie i krzyże” \n27 lutego\, godzina 18:30\nJan Pękala „Fanaberia – Magiczny Kazimierz”\nMateusz Kolano „Wehikuł czasu …. po kolei” \n28 lutego\, godzina 18:30\nElżbieta i Bogdan Litwora „Ostrza flamenco”\nWiesław Leżanka „Wild Desert” \n29 lutego\, godzina 18:30\nAgnieszka Hołda-Myśliwiec „Wychodzę z siebie. Portret jako próba poznania człowieka.”\nMarta Sysło „Baśnie dla starszych dzieci” \n1 marca\, godzina 18:30\n„Pasjonaci fotografii” – zbiorowa wystawa uczestników grupy początkującej otwARTej Pracowni Fotograficznej\nAutorzy: Tomasz Bania\, Robert Burza\, Monika Frys-Żurek\, Dominik Kozioł\, Katarzyna Maniak\, Barbara Mastalerek\, Monika Maurycy\, Beata Opałka\, Monika Rymanowska\, Maciej Szepielak\, Aleksandra Szot\, Elżbieta Szyzdek\, Magdalena Tomasik\, Paweł Wadas\, Ewa Wąż \n2 marca\, godzina 18:30\nGabriela Półkoszek „Bieguna Ciepła”\nEwa Serafińska „… bo czasami FAVELA to tylko słowo…” \nCykl wernisaży jest pewnego rodzaju podsumowaniem i prezentacją działań otwARTej Pracowni Fotograficznej działającej w Tarnowskim Centrum Kultury. Zajęcia prowadzone przez profesjonalistów z Tarnowskiego Towarzystwa Fotograficznego oraz osób zaprzyjaźnionych prowadzone są w trzech grupach: początkującej\, zaawansowanej oraz dziecięcej. Zapraszamy do zapisów na nowy semestr – w Biurze Obsługi TCK (Rynek 5\, Tarnów).
URL:https://kultura.tarnow.pl/wydarzenie/wernisaze-dzien-po-dniu-piata-edycja/2024-02-26/
LOCATION:Tarnowskie Centrum Kultury\, Rynek 5\, Tarnów\, małopolskie\, 33-100\, Polska
CATEGORIES:wernisaże
ATTACH;FMTTYPE=image/jpeg:https://kultura.tarnow.pl/wp-content/uploads/f28cff538ccdb82b922e4c01cb3fc9ae.jpeg
GEO:50.012155;20.9878542
X-APPLE-STRUCTURED-LOCATION;VALUE=URI;X-ADDRESS=Tarnowskie Centrum Kultury Rynek 5 Tarnów małopolskie 33-100 Polska;X-APPLE-RADIUS=500;X-TITLE=Rynek 5:geo:20.9878542,50.012155
END:VEVENT
END:VCALENDAR