BEGIN:VCALENDAR
VERSION:2.0
PRODID:-//kultura.tarnów - ECPv6.4.0.1//NONSGML v1.0//EN
CALSCALE:GREGORIAN
METHOD:PUBLISH
X-ORIGINAL-URL:https://kultura.tarnow.pl
X-WR-CALDESC:Wydarzenia dla
REFRESH-INTERVAL;VALUE=DURATION:PT1H
X-Robots-Tag:noindex
X-PUBLISHED-TTL:PT1H
BEGIN:VTIMEZONE
TZID:Europe/Warsaw
BEGIN:DAYLIGHT
TZOFFSETFROM:+0100
TZOFFSETTO:+0200
TZNAME:CEST
DTSTART:20240331T010000
END:DAYLIGHT
BEGIN:STANDARD
TZOFFSETFROM:+0200
TZOFFSETTO:+0100
TZNAME:CET
DTSTART:20241027T010000
END:STANDARD
END:VTIMEZONE
BEGIN:VEVENT
DTSTART;TZID=Europe/Warsaw:20240217T100000
DTEND;TZID=Europe/Warsaw:20240217T170000
DTSTAMP:20260421T161928
CREATED:20240202T110601Z
LAST-MODIFIED:20240202T110601Z
UID:10015406-1708164000-1708189200@kultura.tarnow.pl
SUMMARY:Wystawa: ON
DESCRIPTION:Tarnowskie Centrum Kultury zaprasza na wyjątkową wystawę upamiętniającą niedawno pożegnanego\, szczególnie przez współtworzone przez niego\, twórcze środowisko fotograficzne\, Bartosza Połecia. Krótki tytuł wystawy: ON. Jego rozszerzenie zawiera się w poniższych kilku zdaniach wyjaśnienia. Wystawa jest przedstawieniem materialnego wspomnienia tego\, co stworzył ON w ostatnich latach współpracując z naszą instytucją\, a wspierając swoje koleżanki i kolegów z TTF. \nOd kilku miesięcy przygotowywaliśmy się do fotograficznego święta.\nPięcioro z nas pracowało nad materiałem\, który miał być zwieńczeniem drogi prowadzącej do otrzymania artystycznego tytułu Międzynarodowej Federacji Sztuki Fotograficznej FIAP.\nPięć różnych osobowości i pięć wystaw\, każda będąca indywidualną wypowiedzią na tematy ważne i bliskie sercu autorek i autora.\nŻycie postanowiło jednak napisać inny scenariusz. Scenariusz smutny i bolesny\, którego nikt z nas się nie spodziewał.\n27 stycznia odprowadziliśmy na miejsce wiecznego spoczynku Bartosza Połecia\, naszego kolegę\, przyjaciela\, człowieka niezwykłego i bliskiego większości z nas.\nW ostatnich dniach jego przyjaciele napisali wiele pięknych i mądrych słów o Bartku. Warto wracać do tych wypowiedzi bo jest w nich zawarta cząstka prawdy o Nim.\nO artyście nietuzinkowym i wielowymiarowym. O fotografie\, malarzu i grafiku. Ale także o człowieku wrażliwym\, pomocnym\, życzliwym i po prostu dobrym.\nIdąc za głosem serca pragniemy oddać mu czas i miejsce które czekało na nasze wystawy w Tarnowskim Centrum Kultury. Chcemy przypomnieć jego prace\, choćby niektóre\, bo stworzył ich bardzo wiele.\nChcemy podzielić się z innymi Bartkiem jakiego znaliśmy. \nSławomir Długołęcki\, Bożena Kaczmarczyk\, Elżbieta Litwora\, Paulina Michałek\, Karolina Ruszel \nWystawa czynna od 10 do 24 lutego 2023 roku. Galeria TCK czynna pn.-pt. w godz. 10:00-18:00\, sb. w godz. 10:00-17:00. Wstęp wolny.
URL:https://kultura.tarnow.pl/wydarzenie/wystawa-on-2/2024-02-17/
LOCATION:Tarnowskie Centrum Kultury\, Rynek 5\, Tarnów\, małopolskie\, 33-100\, Polska
CATEGORIES:wystawy
ATTACH;FMTTYPE=image/jpeg:https://kultura.tarnow.pl/wp-content/uploads/2ade2de571b0add50f420d6063079bf6.jpeg
GEO:50.012155;20.9878542
X-APPLE-STRUCTURED-LOCATION;VALUE=URI;X-ADDRESS=Tarnowskie Centrum Kultury Rynek 5 Tarnów małopolskie 33-100 Polska;X-APPLE-RADIUS=500;X-TITLE=Rynek 5:geo:20.9878542,50.012155
END:VEVENT
BEGIN:VEVENT
DTSTART;TZID=Europe/Warsaw:20240217T110000
DTEND;TZID=Europe/Warsaw:20240217T170000
DTSTAMP:20260421T161928
CREATED:20230424T102333Z
LAST-MODIFIED:20230424T102333Z
UID:10014210-1708167600-1708189200@kultura.tarnow.pl
SUMMARY:Surrealizm – Salvador Dali i inni
DESCRIPTION:Artyści: Krystyna Baniowska\, Piotr Barszczowski\, Piotr Bubak\, Stanisław Chmiel\, Ewa Fleszar\, Roman Fleszar\, Weronika Fleszar\, Mateusz Kijak\, Kazimierz Klimkiewicz\, Stanisław Kucharzyk\, Elżbieta Pazera\, Witold Pazera\, Michał Poręba\, Elżbieta Remian\, Piotr Rączka\, Jerzy Ruszel\, Anna Śliwińska\, Kazimierz Twardowski\, Grzegorz Wójcik\, Aleksandra Zuba-Benn \nSłowo SUR – to NA\, np.: sur la table – na stole. SURREALIZM – NADREALIZM\, zorganizowany ruch intelektualny pierwszej ćwierci XX wieku powstały we Francji. Surrealiści przyjęli ten termin w hołdzie dla G. Apollinaire`a\, który pierwszy użył tego sformułowania w 1918 roku w podtytule swojej sztuki\, nadając ruchowi nowy sens. Wyrastał on z doświadczeń\, przeżyć i przemyśleń związanych z I wojną światową\, a wywodził się z dadaizmu. Jednym z dążeń surrealizmu było pełne wyzwolenie osobowości człowieka\, pojęte jako ujawnienie jego ukrytych sił\, pragnień i marzeń\, zepchniętych w podświadomość przez rozum i rozsądek\, ogólnie przyjęte zasady obyczajowe i moralne. \nMANIFEST SURREALIZMU w 1924 roku napisał – ogłosił Andre BRETON\, początkowo odnosił się do literatury\, szybko jednak zainteresowali się nim twórcy innych dziedzin sztuki – wspaniałym przykładem są tu artyści malarze\, graficy. MANIFEST otworzył prawo do mówienia o nadrzędności przestrzeni na pograniczu snu i jawy. Artyści szukali metod i sposobu na wyrażenie idei tego nowego ruchu\, środki jakimi się posługiwali przedstawiały elementy rzeczywistości ujęte w nadrealny\, fantastyczny sposób. Obrazy były zapisem ze snów\, urojeń\, stanów delirycznych\, czy wszelkich czynności wykonywanych bez kontroli rozumu. Elementy rzeczywistości miały wymykać się logice\, rewolucjonizować życie codzienne…..obiekty i przedmioty\, nawet człowiek\, powinny znaleźć się w innych bytach\, przejść transformację\, np: ”człowiek jest ucieleśnionym deszczem”\, inny zaś z młotem\, lub ma jabłko zamiast głowy\, otwierający drzwi których nie ma……. a jak czytać istoty ciekłe z waty\, z wężowych skór\, upierzone drzewa\, zwierzęta niesione wiatrem\, modelowane z piasku. Surrealizm to miejsce spotkań najróżniejszych obiektów pochodzących z odmiennych kontekstów\, gdzie wszystko nabiera nowych nieoczekiwanych znaczeń……. np.: ”człowiek klatka schodowa\, człowiek litera\, ogryziona kość\, kropka\, strzęp\, kula\, człowiek trumna\, piszczałka\, sznurówka\, bagaż\, mgła i człowiek osad”\, a książka która gryzie ręce albo kłuje w oczy – tu przedmiot został wyzwolony i stał się wampirem\, książka dostaje przeciwstawną do swojej nową naturę. Bretonowskie ”puszczenie w obieg” przedmiotów dla wielu artystów stało się inspiracją do dania im nowego życia. Aktywność rzeczy dotychczas martwych\, obiektów nieuzależnionych od kontroli rozumu to niewyczerpane źródło tematów\, np.: ”wiatr upadł twarzą na ziemię”\, krzak śpiewa psalm”\, powietrze\, woda\, ziemia\, ogień\, barany\, smoki\, stwory złożone z mieczy\, igieł\, sztyletów. Do dziś wielu artystów korzysta i odwołuje się do postulowanego przez Bretona ”modelu wewnętrznego” czyli poszukiwania w sferze podświadomości\, jak to się dzieje\, mamy to każdego dnia: reklama\, teledyski\, wideoklipy. Nie ulega wątpliwości\, że surrealizm\, nie tylko twórcom\, ale i odbiorcom otworzył nowe obszary wyobraźni. \nKrystyna Baniowska Stąsiek Meyer (Wstęp do katalogu wystawy) \n 
URL:https://kultura.tarnow.pl/wydarzenie/surrealizm-salvador-dali-i-inni/2024-02-17/
LOCATION:Galeria ARTEKA\, Wałowa 16\, Tarnów\, 33-100
CATEGORIES:wystawy
ORGANIZER;CN="Stowarzyszenie Tarnowskich Artyst%C3%B3w Plastyk%C3%B3w":MAILTO:stowarzyszenie.arteka@gmail.com
END:VEVENT
BEGIN:VEVENT
DTSTART;TZID=Europe/Warsaw:20240217T160000
DTEND;TZID=Europe/Warsaw:20240217T173000
DTSTAMP:20260421T161928
CREATED:20231123T124124Z
LAST-MODIFIED:20240109T122534Z
UID:10014601-1708185600-1708191000@kultura.tarnow.pl
SUMMARY:"Sherlock Holmes - Studium w Szkarłacie"
DESCRIPTION:Spektakl powstał na podstawie powieści Artura Conana Doyle’a „Studium w szkarłacie” i jest to historia znanego na całym świecie lokatora mieszkania na Baker Street 221B. Sherlock Holmes z pomocą doktora Johna Watsona rozwiązuje sprawę pewnego morderstwa\, którego nie potrafili rozwiązać inni detektywi. W trakcie poszukiwania dostrzega w Watsonie przyjaciela.\n\n\n\nObsada:\nSherlock Holmes – Karol Śledź\nJohn Watson – Karol Czopek\nJefferson Hope – Jakub Półkoszek\nTobias Gregson – Natalia Gancarczyk\nPanna Lestrade – Magdalena Gagatek\nEnoch Drebber – Oliwier Barszcz\nPokojówka – Joanna Legawiec\nEmma Charpentier\, Lucy Ferrier – Wiktoria Gąsior\nAlicja Charpentier\, Stangerson\,Policjant – Zofia Gacoń\nArtur Charpentier\, Oficer – Mateusz Zawiła\nJohn Rance – Oliwia Cich\nWiggins – Aleksandr Bienias\nEkipa Wigginsa – Oliwia Cich\, Zuzanna Kluzek\n\n\nReżyseria: Natalia Gancarczyk\nScenariusz: Natalia Gancarczyk\, Karol Śledź\nScenografia i Kostiumy: Aleksandr Bienias\, Zuzanna Kluzek\, Karina Gieracka\nMuzyka: Milena Mazurkiewicz\nInspicjent: Sara Cyz
URL:https://kultura.tarnow.pl/wydarzenie/sherlock-holmes-studium-w-szkarlacie-2023-12-09/2024-02-17/
LOCATION:Teatr im. L.Solskiego\, Mickiewicza 4\, Tarnów\, małopolskie\, 33-100\, Polska
CATEGORIES:spektakle
GEO:50.0159214;20.987504
X-APPLE-STRUCTURED-LOCATION;VALUE=URI;X-ADDRESS=Teatr im. L.Solskiego Mickiewicza 4 Tarnów małopolskie 33-100 Polska;X-APPLE-RADIUS=500;X-TITLE=Mickiewicza 4:geo:20.987504,50.0159214
END:VEVENT
BEGIN:VEVENT
DTSTART;TZID=Europe/Warsaw:20240217T190000
DTEND;TZID=Europe/Warsaw:20240217T203000
DTSTAMP:20260421T161928
CREATED:20240111T120629Z
LAST-MODIFIED:20240118T091418Z
UID:10014723-1708196400-1708201800@kultura.tarnow.pl
SUMMARY:Stanisław Soyka z zespołem
DESCRIPTION:Stanisław Soyka – śpiewak\, instrumentalista\, kompozytor – już od lat należy do grona największych artystów polskiej sceny muzycznej. Komponuje i śpiewa pieśni o miłości i o jej braku\, pieśni o tęsknocie i spełnieniu\, ale nie ucieka przed wielkimi problemami współczesności. W jego dorobku znajdziemy ponad 30 albumów\, z których kilka osiągnęło multiplatynowe nakłady. Nigdy nie poddał się modom i trendom. \nWypracował swój własny język muzyczny przez co należy do grona artystów\, których styl rozpoznaje się od pierwszych dźwięków a bogactwo repertuaru może przyprawiać o zawrót głowy. Posiada na koncie dziesiątki autorskich pieśni lecz trudno pominąć fakt\, że skomponował muzykę do wielu wierszy poetów polskich i …nie tylko. \nPodczas koncertu usłyszymy piosenki z ostatniego albumu „Muzyka i słowa Stanisław Soyka” (nominowanego do nagrody FRYDERYK 2020)\, pieśni napisane do wierszy polskich i nie tylko poetów („Allegro ma non troppo” Wisławy Szymborskiej\, „Który skrzywdziłeś…” Czesława Miłosza\, „Tylko brać” Agnieszki Osieckiej)\, w sąsiedztwie takich szlagierów jak „Absolutnie nic”\, „Cud niepamięci” czy „Tolerancja”. \nTym razem wystąpi z zespołem SOYKA KWARTET. Towarzyszyć mu będą Przemek Greger na gitarze akustycznej\, syn Kuba na perkusji oraz Zbyszek Brysiak na perkusjonaliach. SOYKA KWARTET stanowi bogatą i niebywale ciekawą paletę kolorystyczną a jazzowe temperamenty i kompetencje wyzwalają podczas nagrań i w czasie koncertów tę unikalną moc muzyki improwizowanej. \nWarto wybrać się na koncert Soyki bo to zupełne tak\, jakbyśmy na jakiś czas znaleźli się w innym wymiarze\, pełnym piękna i dobrych emocji\, które tylko on potrafi z taką lekkością wywołać w swojej publiczności.\nPrzyjdźcie a przekonacie się o tym osobiście.
URL:https://kultura.tarnow.pl/wydarzenie/stanislaw-soyka-z-zespolem/
LOCATION:Kino „Marzenie”\, ul. Staszica 4\, Tarnów\, małopolskie\, 33-100\, Polska
CATEGORIES:koncerty
GEO:50.011762;20.9833798
X-APPLE-STRUCTURED-LOCATION;VALUE=URI;X-ADDRESS=Kino „Marzenie” ul. Staszica 4 Tarnów małopolskie 33-100 Polska;X-APPLE-RADIUS=500;X-TITLE=ul. Staszica 4:geo:20.9833798,50.011762
END:VEVENT
END:VCALENDAR