BEGIN:VCALENDAR
VERSION:2.0
PRODID:-//kultura.tarnów - ECPv6.4.0.1//NONSGML v1.0//EN
CALSCALE:GREGORIAN
METHOD:PUBLISH
X-ORIGINAL-URL:https://kultura.tarnow.pl
X-WR-CALDESC:Wydarzenia dla
REFRESH-INTERVAL;VALUE=DURATION:PT1H
X-Robots-Tag:noindex
X-PUBLISHED-TTL:PT1H
BEGIN:VTIMEZONE
TZID:Europe/Warsaw
BEGIN:DAYLIGHT
TZOFFSETFROM:+0100
TZOFFSETTO:+0200
TZNAME:CEST
DTSTART:20240331T010000
END:DAYLIGHT
BEGIN:STANDARD
TZOFFSETFROM:+0200
TZOFFSETTO:+0100
TZNAME:CET
DTSTART:20241027T010000
END:STANDARD
END:VTIMEZONE
BEGIN:VEVENT
DTSTART;TZID=Europe/Warsaw:20240211T100000
DTEND;TZID=Europe/Warsaw:20240211T170000
DTSTAMP:20260420T064506
CREATED:20240117T071728Z
LAST-MODIFIED:20240126T112628Z
UID:10014750-1707645600-1707670800@kultura.tarnow.pl
SUMMARY:"Najbliżej"
DESCRIPTION:Artyści i artystki: \nBartłomiej Bałut\, Bownik\, Edward Dwurnik\, Jarosław Fliciński\, Agata Głogowska\, Sława Harasymowicz\, Janusz Janczy\, Światosław Karwat\, Stanisław Koba\, Marcin Maciejowski\, Barbara Kinga Majewska\, Krzysztof Maniak\, Magdalena Miłoś\, Wilhelm Sasnal\, Joanna Srebro\, Supergrupa Azorro\, Nick Terry\, Katarzyna Wyszkowska \nW programie wystawy: \nNiedziela 21.01\, g. 15:00 – Pierwszy spacer po wystawie i performans Barbary Kingi Majewskiej / w tym dniu wystawa dostępna w g. 11:00-18:00 \nNiedziela 4.02\, g. 12:00 – Małe BWA na wystawie\, warsztaty dla dzieci 7-11 lat / prowadzenie: Agata Dymańska i Aleksandra Kubisztal\, bezpłatne\, obowiązują zapisy: edukacja@bwa.tarnow.pl \nCzwartek 8.02\, g. 16:45 – Spotkanie z Andą Rottenberg i promocja książki „Rozrzut” (po spotkaniu polecamy wernisaż wystawy Teresy Szafrańskiej i Miłosza Szafrańskiego – g. 18:00 Galeria Sztuki Hortar) / Tłusty Czwartek ze sztuką \nNiedziela 25.02\, g. 15:00 – Ostatni spacer po wystawie / prowadzenie: Krzysztof Maniak \nWystawa czynna: wtorek-piątek 10:00-17:00\, niedziela 11:00-18:00 \nWSTĘP WOLNY (na wystawę i wszystkie wydarzenia towarzyszące) \nZespół kuratorski: \nEwa Łączyńska-Widz oraz Agata Dymańska\, Aleksandra Kubisztal\, Piotr Kukla\, Miłosz Onak \n21.01-29.02.2024 \nBWA Tarnów / Pałacyk Strzelecki\, ul. Słowackiego 1 \n#TarnowNoweSpojrzenie \nProjekt „Tarnów – Nowe Spojrzenie”\, realizowany w ramach Programu Rozwój Lokalny\, finansowany ze środków Funduszy Norweskich.
URL:https://kultura.tarnow.pl/wydarzenie/najblizej/2024-02-11/
LOCATION:Biuro Wystaw Artystycznych\, ul. Słowackiego 1\, Tarnów\, małopolskie\, 33-100\, Polska
CATEGORIES:wystawy
ATTACH;FMTTYPE=image/jpeg:https://kultura.tarnow.pl/wp-content/uploads/Najblizej_BWA-Tarnow_plakat_net.jpg
ORGANIZER;CN="Biuro Wystaw Artystycznych":MAILTO:biuro@bwa.tarnow.pl
GEO:50.0178761;20.9827521
X-APPLE-STRUCTURED-LOCATION;VALUE=URI;X-ADDRESS=Biuro Wystaw Artystycznych ul. Słowackiego 1 Tarnów małopolskie 33-100 Polska;X-APPLE-RADIUS=500;X-TITLE=ul. Słowackiego 1:geo:20.9827521,50.0178761
END:VEVENT
BEGIN:VEVENT
DTSTART;TZID=Europe/Warsaw:20240211T180000
DTEND;TZID=Europe/Warsaw:20240211T200000
DTSTAMP:20260420T064506
CREATED:20240201T132214Z
LAST-MODIFIED:20240201T132214Z
UID:10015313-1707674400-1707681600@kultura.tarnow.pl
SUMMARY:Cinemarzenie
DESCRIPTION:Czas na kolejny miesiąc i trzy spotkania z dobrym kinem.\n⠀\n4 lutego | 18:00\n„Będzie lepiej” (reż. Olivier Nakache\, Éric Toledano)\nwww.bit.ly/Cinemarzenie_BedzieLepiej\n⠀\n11 lutego | 18:00\n„Totem” (reż. Lila Avilés)\nwww.bit.ly/Cinemarzenie_Totem\n⠀\n25 lutego | 18:00\n„La Chimera” (reż. Alice Rohrwacher)\nwww.bit.ly/Cinemarzenie_LaChimera\n⠀\nDo zobaczenia w kinie Marzenie!\nBilety: 17\,99 zł
URL:https://kultura.tarnow.pl/wydarzenie/cinemarzenie-7/2024-02-11/
LOCATION:Kino „Marzenie”\, ul. Staszica 4\, Tarnów\, małopolskie\, 33-100\, Polska
CATEGORIES:filmy
GEO:50.011762;20.9833798
X-APPLE-STRUCTURED-LOCATION;VALUE=URI;X-ADDRESS=Kino „Marzenie” ul. Staszica 4 Tarnów małopolskie 33-100 Polska;X-APPLE-RADIUS=500;X-TITLE=ul. Staszica 4:geo:20.9833798,50.011762
END:VEVENT
END:VCALENDAR