BEGIN:VCALENDAR
VERSION:2.0
PRODID:-//kultura.tarnów - ECPv6.4.0.1//NONSGML v1.0//EN
CALSCALE:GREGORIAN
METHOD:PUBLISH
X-WR-CALNAME:kultura.tarnów
X-ORIGINAL-URL:https://kultura.tarnow.pl
X-WR-CALDESC:Wydarzenia dla
REFRESH-INTERVAL;VALUE=DURATION:PT1H
X-Robots-Tag:noindex
X-PUBLISHED-TTL:PT1H
BEGIN:VTIMEZONE
TZID:Europe/Warsaw
BEGIN:DAYLIGHT
TZOFFSETFROM:+0100
TZOFFSETTO:+0200
TZNAME:CEST
DTSTART:20240331T010000
END:DAYLIGHT
BEGIN:STANDARD
TZOFFSETFROM:+0200
TZOFFSETTO:+0100
TZNAME:CET
DTSTART:20241027T010000
END:STANDARD
END:VTIMEZONE
BEGIN:VEVENT
DTSTART;TZID=Europe/Warsaw:20240208T100000
DTEND;TZID=Europe/Warsaw:20240208T170000
DTSTAMP:20260420T044252
CREATED:20240117T071728Z
LAST-MODIFIED:20240126T112628Z
UID:10014748-1707386400-1707411600@kultura.tarnow.pl
SUMMARY:"Najbliżej"
DESCRIPTION:Artyści i artystki: \nBartłomiej Bałut\, Bownik\, Edward Dwurnik\, Jarosław Fliciński\, Agata Głogowska\, Sława Harasymowicz\, Janusz Janczy\, Światosław Karwat\, Stanisław Koba\, Marcin Maciejowski\, Barbara Kinga Majewska\, Krzysztof Maniak\, Magdalena Miłoś\, Wilhelm Sasnal\, Joanna Srebro\, Supergrupa Azorro\, Nick Terry\, Katarzyna Wyszkowska \nW programie wystawy: \nNiedziela 21.01\, g. 15:00 – Pierwszy spacer po wystawie i performans Barbary Kingi Majewskiej / w tym dniu wystawa dostępna w g. 11:00-18:00 \nNiedziela 4.02\, g. 12:00 – Małe BWA na wystawie\, warsztaty dla dzieci 7-11 lat / prowadzenie: Agata Dymańska i Aleksandra Kubisztal\, bezpłatne\, obowiązują zapisy: edukacja@bwa.tarnow.pl \nCzwartek 8.02\, g. 16:45 – Spotkanie z Andą Rottenberg i promocja książki „Rozrzut” (po spotkaniu polecamy wernisaż wystawy Teresy Szafrańskiej i Miłosza Szafrańskiego – g. 18:00 Galeria Sztuki Hortar) / Tłusty Czwartek ze sztuką \nNiedziela 25.02\, g. 15:00 – Ostatni spacer po wystawie / prowadzenie: Krzysztof Maniak \nWystawa czynna: wtorek-piątek 10:00-17:00\, niedziela 11:00-18:00 \nWSTĘP WOLNY (na wystawę i wszystkie wydarzenia towarzyszące) \nZespół kuratorski: \nEwa Łączyńska-Widz oraz Agata Dymańska\, Aleksandra Kubisztal\, Piotr Kukla\, Miłosz Onak \n21.01-29.02.2024 \nBWA Tarnów / Pałacyk Strzelecki\, ul. Słowackiego 1 \n#TarnowNoweSpojrzenie \nProjekt „Tarnów – Nowe Spojrzenie”\, realizowany w ramach Programu Rozwój Lokalny\, finansowany ze środków Funduszy Norweskich.
URL:https://kultura.tarnow.pl/wydarzenie/najblizej/2024-02-08/
LOCATION:Biuro Wystaw Artystycznych\, ul. Słowackiego 1\, Tarnów\, małopolskie\, 33-100\, Polska
CATEGORIES:wystawy
ATTACH;FMTTYPE=image/jpeg:https://kultura.tarnow.pl/wp-content/uploads/Najblizej_BWA-Tarnow_plakat_net.jpg
ORGANIZER;CN="Biuro Wystaw Artystycznych":MAILTO:biuro@bwa.tarnow.pl
GEO:50.0178761;20.9827521
X-APPLE-STRUCTURED-LOCATION;VALUE=URI;X-ADDRESS=Biuro Wystaw Artystycznych ul. Słowackiego 1 Tarnów małopolskie 33-100 Polska;X-APPLE-RADIUS=500;X-TITLE=ul. Słowackiego 1:geo:20.9827521,50.0178761
END:VEVENT
BEGIN:VEVENT
DTSTART;TZID=Europe/Warsaw:20240208T100000
DTEND;TZID=Europe/Warsaw:20240208T170000
DTSTAMP:20260420T044252
CREATED:20240122T114219Z
LAST-MODIFIED:20240122T114219Z
UID:10015425-1707386400-1707411600@kultura.tarnow.pl
SUMMARY:Dariusz Marcinek - O czym myślisz miasto
DESCRIPTION:22.01-8.02.2024\nMultimedialne Centrum Artystyczne – oddział BWA Tarnów\, ul. Wałowa 25 \nCzy to jeszcze ja śnię ciebie miasto\, czy już ty mnie? Nie umiem\, nie umiem odróżnić. Zresztą jakie to ma znaczenie teraz\, gdy twoje ulice\, bramy\, labirynty piwnic\, cienie i półcienie wreszcie ułożyły się we mnie? Nie chcę się obudzić z ciebie i ty się ze mnie nie budź i niech trwają te kruche świadectwa naszych wspólnych wędrówek\, naszych wzruszeń.\nDariusz Marcinek \nDariusz Marcinek\, urodzony w 1977 roku w Tarnowie. Był nauczycielem języka polskiego i księgarzem. Obecnie pracuje jako taksówkarz. Fotografuje\, gra na gitarze i pisze wiersze. W 2021 roku wydał tomik „Oddalenia”. Jego wiersz w formie muralu znajduje się przy ulicy 16 Pułku Piechoty\, zrealizowany w ramach projektu „Daj słowo miastu”. \nW programie wystawy: \nSobota 27.01\, g. 14:00-18:00 – planszówki i retrogry na starych konsolach / prowadząca: Natalia Tryba / gramy dla WOŚP \nNiedziela 28.01\, g. 15:00-17:00 – kameralny koncert Dariusza Marcinka z elementami poezji / gramy dla WOŚP \nNiedziela 4.02\, g. 15:00 – Dariusz Marcinek oprowadza po wystawie oraz akcja PRZYNIEŚ (I PRZECZYTAJ) SWÓJ WIERSZ \nWystawa czynna:\nponiedziałek\, środa\, czwartek 10:00-17:00\nniedziela: 10:00-17:00\nwstęp wolny (na wystawę i wydarzenia) \n*W dniach 27-28.01 inne godziny otwarcia z uwagi na wydarzenia WOŚP\, MCA czynne:\nSobota 27.01\, g. 11:00-18:00\nNiedziela 28.01\, g. 12:00-19:00 \nWystawa prezentuje teksty poetyckie Dariusza Marcinka\, opisujące wędrówki po ulicach Tarnowa\, m.in. Urszulańskiej\, Krakowskiej\, Batorego\, Grunwaldzkiej\, Robotniczej\, Do Huty\, Kołłątaja\, Mościckiego oraz miejsca ekspozycji – ulicy Wałowej. \nCzy to jeszcze ja śnię ciebie miasto\, czy już ty mnie? Nie umiem\, nie umiem odróżnić. Zresztą jakie to ma znaczenie teraz\, gdy twoje ulice\, bramy\, labirynty piwnic\, cienie i półcienie wreszcie ułożyły się we mnie? Nie chcę się obudzić z ciebie i ty się ze mnie nie budź i niech trwają te kruche świadectwa naszych wspólnych wędrówek\, naszych wzruszeń.\nDariusz Marcinek \nDariusz Marcinek\, urodzony w 1977 roku w Tarnowie. Był nauczycielem języka polskiego i księgarzem. Obecnie pracuje jako taksówkarz. Fotografuje\, gra na gitarze i pisze wiersze. W 2021 roku wydał tomik „Oddalenia”. Jego wiersz w formie muralu znajduje się przy ulicy 16 Pułku Piechoty\, zrealizowany w ramach projektu „Daj słowo miastu”.
URL:https://kultura.tarnow.pl/wydarzenie/dariusz-marcinek-o-czym-myslisz-miasto-2/2024-02-08/
LOCATION:Multimedialne Centrum Artystyczne\, Wałowa 25\, Tarnów\, małopolskie\, 33-100\, Polska
CATEGORIES:wystawy
ORGANIZER;CN="Biuro Wystaw Artystycznych":MAILTO:biuro@bwa.tarnow.pl
GEO:50.013866931068;20.987989998201
X-APPLE-STRUCTURED-LOCATION;VALUE=URI;X-ADDRESS=Multimedialne Centrum Artystyczne Wałowa 25 Tarnów małopolskie 33-100 Polska;X-APPLE-RADIUS=500;X-TITLE=Wałowa 25:geo:20.987989998201,50.013866931068
END:VEVENT
BEGIN:VEVENT
DTSTART;TZID=Europe/Warsaw:20240208T110000
DTEND;TZID=Europe/Warsaw:20240208T170000
DTSTAMP:20260420T044252
CREATED:20230424T102333Z
LAST-MODIFIED:20230424T102333Z
UID:10014203-1707390000-1707411600@kultura.tarnow.pl
SUMMARY:Surrealizm – Salvador Dali i inni
DESCRIPTION:Artyści: Krystyna Baniowska\, Piotr Barszczowski\, Piotr Bubak\, Stanisław Chmiel\, Ewa Fleszar\, Roman Fleszar\, Weronika Fleszar\, Mateusz Kijak\, Kazimierz Klimkiewicz\, Stanisław Kucharzyk\, Elżbieta Pazera\, Witold Pazera\, Michał Poręba\, Elżbieta Remian\, Piotr Rączka\, Jerzy Ruszel\, Anna Śliwińska\, Kazimierz Twardowski\, Grzegorz Wójcik\, Aleksandra Zuba-Benn \nSłowo SUR – to NA\, np.: sur la table – na stole. SURREALIZM – NADREALIZM\, zorganizowany ruch intelektualny pierwszej ćwierci XX wieku powstały we Francji. Surrealiści przyjęli ten termin w hołdzie dla G. Apollinaire`a\, który pierwszy użył tego sformułowania w 1918 roku w podtytule swojej sztuki\, nadając ruchowi nowy sens. Wyrastał on z doświadczeń\, przeżyć i przemyśleń związanych z I wojną światową\, a wywodził się z dadaizmu. Jednym z dążeń surrealizmu było pełne wyzwolenie osobowości człowieka\, pojęte jako ujawnienie jego ukrytych sił\, pragnień i marzeń\, zepchniętych w podświadomość przez rozum i rozsądek\, ogólnie przyjęte zasady obyczajowe i moralne. \nMANIFEST SURREALIZMU w 1924 roku napisał – ogłosił Andre BRETON\, początkowo odnosił się do literatury\, szybko jednak zainteresowali się nim twórcy innych dziedzin sztuki – wspaniałym przykładem są tu artyści malarze\, graficy. MANIFEST otworzył prawo do mówienia o nadrzędności przestrzeni na pograniczu snu i jawy. Artyści szukali metod i sposobu na wyrażenie idei tego nowego ruchu\, środki jakimi się posługiwali przedstawiały elementy rzeczywistości ujęte w nadrealny\, fantastyczny sposób. Obrazy były zapisem ze snów\, urojeń\, stanów delirycznych\, czy wszelkich czynności wykonywanych bez kontroli rozumu. Elementy rzeczywistości miały wymykać się logice\, rewolucjonizować życie codzienne…..obiekty i przedmioty\, nawet człowiek\, powinny znaleźć się w innych bytach\, przejść transformację\, np: ”człowiek jest ucieleśnionym deszczem”\, inny zaś z młotem\, lub ma jabłko zamiast głowy\, otwierający drzwi których nie ma……. a jak czytać istoty ciekłe z waty\, z wężowych skór\, upierzone drzewa\, zwierzęta niesione wiatrem\, modelowane z piasku. Surrealizm to miejsce spotkań najróżniejszych obiektów pochodzących z odmiennych kontekstów\, gdzie wszystko nabiera nowych nieoczekiwanych znaczeń……. np.: ”człowiek klatka schodowa\, człowiek litera\, ogryziona kość\, kropka\, strzęp\, kula\, człowiek trumna\, piszczałka\, sznurówka\, bagaż\, mgła i człowiek osad”\, a książka która gryzie ręce albo kłuje w oczy – tu przedmiot został wyzwolony i stał się wampirem\, książka dostaje przeciwstawną do swojej nową naturę. Bretonowskie ”puszczenie w obieg” przedmiotów dla wielu artystów stało się inspiracją do dania im nowego życia. Aktywność rzeczy dotychczas martwych\, obiektów nieuzależnionych od kontroli rozumu to niewyczerpane źródło tematów\, np.: ”wiatr upadł twarzą na ziemię”\, krzak śpiewa psalm”\, powietrze\, woda\, ziemia\, ogień\, barany\, smoki\, stwory złożone z mieczy\, igieł\, sztyletów. Do dziś wielu artystów korzysta i odwołuje się do postulowanego przez Bretona ”modelu wewnętrznego” czyli poszukiwania w sferze podświadomości\, jak to się dzieje\, mamy to każdego dnia: reklama\, teledyski\, wideoklipy. Nie ulega wątpliwości\, że surrealizm\, nie tylko twórcom\, ale i odbiorcom otworzył nowe obszary wyobraźni. \nKrystyna Baniowska Stąsiek Meyer (Wstęp do katalogu wystawy) \n 
URL:https://kultura.tarnow.pl/wydarzenie/surrealizm-salvador-dali-i-inni/2024-02-08/
LOCATION:Galeria ARTEKA\, Wałowa 16\, Tarnów\, 33-100
CATEGORIES:wystawy
ORGANIZER;CN="Stowarzyszenie Tarnowskich Artyst%C3%B3w Plastyk%C3%B3w":MAILTO:stowarzyszenie.arteka@gmail.com
END:VEVENT
BEGIN:VEVENT
DTSTART;TZID=Europe/Warsaw:20240208T170000
DTEND;TZID=Europe/Warsaw:20240208T190000
DTSTAMP:20260420T044252
CREATED:20240202T085201Z
LAST-MODIFIED:20240202T085201Z
UID:10015382-1707411600-1707418800@kultura.tarnow.pl
SUMMARY:Paweł Piszczek - spotkanie autorskie
DESCRIPTION:“Tradycyjne smaki Tarnowa\, tradycyjne smaki regionu” – spotkanie autorskie \n\nCzytelnia Czasopism\, ul. Krakowska 4 (parter)\, 8 lutego 2024 r.\, godz. 17:00\n \nSpotkanie odbędzie się w tłusty czwartek\, a wedle tradycji\, w tym dniu dozwolone jest objadanie się :-). \nTłusty czwartek znany także pod nazwą zapusty\, mięsopust rozpoczyna ostatni tydzień karnawału. Najpopularniejsze potrawy jadane w tym dniu to pączki i faworki\, zwane również w niektórych regionach chrustem lub chruścikami. Dawniej objadano się pączkami nadziewanymi słoniną\, boczkiem i mięsem\, które obficie zapijano wódką. Dopiero około XVI wieku w Polsce pojawił się zwyczaj jedzenia pączków w wersji słodkiej. \nPAWEŁ PISZCZEK \nTarnowianin\, z wykształcenia socjolog. Założyciel i prezes stowarzyszenia „Towarzystwo Dobrego Smaku”. Przewodnik kulinarny i winiarski. Certyfikowany sommelier. Znawca\, miłośnik i promotor lokalnych produktów i win. Właściciel marek Enologik i Enotours. Krytyk kulinarny\, dziennikarz\, autor książek z tradycyjnymi przepisami z Małopolski „Smaki Przedgórza” oraz „Tradycje Kulinarne Regionu Tarnowskiego”.
URL:https://kultura.tarnow.pl/wydarzenie/pawel-piszczek-spotkanie-autorskie/
LOCATION:Miejska Biblioteka Publiczna im. J. Słowackiego\, Staszica 6\, Tarnów\, małopolskie\, 33-100\, Polska
CATEGORIES:wieczory autorskie
ATTACH;FMTTYPE=image/jpeg:https://kultura.tarnow.pl/wp-content/uploads/425308338_1078442310010786_3747641444105248507_n.jpg
GEO:50.0118763;20.9833075
X-APPLE-STRUCTURED-LOCATION;VALUE=URI;X-ADDRESS=Miejska Biblioteka Publiczna im. J. Słowackiego Staszica 6 Tarnów małopolskie 33-100 Polska;X-APPLE-RADIUS=500;X-TITLE=Staszica 6:geo:20.9833075,50.0118763
END:VEVENT
BEGIN:VEVENT
DTSTART;TZID=Europe/Warsaw:20240208T180000
DTEND;TZID=Europe/Warsaw:20240208T190000
DTSTAMP:20260420T044252
CREATED:20240124T084416Z
LAST-MODIFIED:20240124T084416Z
UID:10015476-1707415200-1707418800@kultura.tarnow.pl
SUMMARY:Teresa Szafrańska & Miłosz Szafrański
DESCRIPTION:
URL:https://kultura.tarnow.pl/wydarzenie/teresa-szafranska-milosz-szafranski/
LOCATION:Galeria Hortar\, ul. legionów 32\, Tarnów\, małopolskie\, 33-100\, Polska
CATEGORIES:wernisaże
ATTACH;FMTTYPE=image/jpeg:https://kultura.tarnow.pl/wp-content/uploads/galeria.hortar.com_.pl-nadchodzace-wernisaze-i-wystawy-broszura-szafranscy-gotowe-page-0002.jpg
ORGANIZER;CN="Galeria Hortar":MAILTO:hortar@hortar.com.pl
GEO:50.0180799;20.9875198
X-APPLE-STRUCTURED-LOCATION;VALUE=URI;X-ADDRESS=Galeria Hortar ul. legionów 32 Tarnów małopolskie 33-100 Polska;X-APPLE-RADIUS=500;X-TITLE=ul. legionów 32:geo:20.9875198,50.0180799
END:VEVENT
END:VCALENDAR