BEGIN:VCALENDAR
VERSION:2.0
PRODID:-//kultura.tarnów - ECPv6.4.0.1//NONSGML v1.0//EN
CALSCALE:GREGORIAN
METHOD:PUBLISH
X-ORIGINAL-URL:https://kultura.tarnow.pl
X-WR-CALDESC:Wydarzenia dla
REFRESH-INTERVAL;VALUE=DURATION:PT1H
X-Robots-Tag:noindex
X-PUBLISHED-TTL:PT1H
BEGIN:VTIMEZONE
TZID:Europe/Warsaw
BEGIN:DAYLIGHT
TZOFFSETFROM:+0100
TZOFFSETTO:+0200
TZNAME:CEST
DTSTART:20240331T010000
END:DAYLIGHT
BEGIN:STANDARD
TZOFFSETFROM:+0200
TZOFFSETTO:+0100
TZNAME:CET
DTSTART:20241027T010000
END:STANDARD
END:VTIMEZONE
BEGIN:VEVENT
DTSTART;TZID=Europe/Warsaw:20240121T090000
DTEND;TZID=Europe/Warsaw:20240121T170000
DTSTAMP:20260423T110234
CREATED:20231124T103105Z
LAST-MODIFIED:20231124T103806Z
UID:10015123-1705827600-1705856400@kultura.tarnow.pl
SUMMARY:Saga rodu tarnowskich malarzy
DESCRIPTION:Wiesław Röhrenschef  – Malarstwo (100 – lecie urodzin) \nAndrew Kolo – Malarstwo (Z Tarnowa do Hollywood) \nANEKS:\nZbigniew Sałaj\, obiekt z kolekcji\nMałopolskiej Fundacji Muzeum Sztuki Współczesnej \nBWA Dworzec PKP w Tarnowie\n19.11.2023 – 04.02.2024\nWstęp wolny \n16.12.23 (sobota) g. 17:00 – wieczór poetycko-muzyczny poświęcony twórczości Wiesława Röhrenschefa. Obsada i kierownictwo muzyczne Grażyna Kuta.  (sale Dworca PKP w Tarnowie) \nW tym roku przypada setna rocznica urodzin wybitnego artysty malarza\, pedagoga i poety\, Wiesława Röhrenschefa. Tak się składa\, że jest to również 30-sta rocznica Jego śmierci… \nZ tej okazji Biuro Wystaw Artystycznych w Tarnowie postanowiło przypomnieć sylwetkę tego niezwykłego tarnowianina. Na wystawę w salach ekspozycyjnych na terenie Dworca PKP składają się unikalne prace malarskie udostępnione ze zbiorów tarnowskiego Muzeum Okręgowego\, prace będące w kolekcjach prywatnych oraz wybrane wiersze. \nWiesław Röhrenschef był od samego początku związany z Państwowym Liceum Sztuk Plastycznych\, gdzie wychował liczne pokolenia młodych adeptów sztuki. Miejsce szczególne w Jego sercu zajmował zabytkowy Dwór w Jeżowie (obecnie Ośrodek Szkolenia i Archiwum tejże szkoły)\, gdzie spędzał każdą wolną chwilę i gdzie zostawił swoje serce. Temu wątkowi też poświęcony jest spory fragment ekspozycji\, w tym esej Jolanty Chliszcz. \nZaproszenie do wspólnej wystawy przyjął siostrzeniec Wiesława Röhrenschefa\, polsko-amerykański artysta Andrew Kolo\, który po blisko czterdziestu latach spędzonych w USA powrócił niedawno do Ojczyzny. Na wystawie zobaczymy obrazy olejne powstałe w ostatnich trzech latach\, w których odnaleźć można niesamowity klimat skapanej w słońcu Kalifornii. Andrew\, który jest również poetą i dramaturgiem\, zaproponował aby w trakcie trwania wystawy obył się wieczór poetycko-muzyczny\, który planowany jest na 16-go grudnia (w sobotę)\, o godzinie 17.00\, zaraz po oficjalnym otwarciu wystawy (godzina 16.00). Obsada i kierownictwo muzyczne Grażyna Kuta. \nWystawie tych dwojga wybitnych artystów towarzyszy aneks\, niemniej wybitnego twórcy – Zbigniewa Sałaja\, prezentujący wysublimowaną pracę będącą w zbiorach Małopolskiej Kolekcji Muzeum Sztuki Współczesnej. \nEksponaty ze zbiorów: \n– Muzeum Okręgowego w Tarnowie\n– Ośrodka Szkolenia i Archiwów Liceum Sztuk Plastycznych w Tarnowie (dzięki życzliwości Jolanty i Zbigniewa Dudów – administratorów Dworu w Jeżowie)\n– Dariusza Romanowskiego (tomiki poezji)\n– Kolekcji prywatnej (zbiór exlibrisów)\n– Andrew Kolo – obrazy i multimedia z kolekcji Artysty\n– Małopolskiej Fundacji Muzeum Sztuki Współczesnej \nKuratorzy wystawy\, aranżacja\, realizacja techniczna: \nPiotr Kukla\, Miłosław Onak \nBiogramy: \nRöhrenschef Wiesław \n \nUrodził się w Bogumiłowicach pod Tarnowem w 1923 r. Studia artystyczne ukończył na ASP w Krakowie w 1951 r. \nWystawiał od 1948 r. Do 1979 r. brał udział w 149 wystawach\, w tym w 22 o charakterze ogólnopolskim lub międzynarodowym. Miał 4 wystawy zagraniczne i 20 indywidualnych. Prace artysty znajdują się w zbiorach Muzeum Narodowego w Warszawie\, Muzeum Okręgowego w Tarnowie\, Muzeum Zamkowego w Malborku\, Muzeum w Kiskörös na Węgrzech. Był nauczycielem w LSP w Tarnowie\, gdzie był szczególnie znany z wykładów z historii sztuki\, którą interpretował po swojemu\, romantycznie. Wydał dwa tomiki poezji  „Wzgórza porosłe snem” – 1989 i „Poprzez” – 1992. Zajmował się też historią jeżowskiego dworu oraz losami Artura Grottgera W 1991 r. obchodził 40 lecie pracy artystycznej i 39 lecie pracy w LSP. \nNieustannie powtarzał\, że to co „maluje i pisze zawsze wyraża jego stosunek do życia\, natury i ludzi. Kocha przyrodę\, wszystko co w niej żyje\, kocha człowieka i jego wrażliwość\, rzeczywistość pogodną i smutną”. Malował i rysował głównie portrety i pejzaże\, które tworzył cyklami „Strachy”\, „Legenda tarnowska”\, „Barykady”\, „Jeżowskie drzewa”\, „Kobieta”\, „Wenus”. Świetny i wrażliwy rysownik podchodził do natury wręcz z nabożeństwem.\nZmarł w Tarnowie w 1993 r. \n Andrew Kolo (Andrzej Kołodziej) \n \nUrodzony 15 maja 1944 roku w Tarnowie. Artysta malarz\, fotograf i poeta. Ukończył studia na Wydziale Sztuk Pięknych Uniwersytetu Mikołaja Kopernika w Toruniu\, gdzie obronił dyplom z zakresu malarstwa. W 1973 roku wyjechał do USA\, gdzie kontynuował studia malarskie w pracowni abstrakcjonisty prof. Sama Claybergera w Otis Art Institute w Los Angeles. W tym samym mieście założył również i prowadził polsko-amerykańską grupę artystów malarzy „Krakart”. Grupa przez 40 lat swojego istnienia zorganizowała ponad 40 wystaw\, w tym m.in. w 2003 roku prezentację czołowych polskich artystów w „Modern Art Gallery” w Los Angeles\, która była największą tego typu wystawą poza Polską. Oprócz Los Angeles artysta wystawiał swoje prace m.in. w Mexico City\, Seulu\, Nowym Jorku\, Waszyngtonie i Paryżu\, a ostatnio wraz z Grupą „Krakart” w Muzeum im. Kazimierza Pułaskiego w Warce. \nArtysta po blisko 40 latach pobytu w USA powrócił do Polski. Obecna prezentacja jest pierwszą w rodzinnym mieście. \nZbigniew Sałaj \n \nUr. w 1961 r. w Inowrocławiu. Zajmuje się malarstwem\, rysunkiem\, obiektami z papieru\, wideo oraz książką artystyczną. Absolwent krakowskiej ASP. Mieszka i pracuje w Krakowie. \nUprawia m. in. malarstwo sztalugowe i malarskie environment. Pokrywał wielowarstwowo malarskim wałkiem obrazy i przestrzeń galerii. Najbardziej znane są\, tworzone przez niego oryginalną metodą\, statyczne i ruchome obiekty z papieru\, a także przedmioty nawiązujące do koncepcji książki artystycznej. Klejone na krawędziach bryty papieru\, opracowuje w postaci zwartych obiektów bądź utworów amorficznych\, przyjmujących formę zależnie od ustawienia i kształtu podłoża. Również ich krawędzie pozostawia surowo obcięte albo żmudnie je opracowuje przez dłutowanie i wygładzanie dla uzyskania pożądanego kształtu. Często powstają przedmioty podatne na manipulowanie ich formą przez dotyk. \nBWA Dworzec PKP w Tarnowie\n19.11.2023 – 04.02.2024\nWstęp wolny
URL:https://kultura.tarnow.pl/wydarzenie/saga-rodu-tarnowskich-malarzy/2024-01-21/
LOCATION:BWA na Dworcu PKP\, Plac Dworcowy 4\, Tarnów\, małopolskie\, 33-100\, Polska
CATEGORIES:wystawy
ORGANIZER;CN="Biuro Wystaw Artystycznych":MAILTO:biuro@bwa.tarnow.pl
GEO:50.0057629;20.9744639
X-APPLE-STRUCTURED-LOCATION;VALUE=URI;X-ADDRESS=BWA na Dworcu PKP Plac Dworcowy 4 Tarnów małopolskie 33-100 Polska;X-APPLE-RADIUS=500;X-TITLE=Plac Dworcowy 4:geo:20.9744639,50.0057629
END:VEVENT
BEGIN:VEVENT
DTSTART;TZID=Europe/Warsaw:20240121T100000
DTEND;TZID=Europe/Warsaw:20240121T170000
DTSTAMP:20260423T110234
CREATED:20240117T071728Z
LAST-MODIFIED:20240126T112628Z
UID:10014735-1705831200-1705856400@kultura.tarnow.pl
SUMMARY:"Najbliżej"
DESCRIPTION:Artyści i artystki: \nBartłomiej Bałut\, Bownik\, Edward Dwurnik\, Jarosław Fliciński\, Agata Głogowska\, Sława Harasymowicz\, Janusz Janczy\, Światosław Karwat\, Stanisław Koba\, Marcin Maciejowski\, Barbara Kinga Majewska\, Krzysztof Maniak\, Magdalena Miłoś\, Wilhelm Sasnal\, Joanna Srebro\, Supergrupa Azorro\, Nick Terry\, Katarzyna Wyszkowska \nW programie wystawy: \nNiedziela 21.01\, g. 15:00 – Pierwszy spacer po wystawie i performans Barbary Kingi Majewskiej / w tym dniu wystawa dostępna w g. 11:00-18:00 \nNiedziela 4.02\, g. 12:00 – Małe BWA na wystawie\, warsztaty dla dzieci 7-11 lat / prowadzenie: Agata Dymańska i Aleksandra Kubisztal\, bezpłatne\, obowiązują zapisy: edukacja@bwa.tarnow.pl \nCzwartek 8.02\, g. 16:45 – Spotkanie z Andą Rottenberg i promocja książki „Rozrzut” (po spotkaniu polecamy wernisaż wystawy Teresy Szafrańskiej i Miłosza Szafrańskiego – g. 18:00 Galeria Sztuki Hortar) / Tłusty Czwartek ze sztuką \nNiedziela 25.02\, g. 15:00 – Ostatni spacer po wystawie / prowadzenie: Krzysztof Maniak \nWystawa czynna: wtorek-piątek 10:00-17:00\, niedziela 11:00-18:00 \nWSTĘP WOLNY (na wystawę i wszystkie wydarzenia towarzyszące) \nZespół kuratorski: \nEwa Łączyńska-Widz oraz Agata Dymańska\, Aleksandra Kubisztal\, Piotr Kukla\, Miłosz Onak \n21.01-29.02.2024 \nBWA Tarnów / Pałacyk Strzelecki\, ul. Słowackiego 1 \n#TarnowNoweSpojrzenie \nProjekt „Tarnów – Nowe Spojrzenie”\, realizowany w ramach Programu Rozwój Lokalny\, finansowany ze środków Funduszy Norweskich.
URL:https://kultura.tarnow.pl/wydarzenie/najblizej/2024-01-21/
LOCATION:Biuro Wystaw Artystycznych\, ul. Słowackiego 1\, Tarnów\, małopolskie\, 33-100\, Polska
CATEGORIES:wystawy
ATTACH;FMTTYPE=image/jpeg:https://kultura.tarnow.pl/wp-content/uploads/Najblizej_BWA-Tarnow_plakat_net.jpg
ORGANIZER;CN="Biuro Wystaw Artystycznych":MAILTO:biuro@bwa.tarnow.pl
GEO:50.0178761;20.9827521
X-APPLE-STRUCTURED-LOCATION;VALUE=URI;X-ADDRESS=Biuro Wystaw Artystycznych ul. Słowackiego 1 Tarnów małopolskie 33-100 Polska;X-APPLE-RADIUS=500;X-TITLE=ul. Słowackiego 1:geo:20.9827521,50.0178761
END:VEVENT
BEGIN:VEVENT
DTSTART;TZID=Europe/Warsaw:20240121T170000
DTEND;TZID=Europe/Warsaw:20240121T210000
DTSTAMP:20260423T110234
CREATED:20240108T122352Z
LAST-MODIFIED:20240108T122352Z
UID:10014706-1705856400-1705870800@kultura.tarnow.pl
SUMMARY:Urodziny Solskiego!
DESCRIPTION:Ludwik Solski\, legenda polskiego teatru\, patron tarnowskiej sceny\, żyjący blisko 100 lat\, urodził się 20 stycznia 1855 roku w Gdowie. Jednym z wydarzeń 70. jubileuszowego sezonu teatralnego będzie wspólne z widzami świętowanie jego urodzin. Wieczór urodzinowy zaplanowano na niedzielę 21 stycznia.\n\nOczyma wyobraźni widzę Ludwika Solskiego pędzącego swoim motocyklem na spektakle „Zemsty” w naszym teatrze. Grał przecież z powodzeniem rolę Dyndalskiego z innymi aktorami w premierze z 1945 roku – przypomina Rafał Balawejder\, dyrektor teatru. Leciwy wiek nie przeszkadzał w skutecznym uprawianiu zawodu aktora do ostatnich lat. To musiało być bardzo poruszające dla tarnowian oglądających mistrza na scenie przy Mickiewicza.\n\n\n\nRocznicę urodzin Ludwika Solskiego teatr postanowił świętować na wesoło. Widzowie i uczestnicy tego wydarzenia obejrzą spektakl „Mayday”. To żelazna klasyka gatunku komediowego\, w reżyserii Tadeusza Łomnickiego\, dyrektora artystycznego. Wszystkich widzów zapraszamy już godzinę przed spektaklem. Na gości czekał będzie słodko – słony\, niespodziankowy poczęstunek. Po przedstawieniu przyjdzie czas na urodzinowy tort i szampańskie toasty. W foyer\, dla wszystkich chętnych zostanie ustawiona fotobudka\, by uwiecznić ten pamiątkowy wieczór z Ludwikiem Solskim.\n\n\n\nLudwik Solski był jednym z najwybitniejszych polskich artystów teatru drugiej połowy XIX i pierwszej XX wieku. Dyrektorował wielu polskim teatrom\, grał niemal na wszystkich scenach w kraju. Naprawdę nazywał się Ludwik Napoleon Sosnowski\, na scenie posługiwał się głównie nazwiskiem żony – Ireny Solskiej. Urodził się 20 stycznia 1855 roku w Gdowie niedaleko Krakowa. Uczęszczał do gimnazjum w Tarnowie. Przeniósł się do Krakowa i w 1875 roku zaczął statystować w teatrze. Swoje najsławniejsze role historyczne grał w utworach Rostworowskiego (tytułowe kreacje w Judaszu i Kaliguli) i Nowaczyńskiego (w Carze Samozwańcu i Wielkim Fryderyku). Ostatni raz można go było zobaczyć na scenie w czerwcu 1954 roku – podczas swojego jubileuszu w warszawskim Teatrze Polskim grał rolę Dyndalskiego w Zemście Fredry. Zmarł miesiąc przed setnymi urodzinami\, 19 grudnia 1954 roku. Pochowany został w Krakowie w grobach zasłużonych na Skałce obok Stanisława Wyspiańskiego.\n\n\n\nUrodziny Solskiego – 21 stycznia\, niedziela\n17:00 – poczęstunek w foyer\n18:00 – spektakl „Mayday”\, Duża Scena\n20:00 do 21:00 – urodzinowe zdjęcie aktorów z widzami\, tort\, toasty\n\n\n\nBilety online dostępne na: https://teatr.tarnow.pl/bilety/\nZapraszamy także do rezerwacji biletów w Biurze Promocji i Organizacji Widowni: 14 688 32 87\, 784 976 025 lub 668 323 998.\nKasa biletowa czynna od wtorku do piątku \, od 9:00 do 17:00.\nDo zobaczenia na Mickiewicza 4!
URL:https://kultura.tarnow.pl/wydarzenie/urodziny-solskiego/
LOCATION:Teatr im. L.Solskiego\, Mickiewicza 4\, Tarnów\, małopolskie\, 33-100\, Polska
CATEGORIES:spektakle
ATTACH;FMTTYPE=image/jpeg:https://kultura.tarnow.pl/wp-content/uploads/416066989_774999664658378_2355962188732670069_n.jpg
GEO:50.0159214;20.987504
X-APPLE-STRUCTURED-LOCATION;VALUE=URI;X-ADDRESS=Teatr im. L.Solskiego Mickiewicza 4 Tarnów małopolskie 33-100 Polska;X-APPLE-RADIUS=500;X-TITLE=Mickiewicza 4:geo:20.987504,50.0159214
END:VEVENT
BEGIN:VEVENT
DTSTART;TZID=Europe/Warsaw:20240121T180000
DTEND;TZID=Europe/Warsaw:20240121T200000
DTSTAMP:20260423T110234
CREATED:20231208T094633Z
LAST-MODIFIED:20231208T094633Z
UID:10015165-1705860000-1705867200@kultura.tarnow.pl
SUMMARY:Sztywny Pal Azji
DESCRIPTION:Zapraszamy na rewelacyjny\, pełen przebojów\, koncert legendarnej grupy „Sztywny Pal Azji”. Na pewno nie zabraknie znanych i uznanych hitów Sztywnego\, będzie też okazja usłyszeć kilka nowości. Ten koncert to gwarancja udanego wieczoru!
URL:https://kultura.tarnow.pl/wydarzenie/sztywny-pal-azji/
LOCATION:Stowarzyszenie „Przepraszam”\, Rynek 9\, Tarnów\, małopolskie\, 33-100\, Polska
CATEGORIES:koncerty
ATTACH;FMTTYPE=image/jpeg:https://kultura.tarnow.pl/wp-content/uploads/6cc6136d5d80693f2c935ce0eee7fec4.jpg
ORGANIZER;CN="Stowarzyszenie 'Przepraszam'":MAILTO:przepraszam.booking@gmail.com
GEO:50.01212;20.98858
X-APPLE-STRUCTURED-LOCATION;VALUE=URI;X-ADDRESS=Stowarzyszenie „Przepraszam” Rynek 9 Tarnów małopolskie 33-100 Polska;X-APPLE-RADIUS=500;X-TITLE=Rynek 9:geo:20.98858,50.01212
END:VEVENT
BEGIN:VEVENT
DTSTART;TZID=Europe/Warsaw:20240121T180000
DTEND;TZID=Europe/Warsaw:20240121T200000
DTSTAMP:20260423T110234
CREATED:20240108T121523Z
LAST-MODIFIED:20240108T121523Z
UID:10014703-1705860000-1705867200@kultura.tarnow.pl
SUMMARY:Cinemarzenie
DESCRIPTION:
URL:https://kultura.tarnow.pl/wydarzenie/cinemarzenie-6/2024-01-21/
LOCATION:Kino „Marzenie”\, ul. Staszica 4\, Tarnów\, małopolskie\, 33-100\, Polska
CATEGORIES:filmy
ATTACH;FMTTYPE=image/jpeg:https://kultura.tarnow.pl/wp-content/uploads/417913779_1265954501014529_4569562225917615139_n.jpg
GEO:50.011762;20.9833798
X-APPLE-STRUCTURED-LOCATION;VALUE=URI;X-ADDRESS=Kino „Marzenie” ul. Staszica 4 Tarnów małopolskie 33-100 Polska;X-APPLE-RADIUS=500;X-TITLE=ul. Staszica 4:geo:20.9833798,50.011762
END:VEVENT
END:VCALENDAR