BEGIN:VCALENDAR
VERSION:2.0
PRODID:-//kultura.tarnów - ECPv6.4.0.1//NONSGML v1.0//EN
CALSCALE:GREGORIAN
METHOD:PUBLISH
X-WR-CALNAME:kultura.tarnów
X-ORIGINAL-URL:https://kultura.tarnow.pl
X-WR-CALDESC:Wydarzenia dla
REFRESH-INTERVAL;VALUE=DURATION:PT1H
X-Robots-Tag:noindex
X-PUBLISHED-TTL:PT1H
BEGIN:VTIMEZONE
TZID:Europe/Warsaw
BEGIN:DAYLIGHT
TZOFFSETFROM:+0100
TZOFFSETTO:+0200
TZNAME:CEST
DTSTART:20240331T010000
END:DAYLIGHT
BEGIN:STANDARD
TZOFFSETFROM:+0200
TZOFFSETTO:+0100
TZNAME:CET
DTSTART:20241027T010000
END:STANDARD
END:VTIMEZONE
BEGIN:VEVENT
DTSTART;TZID=Europe/Warsaw:20240113T100000
DTEND;TZID=Europe/Warsaw:20240113T170000
DTSTAMP:20260420T003341
CREATED:20240108T120558Z
LAST-MODIFIED:20240108T120635Z
UID:10015324-1705140000-1705165200@kultura.tarnow.pl
SUMMARY:"Zamyślniki i inne znaki przestankowe"
DESCRIPTION:Tarnowskie Centrum Kultury zaprasza na wystawę nieoczywistych fotografii Marka Kucharczyka\, „Zamyślniki i inne znaki przestankowe”. Wernisaż\, z udziałem autora\, zaplanowany jest na 12 stycznia 2024 roku\, o godzinie 18:00. \nZamyślniki i inne znaki przestankowe\nMiędzy słowa wstawiamy znaki\, które nie mają swoich desygnatów. Służą temu\, by to co piszemy\, było strukturą zrozumiałą dla odbiorcy. Porządkują\, podkreślają\, wzmacniają znaczenie.\nCzy nasze myśli mają swoje znaki interpunkcyjne? Co i jak porządkuje tok myśli? A co jest odpowiednikiem znaków interpunkcyjnych w zestawie fotografii? Fotografii\, które powstały\, a następnie zostały zestawione w wyniku twórczego działania. Działania\, które nie ma swojego zwerbalizowanego opisu.\nZapraszamy do wędrówki po salach galerii Tarnowskiego Centrum Kultury i do szukania nowych znaków przestankowych: przemyślników\, przepytajników\, niekrzykników\, docinków i przycinków\, własnychsłowów\, podwiasów … \n\nMarek Kucharczyk – rocznik ’58\, mieszka w Lublinie. Członek rzeczywisty Związku Polskich Artystów Fotografików (Okręg Lubelski). Biolog środowiskowy\, doktor habilitowany nauk biologicznych\, zawodowo związany z Uniwersytetem Marii Curie-Skłodowskiej w Lublinie (profesor uczelni).\nW jego działalności fotograficznej wyróżnić można dwa przeplatające się nurty. Fotografia przyrodnicza\, w której istotna jest wierność przekazu\, to pierwszy z nich ̶ związany z wykształceniem i uprawianym zawodem. Drugi nurt ̶ to poszukiwanie dróg wyrażania głębokich emocji\, czy to poprzez wierny zapis rzeczywistości\, filtrowany przez osobisty punkt widzenia\, czy też balansowanie pomiędzy przedstawieniem a abstrakcją. W ostatnich pracach i działaniach inspiruje się dokonaniami Bauhausu i konstruktywistów\, wcześniej – weryzmem\, np. pracami grupy f/64.\nAutor 20 wystaw indywidualnych. Brał udział w kilkunastu wystawach zbiorowych i plenerach fotograficznych. Kurator galerii „Pod Palmą” na Wydziale Biologii i Biotechnologii UMCS (Akademicka 19\, Lublin)\, organizator ponad 40 wystaw.\nDoświadczenie warsztatowe oraz zdobytą wiedzę wykorzystuje w pracy dydaktycznej ze studentami prowadząc od ponad 25 lat zajęcia z fotografii oraz pełniąc rolę tutora dla studentów pragnących poszerzać swoje umiejętności i kreatywność. Za działalność twórczą i dydaktyczną nagrodzony Medalem Polskiego Towarzystwa Botanicznego im. Profesora Bolesława Hryniewieckiego (2007) oraz medalem „Zasłużony dla miasta Lublina” (2020 r.).
URL:https://kultura.tarnow.pl/wydarzenie/zamyslniki-i-inne-znaki-przestankowe-2024-01-13/2024-01-13/
LOCATION:Tarnowskie Centrum Kultury\, Rynek 5\, Tarnów\, małopolskie\, 33-100\, Polska
CATEGORIES:wystawy
ATTACH;FMTTYPE=image/jpeg:https://kultura.tarnow.pl/wp-content/uploads/557a022e651e8a2f16c80fc0c45114a2.jpeg
GEO:50.012155;20.9878542
X-APPLE-STRUCTURED-LOCATION;VALUE=URI;X-ADDRESS=Tarnowskie Centrum Kultury Rynek 5 Tarnów małopolskie 33-100 Polska;X-APPLE-RADIUS=500;X-TITLE=Rynek 5:geo:20.9878542,50.012155
END:VEVENT
BEGIN:VEVENT
DTSTART;TZID=Europe/Warsaw:20240113T110000
DTEND;TZID=Europe/Warsaw:20240113T170000
DTSTAMP:20260420T003341
CREATED:20230424T102333Z
LAST-MODIFIED:20230424T102333Z
UID:10014185-1705143600-1705165200@kultura.tarnow.pl
SUMMARY:Surrealizm – Salvador Dali i inni
DESCRIPTION:Artyści: Krystyna Baniowska\, Piotr Barszczowski\, Piotr Bubak\, Stanisław Chmiel\, Ewa Fleszar\, Roman Fleszar\, Weronika Fleszar\, Mateusz Kijak\, Kazimierz Klimkiewicz\, Stanisław Kucharzyk\, Elżbieta Pazera\, Witold Pazera\, Michał Poręba\, Elżbieta Remian\, Piotr Rączka\, Jerzy Ruszel\, Anna Śliwińska\, Kazimierz Twardowski\, Grzegorz Wójcik\, Aleksandra Zuba-Benn \nSłowo SUR – to NA\, np.: sur la table – na stole. SURREALIZM – NADREALIZM\, zorganizowany ruch intelektualny pierwszej ćwierci XX wieku powstały we Francji. Surrealiści przyjęli ten termin w hołdzie dla G. Apollinaire`a\, który pierwszy użył tego sformułowania w 1918 roku w podtytule swojej sztuki\, nadając ruchowi nowy sens. Wyrastał on z doświadczeń\, przeżyć i przemyśleń związanych z I wojną światową\, a wywodził się z dadaizmu. Jednym z dążeń surrealizmu było pełne wyzwolenie osobowości człowieka\, pojęte jako ujawnienie jego ukrytych sił\, pragnień i marzeń\, zepchniętych w podświadomość przez rozum i rozsądek\, ogólnie przyjęte zasady obyczajowe i moralne. \nMANIFEST SURREALIZMU w 1924 roku napisał – ogłosił Andre BRETON\, początkowo odnosił się do literatury\, szybko jednak zainteresowali się nim twórcy innych dziedzin sztuki – wspaniałym przykładem są tu artyści malarze\, graficy. MANIFEST otworzył prawo do mówienia o nadrzędności przestrzeni na pograniczu snu i jawy. Artyści szukali metod i sposobu na wyrażenie idei tego nowego ruchu\, środki jakimi się posługiwali przedstawiały elementy rzeczywistości ujęte w nadrealny\, fantastyczny sposób. Obrazy były zapisem ze snów\, urojeń\, stanów delirycznych\, czy wszelkich czynności wykonywanych bez kontroli rozumu. Elementy rzeczywistości miały wymykać się logice\, rewolucjonizować życie codzienne…..obiekty i przedmioty\, nawet człowiek\, powinny znaleźć się w innych bytach\, przejść transformację\, np: ”człowiek jest ucieleśnionym deszczem”\, inny zaś z młotem\, lub ma jabłko zamiast głowy\, otwierający drzwi których nie ma……. a jak czytać istoty ciekłe z waty\, z wężowych skór\, upierzone drzewa\, zwierzęta niesione wiatrem\, modelowane z piasku. Surrealizm to miejsce spotkań najróżniejszych obiektów pochodzących z odmiennych kontekstów\, gdzie wszystko nabiera nowych nieoczekiwanych znaczeń……. np.: ”człowiek klatka schodowa\, człowiek litera\, ogryziona kość\, kropka\, strzęp\, kula\, człowiek trumna\, piszczałka\, sznurówka\, bagaż\, mgła i człowiek osad”\, a książka która gryzie ręce albo kłuje w oczy – tu przedmiot został wyzwolony i stał się wampirem\, książka dostaje przeciwstawną do swojej nową naturę. Bretonowskie ”puszczenie w obieg” przedmiotów dla wielu artystów stało się inspiracją do dania im nowego życia. Aktywność rzeczy dotychczas martwych\, obiektów nieuzależnionych od kontroli rozumu to niewyczerpane źródło tematów\, np.: ”wiatr upadł twarzą na ziemię”\, krzak śpiewa psalm”\, powietrze\, woda\, ziemia\, ogień\, barany\, smoki\, stwory złożone z mieczy\, igieł\, sztyletów. Do dziś wielu artystów korzysta i odwołuje się do postulowanego przez Bretona ”modelu wewnętrznego” czyli poszukiwania w sferze podświadomości\, jak to się dzieje\, mamy to każdego dnia: reklama\, teledyski\, wideoklipy. Nie ulega wątpliwości\, że surrealizm\, nie tylko twórcom\, ale i odbiorcom otworzył nowe obszary wyobraźni. \nKrystyna Baniowska Stąsiek Meyer (Wstęp do katalogu wystawy) \n 
URL:https://kultura.tarnow.pl/wydarzenie/surrealizm-salvador-dali-i-inni/2024-01-13/
LOCATION:Galeria ARTEKA\, Wałowa 16\, Tarnów\, 33-100
CATEGORIES:wystawy
ORGANIZER;CN="Stowarzyszenie Tarnowskich Artyst%C3%B3w Plastyk%C3%B3w":MAILTO:stowarzyszenie.arteka@gmail.com
END:VEVENT
BEGIN:VEVENT
DTSTART;TZID=Europe/Warsaw:20240113T170000
DTEND;TZID=Europe/Warsaw:20240113T190000
DTSTAMP:20260420T003341
CREATED:20231211T114926Z
LAST-MODIFIED:20231211T114926Z
UID:10015224-1705165200-1705172400@kultura.tarnow.pl
SUMMARY:Kabaret na ten czas "Nie ma jak ...Osiecka\, Młynarski" reż. J. Pal
DESCRIPTION:“Nie ma jak… Osiecka\, Młynarski” to już czwarty spektakl kabaretowy przygotowany przez aktorów związanych z Tarnowskim Kabaretem Literackim NaTenCzas\, czyli Zinaidę Zagner\, Monikę Wentę\, Jerzego Pala\, Kamila Urbana oraz akompaniatora i autora aranżacji muzycznych\, Piotra Niedojadło.\nW spektaklu wybrzmiewać będą teksty Agnieszki Osieckiej i Wojciecha Młynarskiego wraz z piosenkami z muzyką Jerzego Wasowskiego\, Ryszarda Sielickiego\, Marka Sarta\, Wojciecha Solarza\, Jerzego Satanowskiego\, Adama Sławińskiego\, Jerzego Derfla\, Panajota Bonadżijewa\, Macieja Małeckiego\, Andrzeja Zielińskiego\, Jerzego Matuszkiewicza\, Seweryna Krajewskiego. Lekka\, kabaretowa forma tego przedstawienia jest zaproszeniem do radosnego spędzenia czasu przy jednoczesnym obcowaniu z tekstami i muzyką znakomitych artystów\, które obrazują przeżycia dwóch pokoleń – Polaków pamiętających czasy PRL i Młodych. Ich pierwsze miłości\, zakładanie rodziny\, małą stabilizację\, zderzenie się z rzeczywistością PRL\, pierwsze bunty\, błądzenie\, szukanie drogi aż po nadzieję. \n\n12 stycznia godz. 18.00 i 13 stycznia sobota godz. 17.00 Mała Scena\nhttps://teatr.tarnow.pl/spektakle/spektakle-spektakle/nie-ma-jak-osiecka-mlynarski-2/\nBilety 20-50 zł
URL:https://kultura.tarnow.pl/wydarzenie/kabaret-na-ten-czas-nie-ma-jak-osiecka-mlynarski-rez-j-pal/2024-01-13/
LOCATION:Teatr im. L.Solskiego\, Mickiewicza 4\, Tarnów\, małopolskie\, 33-100\, Polska
CATEGORIES:kabarety
ATTACH;FMTTYPE=image/jpeg:https://kultura.tarnow.pl/wp-content/uploads/www-Kabarert.jpg
GEO:50.0159214;20.987504
X-APPLE-STRUCTURED-LOCATION;VALUE=URI;X-ADDRESS=Teatr im. L.Solskiego Mickiewicza 4 Tarnów małopolskie 33-100 Polska;X-APPLE-RADIUS=500;X-TITLE=Mickiewicza 4:geo:20.987504,50.0159214
END:VEVENT
BEGIN:VEVENT
DTSTART;TZID=Europe/Warsaw:20240113T180000
DTEND;TZID=Europe/Warsaw:20240113T190000
DTSTAMP:20260420T003341
CREATED:20240102T101001Z
LAST-MODIFIED:20240102T101001Z
UID:10015287-1705168800-1705172400@kultura.tarnow.pl
SUMMARY:Illia Owczarenko - recital fortepianowy
DESCRIPTION:13 stycznia 2024 roku o godz. 18.00 Zespół Szkół Muzycznych w Tarnowie zaprasza do Sali Koncertowej na kolejny recital fortepianowy w wykonaniu pianisty rekomendowanego przez Stowarzyszenie Animato z Paryża i prof. Mariana Rybickiego. \nTym razem zaprezentuje się ukraiński wykonawca Illia Owczarenko. Publiczność tarnowska miała już okazję słuchać tego pianistę – był jednym z uczestników II Międzynarodowego Konkursu Pianistycznego Prix Animato Tarnów w 2022 roku. Wtedy zdobył 2. Nagrodę przyznawaną przez publiczność. \nObecnie pianista koncertuje intensywnie na świecie po tym jak spektakularnie wygrał w 2023 roku Międzynarodowy Konkurs Pianistyczny Honens w Calgary w Kanadzie – wymagający konkurs mający na celu wyłonienie „artysty kompletnego” tj. kogoś\, kto wykazuje się mistrzostwem technicznym oraz intelektualnym i emocjonalnym zrozumieniem tekstu muzycznego. W Tarnowie zabrzmią utwory J. S. Bacha\, D. Scarlattiego\, R. Schumanna i F. Liszta\, a przewodnim wątkiem jego recitalu będzie tonacja h-moll. Bilety na koncert w cenie 30 zł będą rozprowadzane przez sekretariat Szkoły Muzycznej w Tarnowie od 8 stycznia br. Recital objął honorowym patronatem Prezydent Tarnowa Roman Ciepiela.
URL:https://kultura.tarnow.pl/wydarzenie/illia-owczarenko-recital-fortepianowy/
LOCATION:Sala Koncertowa Zespołu Szkół Muzycznych\, Lippóczy’ego 4\, Tarnów\, małopolskie\, 33-100\, Polska
CATEGORIES:koncerty
ATTACH;FMTTYPE=image/jpeg:https://kultura.tarnow.pl/wp-content/uploads/Illia-Owczarenko_2024-1.jpg
ORGANIZER;CN="Zesp%C3%B3%C5%82 Szk%C3%B3%C5%82 Muzycznych":MAILTO:szkola@zsmuz.tarnow.pl
GEO:50.0205582;20.9801972
X-APPLE-STRUCTURED-LOCATION;VALUE=URI;X-ADDRESS=Sala Koncertowa Zespołu Szkół Muzycznych Lippóczy’ego 4 Tarnów małopolskie 33-100 Polska;X-APPLE-RADIUS=500;X-TITLE=Lippóczy’ego 4:geo:20.9801972,50.0205582
END:VEVENT
END:VCALENDAR