BEGIN:VCALENDAR
VERSION:2.0
PRODID:-//kultura.tarnów - ECPv6.4.0.1//NONSGML v1.0//EN
CALSCALE:GREGORIAN
METHOD:PUBLISH
X-WR-CALNAME:kultura.tarnów
X-ORIGINAL-URL:https://kultura.tarnow.pl
X-WR-CALDESC:Wydarzenia dla
REFRESH-INTERVAL;VALUE=DURATION:PT1H
X-Robots-Tag:noindex
X-PUBLISHED-TTL:PT1H
BEGIN:VTIMEZONE
TZID:Europe/Warsaw
BEGIN:DAYLIGHT
TZOFFSETFROM:+0100
TZOFFSETTO:+0200
TZNAME:CEST
DTSTART:20230326T010000
END:DAYLIGHT
BEGIN:STANDARD
TZOFFSETFROM:+0200
TZOFFSETTO:+0100
TZNAME:CET
DTSTART:20231029T010000
END:STANDARD
END:VTIMEZONE
BEGIN:VEVENT
DTSTART;TZID=Europe/Warsaw:20231114T100000
DTEND;TZID=Europe/Warsaw:20231114T170000
DTSTAMP:20260421T003822
CREATED:20231023T124839Z
LAST-MODIFIED:20231023T124839Z
UID:10015021-1699956000-1699981200@kultura.tarnow.pl
SUMMARY:"Materia dokumentu"
DESCRIPTION:Tarnowskie Centrum Kultury zaprasza za wystawę „Materia dokumentu”\, prezentującą dwóch artystów związanych z poznańską fundacją Pix.House\, Mariusza Foreckiego i Andrzeja Dobosza. Przedstawiony zostanie fragment z bogatego dorobku obu artystów oraz fundacji obejmującego fotografię dokumentalną i działalność wydawniczą. Ekspozycje tworzyć będzie kilkadziesiąt wybranych fotografii wraz z dwoma książkami\, z których pochodzą\, autorstwa Mariusza Foreckiego oraz parędziesiąt okładek wydawnictw fundacji\, w formie plakatów\, według projektów Andrzeja Dobosza. \nPIX.HOUSE (www.pix.house) działa od 2015 roku w Poznaniu. Jest organizatorem najważniejszych wydarzeń fotograficznych w kraju\, prezentuje swoje wystawy na europejskich festiwalach. Prowadzi przestrzeń edukacyjną\, warsztaty fotograficzne\, konkurs TALENT ROKU.\nTo też galeria\, w której odbyło się już ponad 60 wystaw fotografii dokumentalnej\, oraz wydawnictwo mające na swoim koncie zorganizowanie ośmiu edycji festiwalu książek fotograficznych X.PRINT i wydanie ponad 40 publikacji z fotografią dokumentalną nagradzanych w krajowych i międzynarodowych konkursach.\nZespół PIX.HOUSE (www.pix.house) to fotografowie\, kulturoznawcy\, projektanci\, studenci i doktoranci jednej z najważniejszej europejskiej uczelni fotograficznej: Instytutu Kreatywnej Fotografii w czeskiej Opavie: Michał Adamski\, Andrzej Dobosz\, Mariusz Forecki\, Anna Molter\, Adrian Wykrota oraz Katarzyna Grażewicz. \nAndrzej Dobosz\nGrafiki i okładki książek \nAndrzej Dobosz – designer\, grafik\, fotograf.\nProwadzi w Poznaniu autorskie studio projektowe (dobosz.studio) zajmujące się budowaniem identyfikacji wizualnej firm\, instytucji\, wydarzeń. Współpracuje z galerią i wydawnictwem PIX.HOUSE. Członek Stowarzyszenia Twórców Grafiki Użytkowej (STGU). Specjalizuje się w projektowaniu znaków i książek. Współpracował z wieloma artystami przy publikacjach nagradzanych w Polsce i za granicą m.in. Polish Graphic Design Awards\, Złoty i Srebrny KTR\, Grand Press Photo\, Picture of the Year International\, Edycja\, Fotopublikacja Roku\, PHotoEspaña\, Athens Photo Festival\, Month of Photography Bratislava. Więcej: dobosz.studio \nMariusz Forecki\nKsiążki KURZ i W PRACY\nMariusz Forecki (1962) – dokumentalista i autor książek.\nOd wielu lat fotografuje człowieka uwikłanego w procesy społeczno-polityczne. Absolwent i doktorant Instytutu Twórczej Fotografii Uniwersytetu Śląskiego w czeskiej Opawie\, współzałożyciel Fundacji PIX.HOUSE (www.pix.house). Więcej: www.forecki.pl \nKURZ | Mariusz Forecki | PIX.HOUSE\, Poznań 2022\nNajnowsza publikacja\, pozwalająca zobaczyć i zrozumieć mechanizm inżynierii społecznej w Rosji w latach 1988 – 2022. \nMariusz Forecki | fragment wstępu do książki KURZ | lipiec 2022 \nKsiążka ukazuje się zaledwie kilka miesięcy po ataku Rosji na Ukrainę\, który zamienił się w regularną wojnę ze wszystkimi jej okrutnymi elementami: chaotycznym\, brutalnym bombardowaniem miast\, używaniem zakazanej broni\, torturowaniem i zabijaniem cywilów\, gwałtami\, grabieżą i największym kryzysem uchodźczym od zakończenia II wojny światowej\nw 1945 roku. Zebrałem fotografie z wielu moich podróży po byłym Związku Socjalistycznych Republik Radzieckich – w końcowym stadium jego istnienia i w czasie kształtowania się nowego ładu społeczno-politycznego. Obserwowałem\, jak byłe republiki\, wchodzące wcześniej w skład ZSRR\, odzyskiwały niepodległość. Widziałem narodziny nowych państw\, walkę o tożsamość\, powroty wysiedlonych narodów i wyjazdy w poszukiwaniu lepszego życia. Wtedy nie zdawałem sobie sprawy\, że jestem świadkiem wydarzeń\, które okazały się symbolami rozpadu państwa\, zbudowanego na tyranii i niewyobrażalnym cierpieniu ludzi. Z kurzu\, powstałego po tym upadku\, wyłonił się obraz nowego imperium\, które za pomocą brutalnej propagandy i nowoczesnej socjotechniki\, przekształciło się – pod pozorami demokracji – w imperium zła\, zagrażające światu opartemu na ideach humanizmu i prawie człowieka do wolności i szczęścia. \nKsiążka KURZ zdobyła główną nagrodę na 32 MONTH OF PHOTOGRAPHY BRATISLAVA (2022)\, tytuł PHOTO BOOK OF THE YEAR 2022 w najważniejszym polskim konkursie fotografii prasowej GRAND PRESS\, otrzymała nominację w konkursie LES RENCONTRES DE LA PHOTOGRAPHIE\, ARLES i w konkursie FOTOGRAFICZNA PUBLIKACJA ROKU na Międzynarodowym Festiwalu Fotografii 2023 w Łodzi. \nW PRACY | Mariusz Forecki | ZPAF OW\, Poznań 2012\nOpowieść o funkcjonowaniu człowieka w systemie pracy\, sposobie zapewnienia warunków do egzystencji\, tworzenia więzi społecznych i nadawania sensu życiu. \n> Jarosław Urbański | Fragment wstępu do książki W PRACY | lipiec 2012 \n…Badania socjologiczne wykazują jednak\, że na przekór tym nowym porządkom\, większość z nas gotowa jest przyznać\, że lubi swoją pracę. Gdyby jej nie tolerowała\, musiałaby zwariować. Silna identyfikacja z przedsiębiorstwem\, zawodem i grupą współpracowników oraz postrzeganie pracy\, jako kolektywnego wysiłku\, decyduje nie tylko o większej efektywności (która przecież nie jest prostą sumą indywidualnych starań i umiejętności)\, ale także o stopniu społecznej integracji\, będącą też jedną z podstaw wspólnego sprzeciwu pracowników wobec stawiania zysków ponad ludźmi. Marcel Szary\, niedawno zmarły znany działacz pracowniczy z poznańskich zakładów H. Cegielskiego\, który równie chętnie cytował księdza Tischnera\, co anarchistycznych radykałów\, twierdził niezmiennie „dobro zakładu\, to dobro wszystkich pracujących w nim ludzi”. Miarą wartości jest praca\, a nie abstrakcyjne wskaźniki ekonomiczne. \nJarosław Urbański (1964) – socjolog i aktywista związany od lat 80. z ruchem anarchistycznym\, a później także środowiskiem poznańskiego Rozbratu. Działacz Ogólnopolskiego Związku Zawodowego Inicjatywa Pracownicza. Autor książek: Globalizacja a konflikty lokalne (2002)\, Odzyskać miasto. Samowolne osadnictwo\, skłoting i anarchitektura (2005)\, a także licznych artykułów naukowych i publicystycznych.
URL:https://kultura.tarnow.pl/wydarzenie/materia-dokumentu-2/2023-11-14/
LOCATION:Tarnowskie Centrum Kultury\, Rynek 5\, Tarnów\, małopolskie\, 33-100\, Polska
CATEGORIES:wystawy
ATTACH;FMTTYPE=image/jpeg:https://kultura.tarnow.pl/wp-content/uploads/d1076d144c99907365314c6040452791.jpeg
GEO:50.012155;20.9878542
X-APPLE-STRUCTURED-LOCATION;VALUE=URI;X-ADDRESS=Tarnowskie Centrum Kultury Rynek 5 Tarnów małopolskie 33-100 Polska;X-APPLE-RADIUS=500;X-TITLE=Rynek 5:geo:20.9878542,50.012155
END:VEVENT
BEGIN:VEVENT
DTSTART;TZID=Europe/Warsaw:20231114T110000
DTEND;TZID=Europe/Warsaw:20231114T170000
DTSTAMP:20260421T003822
CREATED:20230424T102333Z
LAST-MODIFIED:20230424T102333Z
UID:10014141-1699959600-1699981200@kultura.tarnow.pl
SUMMARY:Surrealizm – Salvador Dali i inni
DESCRIPTION:Artyści: Krystyna Baniowska\, Piotr Barszczowski\, Piotr Bubak\, Stanisław Chmiel\, Ewa Fleszar\, Roman Fleszar\, Weronika Fleszar\, Mateusz Kijak\, Kazimierz Klimkiewicz\, Stanisław Kucharzyk\, Elżbieta Pazera\, Witold Pazera\, Michał Poręba\, Elżbieta Remian\, Piotr Rączka\, Jerzy Ruszel\, Anna Śliwińska\, Kazimierz Twardowski\, Grzegorz Wójcik\, Aleksandra Zuba-Benn \nSłowo SUR – to NA\, np.: sur la table – na stole. SURREALIZM – NADREALIZM\, zorganizowany ruch intelektualny pierwszej ćwierci XX wieku powstały we Francji. Surrealiści przyjęli ten termin w hołdzie dla G. Apollinaire`a\, który pierwszy użył tego sformułowania w 1918 roku w podtytule swojej sztuki\, nadając ruchowi nowy sens. Wyrastał on z doświadczeń\, przeżyć i przemyśleń związanych z I wojną światową\, a wywodził się z dadaizmu. Jednym z dążeń surrealizmu było pełne wyzwolenie osobowości człowieka\, pojęte jako ujawnienie jego ukrytych sił\, pragnień i marzeń\, zepchniętych w podświadomość przez rozum i rozsądek\, ogólnie przyjęte zasady obyczajowe i moralne. \nMANIFEST SURREALIZMU w 1924 roku napisał – ogłosił Andre BRETON\, początkowo odnosił się do literatury\, szybko jednak zainteresowali się nim twórcy innych dziedzin sztuki – wspaniałym przykładem są tu artyści malarze\, graficy. MANIFEST otworzył prawo do mówienia o nadrzędności przestrzeni na pograniczu snu i jawy. Artyści szukali metod i sposobu na wyrażenie idei tego nowego ruchu\, środki jakimi się posługiwali przedstawiały elementy rzeczywistości ujęte w nadrealny\, fantastyczny sposób. Obrazy były zapisem ze snów\, urojeń\, stanów delirycznych\, czy wszelkich czynności wykonywanych bez kontroli rozumu. Elementy rzeczywistości miały wymykać się logice\, rewolucjonizować życie codzienne…..obiekty i przedmioty\, nawet człowiek\, powinny znaleźć się w innych bytach\, przejść transformację\, np: ”człowiek jest ucieleśnionym deszczem”\, inny zaś z młotem\, lub ma jabłko zamiast głowy\, otwierający drzwi których nie ma……. a jak czytać istoty ciekłe z waty\, z wężowych skór\, upierzone drzewa\, zwierzęta niesione wiatrem\, modelowane z piasku. Surrealizm to miejsce spotkań najróżniejszych obiektów pochodzących z odmiennych kontekstów\, gdzie wszystko nabiera nowych nieoczekiwanych znaczeń……. np.: ”człowiek klatka schodowa\, człowiek litera\, ogryziona kość\, kropka\, strzęp\, kula\, człowiek trumna\, piszczałka\, sznurówka\, bagaż\, mgła i człowiek osad”\, a książka która gryzie ręce albo kłuje w oczy – tu przedmiot został wyzwolony i stał się wampirem\, książka dostaje przeciwstawną do swojej nową naturę. Bretonowskie ”puszczenie w obieg” przedmiotów dla wielu artystów stało się inspiracją do dania im nowego życia. Aktywność rzeczy dotychczas martwych\, obiektów nieuzależnionych od kontroli rozumu to niewyczerpane źródło tematów\, np.: ”wiatr upadł twarzą na ziemię”\, krzak śpiewa psalm”\, powietrze\, woda\, ziemia\, ogień\, barany\, smoki\, stwory złożone z mieczy\, igieł\, sztyletów. Do dziś wielu artystów korzysta i odwołuje się do postulowanego przez Bretona ”modelu wewnętrznego” czyli poszukiwania w sferze podświadomości\, jak to się dzieje\, mamy to każdego dnia: reklama\, teledyski\, wideoklipy. Nie ulega wątpliwości\, że surrealizm\, nie tylko twórcom\, ale i odbiorcom otworzył nowe obszary wyobraźni. \nKrystyna Baniowska Stąsiek Meyer (Wstęp do katalogu wystawy) \n 
URL:https://kultura.tarnow.pl/wydarzenie/surrealizm-salvador-dali-i-inni/2023-11-14/
LOCATION:Galeria ARTEKA\, Wałowa 16\, Tarnów\, 33-100
CATEGORIES:wystawy
ORGANIZER;CN="Stowarzyszenie Tarnowskich Artyst%C3%B3w Plastyk%C3%B3w":MAILTO:stowarzyszenie.arteka@gmail.com
END:VEVENT
BEGIN:VEVENT
DTSTART;TZID=Europe/Warsaw:20231114T180000
DTEND;TZID=Europe/Warsaw:20231114T193000
DTSTAMP:20260421T003822
CREATED:20231107T083906Z
LAST-MODIFIED:20231107T083906Z
UID:10015198-1699984800-1699990200@kultura.tarnow.pl
SUMMARY:Przygoda na podwieczorek – Skrzydła zostawiam na półce
DESCRIPTION:Zapraszamy na spotkanie z Beatą Janowską-Ptasznik\, którą wiele osób zna jako przewodniczącą szkolnej rady rodziców\, fryzjerkę\, ale można powiedzieć\, że z zawodu jest… społeczniczką. Beata organizuje akcje pomocowe\, właściwie jedna po drugiej… Akcja pomocowa w wykonaniu Beaty nigdy się nie kończy\, ale za to ma wiele happy endów! Pytania o to\, jak prawdziwie pomagać\, zadają jej nawet ludzie pracujący na rzecz gmin. Okazuje się\, że posiadanie środków na wsparcie potrzebujących nie jest wyznacznikiem skuteczności… \nJak to się dzieje\, że obok kolejnych potrzebujących Beata – dla równowagi – przyciąga kolejnych pomagających? Jak znajduje czas na pomoc innym\, godząc wsparcie wolontariackie z życiem rodzinnymi i pracą na pełen etat? Co jej daje siłę? Wpadnijcie wieczorem do Dom.Ku poznać anielicę tarnowskiego wolontariatu i dajcie się wkręcić w pomaganie. Spotkanie poprowadzi Dorota Omylska. \nCykl „Przygoda na podwieczorek” to spotkanie z opowieścią i drugim człowiekiem. Każdy z nas nosi w sobie ciekawe historie. Niektóre dotyczą interesującego zawodu\, inne odwiedzin w niecodziennym miejscu lub przygody na osiedlu. To\, co dla kogoś jest zupełnie zwyczajne\, dla innego może wyglądać jak niesamowita przygoda! Dzielmy się tymi historiami.
URL:https://kultura.tarnow.pl/wydarzenie/przygoda-na-podwieczorek-skrzydla-zostawiam-na-polce/
LOCATION:Dom Kultury Westerplatte 8a\, Westerplatte 8a\, Tarnów\, Polska - małopolskie\, 33-100\, Polska
CATEGORIES:spotkania
ATTACH;FMTTYPE=image/jpeg:https://kultura.tarnow.pl/wp-content/uploads/Przygoda-na-podwieczorek_BEata-Janowska-Ptasznik_S-—-kopia.jpg
ORGANIZER;CN="Dom Kultury Westerplatte 8a":MAILTO:westerplatte@tck.pl
GEO:50.0273033;21.0087361
X-APPLE-STRUCTURED-LOCATION;VALUE=URI;X-ADDRESS=Dom Kultury Westerplatte 8a Westerplatte 8a Tarnów Polska - małopolskie 33-100 Polska;X-APPLE-RADIUS=500;X-TITLE=Westerplatte 8a:geo:21.0087361,50.0273033
END:VEVENT
END:VCALENDAR