BEGIN:VCALENDAR
VERSION:2.0
PRODID:-//kultura.tarnów - ECPv6.4.0.1//NONSGML v1.0//EN
CALSCALE:GREGORIAN
METHOD:PUBLISH
X-ORIGINAL-URL:https://kultura.tarnow.pl
X-WR-CALDESC:Wydarzenia dla
REFRESH-INTERVAL;VALUE=DURATION:PT1H
X-Robots-Tag:noindex
X-PUBLISHED-TTL:PT1H
BEGIN:VTIMEZONE
TZID:Europe/Warsaw
BEGIN:DAYLIGHT
TZOFFSETFROM:+0100
TZOFFSETTO:+0200
TZNAME:CEST
DTSTART:20230326T010000
END:DAYLIGHT
BEGIN:STANDARD
TZOFFSETFROM:+0200
TZOFFSETTO:+0100
TZNAME:CET
DTSTART:20231029T010000
END:STANDARD
END:VTIMEZONE
BEGIN:VEVENT
DTSTART;TZID=Europe/Warsaw:20231105T180000
DTEND;TZID=Europe/Warsaw:20231105T220000
DTSTAMP:20260422T170118
CREATED:20230914T115750Z
LAST-MODIFIED:20231002T112316Z
UID:10013983-1699207200-1699221600@kultura.tarnow.pl
SUMMARY:XIII edycja Festiwalu Filmowego Vitae Valor
DESCRIPTION: Tegoroczna edycja Festiwalu Filmowego Vitae Valor będzie jeszcze bardziej spektakularna niż kiedykolwiek wcześniej.\nPrzygotowujemy dla Was szeroki wybór filmów z różnych gatunków i krajów.\nProgram festiwalu możesz sprawdzić na stronie: https://vvfestival.pl/program/
URL:https://kultura.tarnow.pl/wydarzenie/xiii-edycja-festiwalu-filmowego-vitae-valor/2023-11-05/
LOCATION:Centrum Sztuki Mościce\, Traugutta 1\, Tarnów\, małopolskie\, 33-101\, Polska
CATEGORIES:festiwale
ATTACH;FMTTYPE=image/jpeg:https://kultura.tarnow.pl/wp-content/uploads/364754820_772274578239755_8209445872989522998_n.jpg
GEO:50.009833;20.92706
X-APPLE-STRUCTURED-LOCATION;VALUE=URI;X-ADDRESS=Centrum Sztuki Mościce Traugutta 1 Tarnów małopolskie 33-101 Polska;X-APPLE-RADIUS=500;X-TITLE=Traugutta 1:geo:20.92706,50.009833
END:VEVENT
END:VCALENDAR