BEGIN:VCALENDAR
VERSION:2.0
PRODID:-//kultura.tarnów - ECPv6.4.0.1//NONSGML v1.0//EN
CALSCALE:GREGORIAN
METHOD:PUBLISH
X-WR-CALNAME:kultura.tarnów
X-ORIGINAL-URL:https://kultura.tarnow.pl
X-WR-CALDESC:Wydarzenia dla
REFRESH-INTERVAL;VALUE=DURATION:PT1H
X-Robots-Tag:noindex
X-PUBLISHED-TTL:PT1H
BEGIN:VTIMEZONE
TZID:Europe/Warsaw
BEGIN:DAYLIGHT
TZOFFSETFROM:+0100
TZOFFSETTO:+0200
TZNAME:CEST
DTSTART:20230326T010000
END:DAYLIGHT
BEGIN:STANDARD
TZOFFSETFROM:+0200
TZOFFSETTO:+0100
TZNAME:CET
DTSTART:20231029T010000
END:STANDARD
END:VTIMEZONE
BEGIN:VEVENT
DTSTART;TZID=Europe/Warsaw:20231030T130000
DTEND;TZID=Europe/Warsaw:20231030T150000
DTSTAMP:20260421T193501
CREATED:20231019T103224Z
LAST-MODIFIED:20231024T093625Z
UID:10014978-1698670800-1698678000@kultura.tarnow.pl
SUMMARY:Tarnów Pierwsze Niepodległe 2023
DESCRIPTION:Obchody święta „Tarnów Pierwsze Niepodległe Dzień Pamięci o Zwycięskim Zrywie Niepodległościowym w Tarnowie” rozpoczną się w niedzielę 29 października o godz. 19.00 recitalem fortepianowym prof. Zbigniewa Raubo. Koncert będzie miał miejsce w Sali Koncertowej Zespołu Szkół Muzycznych w Tarnowie. W repertuarze: W. A. Mozart\, L. van Beethoven i F. Chopin. Recital jest wydarzeniem towarzyszącym XV. Międzynarodowego Festiwalu Pianistycznego Królewskiego Miasta Krakowa. Wstęp wolny. \nNa poniedziałek 30 października o godz. 13.00 zaplanowano wspólną\, Uroczystą Sesją Rady Miejskiej w Tarnowie i Rady Powiatu Tarnowskiego\, którą to rozpoczną się główne obchody 105. rocznicy wyzwolenia Tarnowa spod zwierzchności zaborcy. Podczas sesji\, która będzie miała miejsce w tarnowskim Ratuszu\, poznamy tegorocznych laureatów nagrody imienia Tertila\, przyznawanej za najlepsze prace dyplomowe. \nTego samego dnia o godz. 14.15 planowana jest uroczystość przy Grobie Nieznanego Żołnierza. Po uroczystości o godz. 15.00 Msza Św. w intencji Ojczyzny w Bazylice Katedralnej. \nXVI Liceum Ogólnokształcące organizuje happening „Tarnów Pierwsze Niepodległe”. Młodzież szkolną\, przebraną w stroje z epoki będzie można spotkać w centrum miasta w godz. od 13.00-15.00. \nSerdecznie zapraszamy.
URL:https://kultura.tarnow.pl/wydarzenie/tarnow-pierwsze-niepodlegle-2023/
LOCATION:Grób Nieznanego Żołnierza\, Pl. Ofiar Katynia\, Tarnów\, małopolskie\, 33-100\, Polska
CATEGORIES:uroczystości patriotyczne
ATTACH;FMTTYPE=image/jpeg:https://kultura.tarnow.pl/wp-content/uploads/ilustr.jpg
GEO:50.0135389;20.9859993
X-APPLE-STRUCTURED-LOCATION;VALUE=URI;X-ADDRESS=Grób Nieznanego Żołnierza Pl. Ofiar Katynia Tarnów małopolskie 33-100 Polska;X-APPLE-RADIUS=500;X-TITLE=Pl. Ofiar Katynia:geo:20.9859993,50.0135389
END:VEVENT
BEGIN:VEVENT
DTSTART;TZID=Europe/Warsaw:20231030T180000
DTEND;TZID=Europe/Warsaw:20231030T200000
DTSTAMP:20260421T193501
CREATED:20231005T091453Z
LAST-MODIFIED:20231005T091453Z
UID:10014942-1698688800-1698696000@kultura.tarnow.pl
SUMMARY:Sąsiedzkie śpiewanie dla pierwszego niepodległego
DESCRIPTION:11 listopada cała Polska obchodzi Święto Niepodległości. Tarnów ma powód do świętowania już wcześniej. 105 lat temu został pierwszym miastem\, które ogłosiło się częścią niepodległego państwa polskiego. Nasze lokalne „pierwsze niepodległe” obchodzimy już 30 października i z tej okazji zapraszamy na patriotyczne karaoke. Wspólnie pośpiewamy znane i lubiane piosenki patriotyczne.
URL:https://kultura.tarnow.pl/wydarzenie/sasiedzkie-spiewanie-dla-pierwszego-niepodleglego/
LOCATION:Dom Kultury Westerplatte 8a\, Westerplatte 8a\, Tarnów\, Polska - małopolskie\, 33-100\, Polska
CATEGORIES:spotkania
ATTACH;FMTTYPE=image/jpeg:https://kultura.tarnow.pl/wp-content/uploads/Sąsiedzkie-śpiewanie_S.jpg
ORGANIZER;CN="Dom Kultury Westerplatte 8a":MAILTO:westerplatte@tck.pl
GEO:50.0273033;21.0087361
X-APPLE-STRUCTURED-LOCATION;VALUE=URI;X-ADDRESS=Dom Kultury Westerplatte 8a Westerplatte 8a Tarnów Polska - małopolskie 33-100 Polska;X-APPLE-RADIUS=500;X-TITLE=Westerplatte 8a:geo:21.0087361,50.0273033
END:VEVENT
END:VCALENDAR