BEGIN:VCALENDAR
VERSION:2.0
PRODID:-//kultura.tarnów - ECPv6.4.0.1//NONSGML v1.0//EN
CALSCALE:GREGORIAN
METHOD:PUBLISH
X-ORIGINAL-URL:https://kultura.tarnow.pl
X-WR-CALDESC:Wydarzenia dla
REFRESH-INTERVAL;VALUE=DURATION:PT1H
X-Robots-Tag:noindex
X-PUBLISHED-TTL:PT1H
BEGIN:VTIMEZONE
TZID:Europe/Warsaw
BEGIN:DAYLIGHT
TZOFFSETFROM:+0100
TZOFFSETTO:+0200
TZNAME:CEST
DTSTART:20230326T010000
END:DAYLIGHT
BEGIN:STANDARD
TZOFFSETFROM:+0200
TZOFFSETTO:+0100
TZNAME:CET
DTSTART:20231029T010000
END:STANDARD
END:VTIMEZONE
BEGIN:VEVENT
DTSTART;TZID=Europe/Warsaw:20231029T093000
DTEND;TZID=Europe/Warsaw:20231029T183000
DTSTAMP:20260420T064512
CREATED:20230919T102723Z
LAST-MODIFIED:20230919T102723Z
UID:10014929-1698571800-1698604200@kultura.tarnow.pl
SUMMARY:Obraz. Dźwięk. Animacja - warsztaty video mappingu
DESCRIPTION:3 weekendy: 7-8.10\, 14-15.10\, 28-29.10.2023 \nMiejsca: Multimedialne Centrum Artystyczne (ul. Wałowa 25) i BWA w Tarnowie – Pałacyk Strzelecki (ul. Słowackiego 1) \ng. 9.30 – 18.30 \nProwadzadzenie: Tomasz Paluch\, Andrzej Krawczyk\, Tomasz Gawroński (Tving Stage Design)\, Michał Szumlański \nOprawa graficzna warsztatów: Natalia Sikorska \nWarsztaty skierowane są do osób dorosłych oraz młodzieży i studentów – zwłaszcza związanych z kierunkami artystycznymi oraz samouków. Uczestnicy zostaną podzieleni na grupę początkującą i zaawansowaną. \nIdeą warsztatów jest zapoznanie uczestników z procesem produkcji mappingu 3D\, praktycznymi umiejętnościami programowymi oraz kilkoma innymi technikami\, jak animacja poklatkowa\, praca z green screenem czy podstawami tworzenia scenariusza. \nRezultatem warsztatów będzie sprawdzenie nabytych umiejętności przy wspólnym przygotowaniu mappingu\, który zostanie wyświetlony na Pałacyku Strzeleckim – siedzibie BWA w Tarnowie. \nZapraszamy zarówno osoby\, które dopiero chcą rozpocząć swoją przygodę z programami\, a także bardziej doświadczonych użytkowników. Warsztaty poprowadzą specjaliści w różnych dziedzinach związanych z animacją. \nPodczas warsztatów zajmiemy się zagadnieniami takimi jak: modelowanie 3D\, motion design\, animacja poklatkowa\, animacja rysunkowa\, animacja przedmiotowa\, green screen\, udźwiękowienie\, budowanie scenariusza\, story board\, montaż \n \nWiek uczestników: 16+ \nCzas trwania warsztatów: 9 h dziennie (w tym przerwy na kawę + przerwa obiadowa 13.30-15.00) \nKoszt: 600 zł za 6 dni / płatność z góry przelewem \nProgramy używane podczas warsztatów: Cinema 4D\, Adobe\, Blender\, Unreal engine i inne \nUczestnicy muszą zabrać na warsztaty własny komputer. \nObiady na koszt własny uczestników. \nZgłoś się poprzez wypełnienie ankiety rekrutacyjnej: \nLINK DO ANKIETY – KLIKNIJ! \nOgłoszenie wyników rekrutacji: 29.09.2023 \nIlość miejsc ograniczona. \nCzynnikami decydującymi o uczestnictwie będą: \n– ankieta rekrutacyjna \n– ze względu na ograniczoną ilość miejsc\, o przyjęciu może decydować kolejność zgłoszeń. \nKontakt / dodatkowe informacje: \nDział Edukacji BWA Tarnów \nedukacja@bwa.tarnow.pl\, 606 146 520 \nProwadzenie: \nTomasz Paluch – Absolwent Akademii Sztuk Pięknych w Krakowie na Wydziale Form Przemysłowych. Współzałożyciel i współorganizator trzech edycji festiwalu MAPP FEST w Tychach. Zajmuje się animacją i projektowaniem interakcji. Współpracuje z instytucjami kultury w Polsce i za granicą\, jak również markami takimi jak: Bielenda\, Wedel\, Zott\, BMW\, Nissan. Głównymi obszarami jego działań zawodowych są projektowanie\, animacja i organizacja. \nAndrzej Krawczyk – to motion designer pracujący w Vision-Impossible. Specjalizuje się w animacjach 2d i 3d do eventów muzycznych. Pracuje w Cinema 4d oraz After Effects. Jest dwukrotnym zwycięzcą Imapp Bucharest – największego eventu mappingowego na świecie. Jako artysta zajmujący się projection mappingiem skupia się nie tylko na tworzeniu pięknych obrazów oraz solidnych animacji\, ale także na opowiedzeniu wartościowych historii. \nTomasz Gawroński – twórca marki wizualnej Tving Stage Design związanej z muzyką elektroniczną\, pod której szyldem tworzy od ponad dekady. Tving to w pełni sztuka wizualna związana z artystami takimi jak m.in. Emika\, Rachel Lyn\, Michał Jabłoński czy Bartosz Dziadosz; festiwalami Mayday Poland\, Tauron Nowa Muzyka\, Audioriver oraz instytucjami kultury\, np. warszawskim Teatrem Narodowym. Od kilku lat odpowiada za audiowizualne show duetu Skalpel. W swojej twórczości jest skupiony na minimalizmie\, geometrycznych formach\, jak i organicznych kształtach tworzonych w 3D. Dzięki wielkiemu doświadczeniu i wiedzy technologicznej TSD dostarcza odbiorcom doznań poprzez instalacje\, projekcje video mappingowe\, jak również projekty scenograficzno – ledowe czy laserowe. Tomasz Gawroński swoje realizacje prezentował m.in. w Meksyku\, Rosji\, Niemczech\, Wielkiej Brytanii czy Rumunii. Każdą produkcję traktuje jako ważny dla słuchacza / odbiorcy experience\, którym ma być muzyka i oprawa sceniczna. \nMichał Szumlański – wychowany w Tarnowie\, absolwent Politechniki Krakowskiej na wydziale Architektury. Zawodowo związany z branżą gamedev. Specjalizuje się w projektowaniu grafiki i poziomów w grach komputerowych. Współpracuje na co dzień z byłymi twórcami takich rozpoznawalnych marek jak Wiedźmin 3\, Frostpunk czy Cyberpunk 2077. Zaangażowany w cyfrową rekonstrukcję zamku w Tarnowie pod patronatem medialnym BWA. Ex-uczestnik poprzednich edycji warsztatów „Obraz\, Dźwięk\, Animacja”.
URL:https://kultura.tarnow.pl/wydarzenie/obraz-dzwiek-animacja-warsztaty-video-mappingu/2023-10-29/
LOCATION:Biuro Wystaw Artystycznych\, ul. Słowackiego 1\, Tarnów\, małopolskie\, 33-100\, Polska
CATEGORIES:warsztaty
ATTACH;FMTTYPE=image/jpeg:https://kultura.tarnow.pl/wp-content/uploads/Obraz.-Dźwięk.-Animacja-warsztaty-video-mappingu-baner.jpg
ORGANIZER;CN="Biuro Wystaw Artystycznych":MAILTO:biuro@bwa.tarnow.pl
GEO:50.0178761;20.9827521
X-APPLE-STRUCTURED-LOCATION;VALUE=URI;X-ADDRESS=Biuro Wystaw Artystycznych ul. Słowackiego 1 Tarnów małopolskie 33-100 Polska;X-APPLE-RADIUS=500;X-TITLE=ul. Słowackiego 1:geo:20.9827521,50.0178761
END:VEVENT
BEGIN:VEVENT
DTSTART;TZID=Europe/Warsaw:20231029T190000
DTEND;TZID=Europe/Warsaw:20231029T203000
DTSTAMP:20260420T064512
CREATED:20231005T101432Z
LAST-MODIFIED:20231027T125848Z
UID:10014981-1698606000-1698611400@kultura.tarnow.pl
SUMMARY:Zbigniew Raubo - recital fortepianowy
DESCRIPTION:Koncert w ramach obchodów święta „Tarnów Pierwsze Niepodległe”. Dzień Pamięci o Zwycięskim Zrywie Niepodległościowym.\nW nocy\, z 30 na 31 października 1918 roku konspiratorzy z Polskiej Organizacji Wojskowej\, wsparci przez żołnierzy – Polaków\,  członków tajnej\, niepodległościowej  organizacji „Wolność” działającej w garnizonie austriackim\, a także przez harcerzy i młodzież z Pogotowia Narodowego\, w ścisłej współpracy z cywilnym Komitetem Obrony Narodowej przeprowadzili zaplanowany wcześniej przewrót wojskowo-cywilny\, który nad ranem 31 października\, około godziny ósmej przyniósł Tarnowowi  wolność od zaborcy jako pierwszemu miastu odradzającej się Rzeczypospolitej. \nProf. Zbigniew Raubo \nLaureat Konkursu im F. Busoniego w Bolzano (1991)\, im F. Liszta w Utrechcie (1992)-jak dotąd jest jedynym polskim laureatem tego prestiżowego Konkursu – oraz Konkursu im K. Szymanowskiego w Łodzi (1987). \nUkończył z wyróżnieniem katowicką Akademię Muzyczną w klasie prof. Andrzeja Jasińskiego\, którego następnie został asystentem. Aktualnie pracuje na stanowisku profesora w macierzystej Uczelni. W czerwcu 2013 Prezydent RP nadał mu tytuł profesora sztuk muzycznych. Posiada tytuł Ambasadora Miasta Kalisza. \nKoncertował we wszystkich filharmoniach w kraju. Występował z najwybitniejszymi polskimi dyrygentami takimi\, jak: Jerzy Maksymiuk\, Antoni Wit\, Agnieszka Duczmal\, Jerzy Salwarowski\, Mirosław J. Błaszczyk\, Marek Pijarowski\, Tomasz Bugaj\, Jerzy Swoboda\, Krzysztof Missona\, Łukasz Borowicz\, Marek Moś\, Czesław Grabowski\, Renard Czajkowski. W swoim repertuarze posiada ponad 30 utworów na fortepian z orkiestrą . Wśród jego zrealizowanych  dokonań artystycznych znajdują się m.in. występ z recitalem na Festiwalu Chopinowskim w Vancouver\, Festiwalu „Poolse Meesters” w Belgii\, jak też  kursy mistrzowskie i koncert w ramach Festiwalu Campos do Jordao w Brazylii. \nDokonał szeregu nagrań dla krajowych i zagranicznych firm fonograficznych m.in. dla japońskich filii firm Deutsche Gramophon i RCA\, International Music Corporation\, firmy DUX i Żuk Records. \nZ upodobaniem uprawia również kameralistykę\, występował m.in. z Kwartetami Śląskim\, Wilanów i Camerata oraz z Bartłomiejem Niziołem\, Urszulą Kryger\, Elżbietą Mrożek-Loską\, Piotrem Janosikiem. \nProwadzi aktywną działalność pedagogiczną\, obok etatowej pracy w Akademii Muzycznej w Katowicach spotyka się  z młodzieżą pianistyczną na licznych kursach\, udziela się również konsultując szkolnictwo muzyczne niższych szczebli. \nBrał udział w pracach jury konkursów krajowych i zagranicznych m.in. w Ogólnopolskim Konkursie im. F. Chopina w Warszawie \, \nChopin Competition in Asia w Japonii czy też Konkursu o stypendia Fundacji Yamaha. Został również zaproszony do udziału w pracach Jury XI Międzynarodowego Konkursu im. I. J. Paderewskiego w Bydgoszczy. \nWśród jego wychowanków można znaleźć laureatów konkursów muzycznych- im. Liszta we Wrocławiu\, im. Liszta w Parmie\, Międzynarodowego Konkursu im. F. Chopina dla Dzieci i Młodzieży w Szafarni\, Ogólnopolskiego Konkursu im. Chopina w Warszawie\, Festiwalu Pianistyki Polskiej w Słupsku i innych. W ostatnim czasie jego student a aktualnie asystent  Tymoteusz Bies został zwycięzcą pierwszej edycji Międzynarodowego Konkursu im. K. Szymanowskiego w Katowicach. \nW programie: \nWolfgang Amadeus Mozart\nRondo a-moll K.V. 511 \nLudwig van Beethoven\nSonata c-moll op. 111\nMaestoso – Allegro con brio ed appassionato\nArietta: Adagio molto\, semplice e cantabile \nFryderyk Chopin\nPreludium cis-moll op. 45\,\nScherzo E-dur op. 54\nPreludium Des-dur op. 28 nr 15\,\nAndante Spianato i Wielki Polonez Es-dur op. 22
URL:https://kultura.tarnow.pl/wydarzenie/zbigniew-raubo-recital-pianistyczny/
LOCATION:Sala Koncertowa Zespołu Szkół Muzycznych\, Lippóczy’ego 4\, Tarnów\, małopolskie\, 33-100\, Polska
CATEGORIES:koncerty
ATTACH;FMTTYPE=image/jpeg:https://kultura.tarnow.pl/wp-content/uploads/15-MFP-TARNOW-Raubo-PLAKAT-A3-Internet.jpg
GEO:50.0205582;20.9801972
X-APPLE-STRUCTURED-LOCATION;VALUE=URI;X-ADDRESS=Sala Koncertowa Zespołu Szkół Muzycznych Lippóczy’ego 4 Tarnów małopolskie 33-100 Polska;X-APPLE-RADIUS=500;X-TITLE=Lippóczy’ego 4:geo:20.9801972,50.0205582
END:VEVENT
END:VCALENDAR