BEGIN:VCALENDAR
VERSION:2.0
PRODID:-//kultura.tarnów - ECPv6.4.0.1//NONSGML v1.0//EN
CALSCALE:GREGORIAN
METHOD:PUBLISH
X-WR-CALNAME:kultura.tarnów
X-ORIGINAL-URL:https://kultura.tarnow.pl
X-WR-CALDESC:Wydarzenia dla
REFRESH-INTERVAL;VALUE=DURATION:PT1H
X-Robots-Tag:noindex
X-PUBLISHED-TTL:PT1H
BEGIN:VTIMEZONE
TZID:Europe/Warsaw
BEGIN:DAYLIGHT
TZOFFSETFROM:+0100
TZOFFSETTO:+0200
TZNAME:CEST
DTSTART:20230326T010000
END:DAYLIGHT
BEGIN:STANDARD
TZOFFSETFROM:+0200
TZOFFSETTO:+0100
TZNAME:CET
DTSTART:20231029T010000
END:STANDARD
END:VTIMEZONE
BEGIN:VEVENT
DTSTART;TZID=Europe/Warsaw:20231025T090000
DTEND;TZID=Europe/Warsaw:20231025T170000
DTSTAMP:20260422T022343
CREATED:20230908T075616Z
LAST-MODIFIED:20230908T075616Z
UID:10014798-1698224400-1698253200@kultura.tarnow.pl
SUMMARY:„Joanna Srebro-Drobiecka (1932-2006) - malarstwo”
DESCRIPTION:Joanna Srebro-Drobiecka (1932-2006) urodziła się w Tarnowie. Studia artystyczne ukończyła na Akademii Sztuk Pięknych w Krakowie\, gdzie w 1962 r. uzyskała dyplom pod kierunkiem prof. Wacława Taranczewskiego. Od początku była artystką niezależną\, tworzącą własne wizje. W żadnym okresie swego malarstwa nie poddała się trendom dominującym w sztuce ani komercjalizacji\, pozostała wierna swojemu sposobowi patrzenia na świat. Uprawiała malarstwo sztalugowe – duże formaty\, czasami projektowała gobeliny i freski. Brała udział w licznych wystawach okręgowych\, oddziałowych\, ogólnopolskich Związku Polskich Artystów Plastyków. Zmarła 3 listopada 2006 roku w Domu Pogodnej Jesieni w Tuchowie prowadzonym przez Zgromadzenie Sióstr Świętego Józefa\, gdzie znajduje się także część jej dorobku malarskiego. Obrazy z tej kolekcji będzie można zobaczyć na prezentowanej wystawie. \nWystawa dostępna dla zwiedzających do 5 listopada 2023 r. \nKurator wystawy: Roman Fleszar
URL:https://kultura.tarnow.pl/wydarzenie/joanna-srebro-drobiecka-1932-2006-malarstwo-2/2023-10-25/
LOCATION:Muzeum Ziemi Tarnowskiej\, Rynek 3\, Tarnów\, małopolskie\, 33-100\, Polska
CATEGORIES:wystawy
GEO:50.0122989;20.9877958
X-APPLE-STRUCTURED-LOCATION;VALUE=URI;X-ADDRESS=Muzeum Ziemi Tarnowskiej Rynek 3 Tarnów małopolskie 33-100 Polska;X-APPLE-RADIUS=500;X-TITLE=Rynek 3:geo:20.9877958,50.0122989
END:VEVENT
BEGIN:VEVENT
DTSTART;TZID=Europe/Warsaw:20231025T110000
DTEND;TZID=Europe/Warsaw:20231025T170000
DTSTAMP:20260422T022343
CREATED:20230424T102333Z
LAST-MODIFIED:20230424T102333Z
UID:10014127-1698231600-1698253200@kultura.tarnow.pl
SUMMARY:Surrealizm – Salvador Dali i inni
DESCRIPTION:Artyści: Krystyna Baniowska\, Piotr Barszczowski\, Piotr Bubak\, Stanisław Chmiel\, Ewa Fleszar\, Roman Fleszar\, Weronika Fleszar\, Mateusz Kijak\, Kazimierz Klimkiewicz\, Stanisław Kucharzyk\, Elżbieta Pazera\, Witold Pazera\, Michał Poręba\, Elżbieta Remian\, Piotr Rączka\, Jerzy Ruszel\, Anna Śliwińska\, Kazimierz Twardowski\, Grzegorz Wójcik\, Aleksandra Zuba-Benn \nSłowo SUR – to NA\, np.: sur la table – na stole. SURREALIZM – NADREALIZM\, zorganizowany ruch intelektualny pierwszej ćwierci XX wieku powstały we Francji. Surrealiści przyjęli ten termin w hołdzie dla G. Apollinaire`a\, który pierwszy użył tego sformułowania w 1918 roku w podtytule swojej sztuki\, nadając ruchowi nowy sens. Wyrastał on z doświadczeń\, przeżyć i przemyśleń związanych z I wojną światową\, a wywodził się z dadaizmu. Jednym z dążeń surrealizmu było pełne wyzwolenie osobowości człowieka\, pojęte jako ujawnienie jego ukrytych sił\, pragnień i marzeń\, zepchniętych w podświadomość przez rozum i rozsądek\, ogólnie przyjęte zasady obyczajowe i moralne. \nMANIFEST SURREALIZMU w 1924 roku napisał – ogłosił Andre BRETON\, początkowo odnosił się do literatury\, szybko jednak zainteresowali się nim twórcy innych dziedzin sztuki – wspaniałym przykładem są tu artyści malarze\, graficy. MANIFEST otworzył prawo do mówienia o nadrzędności przestrzeni na pograniczu snu i jawy. Artyści szukali metod i sposobu na wyrażenie idei tego nowego ruchu\, środki jakimi się posługiwali przedstawiały elementy rzeczywistości ujęte w nadrealny\, fantastyczny sposób. Obrazy były zapisem ze snów\, urojeń\, stanów delirycznych\, czy wszelkich czynności wykonywanych bez kontroli rozumu. Elementy rzeczywistości miały wymykać się logice\, rewolucjonizować życie codzienne…..obiekty i przedmioty\, nawet człowiek\, powinny znaleźć się w innych bytach\, przejść transformację\, np: ”człowiek jest ucieleśnionym deszczem”\, inny zaś z młotem\, lub ma jabłko zamiast głowy\, otwierający drzwi których nie ma……. a jak czytać istoty ciekłe z waty\, z wężowych skór\, upierzone drzewa\, zwierzęta niesione wiatrem\, modelowane z piasku. Surrealizm to miejsce spotkań najróżniejszych obiektów pochodzących z odmiennych kontekstów\, gdzie wszystko nabiera nowych nieoczekiwanych znaczeń……. np.: ”człowiek klatka schodowa\, człowiek litera\, ogryziona kość\, kropka\, strzęp\, kula\, człowiek trumna\, piszczałka\, sznurówka\, bagaż\, mgła i człowiek osad”\, a książka która gryzie ręce albo kłuje w oczy – tu przedmiot został wyzwolony i stał się wampirem\, książka dostaje przeciwstawną do swojej nową naturę. Bretonowskie ”puszczenie w obieg” przedmiotów dla wielu artystów stało się inspiracją do dania im nowego życia. Aktywność rzeczy dotychczas martwych\, obiektów nieuzależnionych od kontroli rozumu to niewyczerpane źródło tematów\, np.: ”wiatr upadł twarzą na ziemię”\, krzak śpiewa psalm”\, powietrze\, woda\, ziemia\, ogień\, barany\, smoki\, stwory złożone z mieczy\, igieł\, sztyletów. Do dziś wielu artystów korzysta i odwołuje się do postulowanego przez Bretona ”modelu wewnętrznego” czyli poszukiwania w sferze podświadomości\, jak to się dzieje\, mamy to każdego dnia: reklama\, teledyski\, wideoklipy. Nie ulega wątpliwości\, że surrealizm\, nie tylko twórcom\, ale i odbiorcom otworzył nowe obszary wyobraźni. \nKrystyna Baniowska Stąsiek Meyer (Wstęp do katalogu wystawy) \n 
URL:https://kultura.tarnow.pl/wydarzenie/surrealizm-salvador-dali-i-inni/2023-10-25/
LOCATION:Galeria ARTEKA\, Wałowa 16\, Tarnów\, 33-100
CATEGORIES:wystawy
ORGANIZER;CN="Stowarzyszenie Tarnowskich Artyst%C3%B3w Plastyk%C3%B3w":MAILTO:stowarzyszenie.arteka@gmail.com
END:VEVENT
BEGIN:VEVENT
DTSTART;TZID=Europe/Warsaw:20231025T110000
DTEND;TZID=Europe/Warsaw:20231025T170000
DTSTAMP:20260422T022343
CREATED:20231003T072408Z
LAST-MODIFIED:20231003T072408Z
UID:10014867-1698231600-1698253200@kultura.tarnow.pl
SUMMARY:Salon Jesienny 2023 STAP
DESCRIPTION:Stowarzyszenie Tarnowskich Artystów Plastyków zaprasza na wystawę Salon Jesienny 2023!\nSalon Jesienny 2023 przejdzie do historii\, jako że po raz pierwszy organizowany jest w salach galerii ARTEKA w Tarnowie na ulicy Wałowej 16\, galerii należącej do powstałego w lutym 2022 r. Stowarzyszenia Tarnowskich Artystów Plastyków.\nPierwszy Salon Jesienny STAP odbył się w październiku 2022 w galerii BWA w Parku Strzeleckim i tak naprzemiennie będzie tam wracał co dwa lata.\n\nWystawa reprezentowana jest przez 27 twórców będących na liście STAP\, oraz jedynego zaproszonego gościa do udziału w wystawie Jerzego Martynowa. \n\nWystawa będzie dostępna do 05.11.2023 r.\nWstęp wolny.\nGODZINY OTWARCIA GALERII ARTEKA:\nwtorek – sobota\ngodz. 11:00 – 17:00\nWięcej informacji na stronie www.galeriaarteka.pl
URL:https://kultura.tarnow.pl/wydarzenie/salon-jesienny-2023-stap-2/2023-10-25/
LOCATION:Galeria ARTEKA\, Wałowa 16\, Tarnów\, 33-100
CATEGORIES:wystawy
ATTACH;FMTTYPE=image/jpeg:https://kultura.tarnow.pl/wp-content/uploads/385261966_227127910357636_7399608211995885539_n.jpg
ORGANIZER;CN="Stowarzyszenie Tarnowskich Artyst%C3%B3w Plastyk%C3%B3w":MAILTO:stowarzyszenie.arteka@gmail.com
END:VEVENT
BEGIN:VEVENT
DTSTART;TZID=Europe/Warsaw:20231025T170000
DTEND;TZID=Europe/Warsaw:20231025T200000
DTSTAMP:20260422T022343
CREATED:20231005T091656Z
LAST-MODIFIED:20231005T091656Z
UID:10014976-1698253200-1698264000@kultura.tarnow.pl
SUMMARY:Gramy w Dom.Ku
DESCRIPTION:Spotkania dla pasjonatów gier planszowych i tych\, którzy chcą zacząć przygodę z planszówkami. Uważasz\, że gry planszowe to tylko Chińczyk i Grzybobranie? Przyjdź i przekonaj się\, że jest ich sto razy więcej. Nie masz z kim grać\, albo właśnie masz ekipę do grania? Przyjdźcie i skorzystajcie z naszych gier! W programie nauka gier z instruktorką i regularne rozgrywki. Spotkanie bez ograniczeń wiekowych. Wstęp wolny.
URL:https://kultura.tarnow.pl/wydarzenie/gramy-w-dom-ku-2/
LOCATION:Dom Kultury Westerplatte 8a\, Westerplatte 8a\, Tarnów\, Polska - małopolskie\, 33-100\, Polska
CATEGORIES:spotkania
ORGANIZER;CN="Dom Kultury Westerplatte 8a":MAILTO:westerplatte@tck.pl
GEO:50.0273033;21.0087361
X-APPLE-STRUCTURED-LOCATION;VALUE=URI;X-ADDRESS=Dom Kultury Westerplatte 8a Westerplatte 8a Tarnów Polska - małopolskie 33-100 Polska;X-APPLE-RADIUS=500;X-TITLE=Westerplatte 8a:geo:21.0087361,50.0273033
END:VEVENT
BEGIN:VEVENT
DTSTART;TZID=Europe/Warsaw:20231025T180000
DTEND;TZID=Europe/Warsaw:20231025T193000
DTSTAMP:20260422T022343
CREATED:20231017T130120Z
LAST-MODIFIED:20231017T130120Z
UID:10014934-1698256800-1698262200@kultura.tarnow.pl
SUMMARY:Krystian Janik - wieczór autorski
DESCRIPTION:W środę 25 października o godzinie 18.00 w Filii nr 8 Miejskiej Biblioteki Publicznej w Tarnowie-Mościcach (ul. Traugutta 1\, budynek CSM) odbędzie się wieczór autorski KRYSTIANA JANIKA. Spotkanie będzie połączone z promocją książki pt: „Nic się nie dzieje”\, a rozmowę z autorem poprowadzi dr Paweł Czernek. \n  \n„Nic się nie dzieje”\nTa historia miała się więcej nie powtórzyć. Jednak życie w wiecznie uśpionych miasteczkach jest jak mecze reprezentacji narodowej na kolejnych mundialach: wielkie nadzieje kończą się szybkim powrotem do domu. Mieszkańcom Odchylic najlepiej udają się właśnie powroty. Wracają do tamtych dni\, do wiecznie pijanych mężów i dziewczyn\, z którymi im nie wyszło. Do tych samych miejsc\, aby popełniać te same błędy.\nMiłość wypaliła się dawno\, dawno temu. Teraz palą się tylko papierosy. Można by zapłakać nad niespełnionymi marzeniami i utonąć w morzu łez\, ale morze ma barwę żołądkowej gorzkiej.\n[https://wydawnictwolira.pl/produkt/nic-sie-nie-dzieje/] \n  \nKRYSTIAN JANIK\nProzaik\, felietonista\, dziennikarz. Autor powieści „Tu nie ma nic” (2022) oraz kryminału historycznego „Pomsta. Opowieść z dziejów miasta Tarnowa” (2018)\, a także podszytych grozą opowiadań publikowanych w czasopismach i antologiach\, m.in. „The Best of Histeria” (2020)\, „City 5. Antologia polskich opowiadań grozy” (2022). Zwolennik filozofii nietzscheańskiej oraz myśli Emila Ciorana. Miłośnik prozy Jerzego Pilcha i Milana Kundery. Fan Davida Duchovnego i Gillian Anderson. Jedyny pisarz\, który pisanie książek łączy z meczami reprezentacji narodowej. Kontynuację „Tu nie ma nic” uzależnił od awansu polskich piłkarzy na mundial w Katarze.
URL:https://kultura.tarnow.pl/wydarzenie/krystian-janik-wieczor-autorski/
LOCATION:Filia nr 8 Miejskiej Biblioteki Publicznej im. J. Słowackiego\, ul. Traugutta 1\, Tarnów\, małopolskie\, 33-100\, Polska
CATEGORIES:wieczory autorskie
ATTACH;FMTTYPE=image/jpeg:https://kultura.tarnow.pl/wp-content/uploads/Janik_plakat.jpg
GEO:50.009833;20.92706
X-APPLE-STRUCTURED-LOCATION;VALUE=URI;X-ADDRESS=Filia nr 8 Miejskiej Biblioteki Publicznej im. J. Słowackiego ul. Traugutta 1 Tarnów małopolskie 33-100 Polska;X-APPLE-RADIUS=500;X-TITLE=ul. Traugutta 1:geo:20.92706,50.009833
END:VEVENT
END:VCALENDAR