BEGIN:VCALENDAR
VERSION:2.0
PRODID:-//kultura.tarnów - ECPv6.4.0.1//NONSGML v1.0//EN
CALSCALE:GREGORIAN
METHOD:PUBLISH
X-WR-CALNAME:kultura.tarnów
X-ORIGINAL-URL:https://kultura.tarnow.pl
X-WR-CALDESC:Wydarzenia dla
REFRESH-INTERVAL;VALUE=DURATION:PT1H
X-Robots-Tag:noindex
X-PUBLISHED-TTL:PT1H
BEGIN:VTIMEZONE
TZID:Europe/Warsaw
BEGIN:DAYLIGHT
TZOFFSETFROM:+0100
TZOFFSETTO:+0200
TZNAME:CEST
DTSTART:20230326T010000
END:DAYLIGHT
BEGIN:STANDARD
TZOFFSETFROM:+0200
TZOFFSETTO:+0100
TZNAME:CET
DTSTART:20231029T010000
END:STANDARD
END:VTIMEZONE
BEGIN:VEVENT
DTSTART;TZID=Europe/Warsaw:20231016T090000
DTEND;TZID=Europe/Warsaw:20231016T160000
DTSTAMP:20260422T022351
CREATED:20230912T085649Z
LAST-MODIFIED:20230912T085735Z
UID:10014904-1697446800-1697472000@kultura.tarnow.pl
SUMMARY:Michalina Hendrys „Tańcząc ze światłem”
DESCRIPTION:Wernisaż wystawy z udziałem autorki 22 września (piątek) o godzinie 18:00 w Galerii TCK (wstęp wolny). Na wystawie zaprezentowane zostaną projekty z wykorzystaniem techniki wielootworkowej oraz filmy poklatkowe. Artystka wykorzystuje w nich proste działanie kamery obscury\, przetwarzając je dla uzyskania wyjątkowych prac fotograficznych. \nEkspozycja będzie dostępna od 23 września do 21 października 2023 r. Bilety 7 zł i 5 zł (ulgowy).\n \nDzień po otwarciu wystawy (23.09) zapraszamy na warsztaty fotografii otworkowej\, które Michalina Hendrys poprowadzi wspólnie z Tomaszem Kowalczykiem. \nTańcząc ze światłem\nZjawisko projekcji rzeczywistości w zaciemnionym pomieszczeniu prawdopodobnie znane było już od czasów starożytnych. Promienie światła tworzące na ścianie przeciwległej do otworu\, odwrócony obraz przedmiotów znajdujących się przed otworem\, to zasada działania camera obscura. Technikę cechują proste zasady konstrukcji i nieskończone możliwości jej modyfikacji. Pokusa eksperymentowania staje się nieodparta. Myślę\, że ma w sobie moc\, która budzi nasze wewnętrzne dziecko żądne odkrywania świata. Możemy zaprojektować aparat\, aby działał tak jak my chcemy. To tak jakby „mieć na swoje usługi promień słońca”[1]. Prace\, które prezentuję na wystawie są moim własnym tańcem ze światłem. To rezultaty dawnych eksperymentów i doświadczeń. Teraz po czasie\, widzę w nich nowe znaczenia\, a niektóre dopiero zaczynam rozumieć – pada na nie nowe światło. Wydaje mi się\, że metafora tańca najtrafniej opisuje proces powstawania moich prac\, w których łączyłam zabawę ze sztuką. Taniec to przede wszystkim ruch. Zdjęcie to zapis zatrzymanego ruchu światła. Zapis tańca promieni. Bo tak naprawdę one tańczyły same. Ja jedynie wybierałam dla nich scenę lub projektowałam matryce. Reszta działa się sama. Czasem jednak starałam się przejąć kontrolę nad tym co widzialne. Na krótki moment\, stawałam się choreografem tańca światła. \n[1] Obrazy Fotografii. Album Metafor Fotograficznych. Bernd Stiegler\, Universitas\, 2009 . \nMichalina Hendrys \nUrodzona w 1989 mieszka i tworzy w Krakowie. Absolwentka Wydziału Komunikacji Multimedialnej (fotografii) Uniwersytetu Artystycznego w Poznaniu. Szczególnie interesuje się szeroko rozumianą fotografią otworkową. Konstruuje własne kamery obscury\, starając się wykorzystać wszystkie możliwości\, jakie daje ta technika. Tworzy zarówno zdjęcia otworkowe\, jak i filmy oparte na zjawisku ciemni optycznej. W swoich projektach dąży do porzucenia dwuwymiarowego rozumienia fotografii\, na wiele sposobów akcentując jej przestrzenność. Wykorzystuje w tym celu emulsję fotograficzną i tworzy własne techniki. Tematy jej projektów dotyczą przestrzeni\, pejzażu oraz portretu. Swoje prace prezentowała na wystawach\, m.in. w Krakowie\, Szczecinie\, Poznaniu\, Gdańsku\, Łodzi\, Sopocie\, ale również za granicą w Rumunii\, Rosji\, Wielkiej Brytanii\, Meksyku\, Słowenii\, Hiszpanii\, czy USA. \n\n\n22.09\, g. 18.00 Wernisaż z udziałem autorki (wstęp wolny)\nGaleria TCK (Tarnów\, Rynek 5)\nEkspozycja dostępna od 23.09 do 21.10.2023.\nBilety: 5 zł (ulgowy) / 7 zł (normalny)
URL:https://kultura.tarnow.pl/wydarzenie/michalina-hendrys-tanczac-ze-swiatlem-2023-09-23/2023-10-16/
LOCATION:Tarnowskie Centrum Kultury\, Rynek 5\, Tarnów\, małopolskie\, 33-100\, Polska
CATEGORIES:wystawy
ATTACH;FMTTYPE=image/jpeg:https://kultura.tarnow.pl/wp-content/uploads/95a8e9380b9cf65969662760ca8091b1.jpeg
GEO:50.012155;20.9878542
X-APPLE-STRUCTURED-LOCATION;VALUE=URI;X-ADDRESS=Tarnowskie Centrum Kultury Rynek 5 Tarnów małopolskie 33-100 Polska;X-APPLE-RADIUS=500;X-TITLE=Rynek 5:geo:20.9878542,50.012155
END:VEVENT
END:VCALENDAR