BEGIN:VCALENDAR
VERSION:2.0
PRODID:-//kultura.tarnów - ECPv6.4.0.1//NONSGML v1.0//EN
CALSCALE:GREGORIAN
METHOD:PUBLISH
X-WR-CALNAME:kultura.tarnów
X-ORIGINAL-URL:https://kultura.tarnow.pl
X-WR-CALDESC:Wydarzenia dla
REFRESH-INTERVAL;VALUE=DURATION:PT1H
X-Robots-Tag:noindex
X-PUBLISHED-TTL:PT1H
BEGIN:VTIMEZONE
TZID:Europe/Warsaw
BEGIN:DAYLIGHT
TZOFFSETFROM:+0100
TZOFFSETTO:+0200
TZNAME:CEST
DTSTART:20230326T010000
END:DAYLIGHT
BEGIN:STANDARD
TZOFFSETFROM:+0200
TZOFFSETTO:+0100
TZNAME:CET
DTSTART:20231029T010000
END:STANDARD
END:VTIMEZONE
BEGIN:VEVENT
DTSTART;TZID=Europe/Warsaw:20231015T080000
DTEND;TZID=Europe/Warsaw:20231015T170000
DTSTAMP:20260422T233950
CREATED:20230925T084820Z
LAST-MODIFIED:20230925T084820Z
UID:10015009-1697356800-1697389200@kultura.tarnow.pl
SUMMARY:Kurs języka węgierskiego
DESCRIPTION:Tarnowskie Towarzystwo Przyjaciół Węgier tradycyjnie jak co roku już od 45 lat\, zaprasza na kurs języka węgierskiego. \nZajęcia prowadzone są w siedzibie TTPW w Tarnowie przy ul. L. Waryńskiego 10\, w każdy czwartek w trzech grupach zaawansowania począwszy od początkujących.\nPlanowane rozpoczęcie zajęć od 5 października 2023 r. \nTowarzystwo zapewnia doświadczoną lektorkę – Wykładowczynię na Wydziale Hungarystyki Uniwersytetu Jagiellońskiego w Krakowie\, możliwość zakupu podręczników\, dostęp do materiałów ćwiczeniowych\, możliwość wyjazdu na kilkudniowy pobyt szkoleniowy na Węgrzech. \nTTPW korzysta ze wsparcia Konsulatu Generalnego Węgier w Krakowie\, Instytutu Współpracy Polsko-Węgierskiej im. Wacława Felczaka (od b.r.)\, rozległych kontaktów instytucjonalnych\noraz osobistych z Węgrami. \nZ A P R A S Z A M Y !!! \nKontakt we wtorki i czwartki w godzinach od 17.00 do 19.00:\n• telefoniczny na numer 14 621 17 06\n• osobisty – w siedzibie TTPW\nw pozostałe dni w godzinach od 9.00 do 20.00 – tel. 696 625 429 \nPRZEKONAJ SIĘ\, ŻE WARTO POZNAĆ JĘZYK ODWIECZNYCH PRZYJACIÓŁ!!!
URL:https://kultura.tarnow.pl/wydarzenie/kurs-jezyka-wegierskiego/2023-10-15/
LOCATION:Tarnowskie Towarzystwo Przyjaciół Wegier\, Waryńskiego 10\, Tarnów\, Małopolskie\, 33-100
CATEGORIES:kursy
END:VEVENT
BEGIN:VEVENT
DTSTART;TZID=Europe/Warsaw:20231015T093000
DTEND;TZID=Europe/Warsaw:20231015T183000
DTSTAMP:20260422T233950
CREATED:20230919T102723Z
LAST-MODIFIED:20230919T102723Z
UID:10014927-1697362200-1697394600@kultura.tarnow.pl
SUMMARY:Obraz. Dźwięk. Animacja - warsztaty video mappingu
DESCRIPTION:3 weekendy: 7-8.10\, 14-15.10\, 28-29.10.2023 \nMiejsca: Multimedialne Centrum Artystyczne (ul. Wałowa 25) i BWA w Tarnowie – Pałacyk Strzelecki (ul. Słowackiego 1) \ng. 9.30 – 18.30 \nProwadzadzenie: Tomasz Paluch\, Andrzej Krawczyk\, Tomasz Gawroński (Tving Stage Design)\, Michał Szumlański \nOprawa graficzna warsztatów: Natalia Sikorska \nWarsztaty skierowane są do osób dorosłych oraz młodzieży i studentów – zwłaszcza związanych z kierunkami artystycznymi oraz samouków. Uczestnicy zostaną podzieleni na grupę początkującą i zaawansowaną. \nIdeą warsztatów jest zapoznanie uczestników z procesem produkcji mappingu 3D\, praktycznymi umiejętnościami programowymi oraz kilkoma innymi technikami\, jak animacja poklatkowa\, praca z green screenem czy podstawami tworzenia scenariusza. \nRezultatem warsztatów będzie sprawdzenie nabytych umiejętności przy wspólnym przygotowaniu mappingu\, który zostanie wyświetlony na Pałacyku Strzeleckim – siedzibie BWA w Tarnowie. \nZapraszamy zarówno osoby\, które dopiero chcą rozpocząć swoją przygodę z programami\, a także bardziej doświadczonych użytkowników. Warsztaty poprowadzą specjaliści w różnych dziedzinach związanych z animacją. \nPodczas warsztatów zajmiemy się zagadnieniami takimi jak: modelowanie 3D\, motion design\, animacja poklatkowa\, animacja rysunkowa\, animacja przedmiotowa\, green screen\, udźwiękowienie\, budowanie scenariusza\, story board\, montaż \n \nWiek uczestników: 16+ \nCzas trwania warsztatów: 9 h dziennie (w tym przerwy na kawę + przerwa obiadowa 13.30-15.00) \nKoszt: 600 zł za 6 dni / płatność z góry przelewem \nProgramy używane podczas warsztatów: Cinema 4D\, Adobe\, Blender\, Unreal engine i inne \nUczestnicy muszą zabrać na warsztaty własny komputer. \nObiady na koszt własny uczestników. \nZgłoś się poprzez wypełnienie ankiety rekrutacyjnej: \nLINK DO ANKIETY – KLIKNIJ! \nOgłoszenie wyników rekrutacji: 29.09.2023 \nIlość miejsc ograniczona. \nCzynnikami decydującymi o uczestnictwie będą: \n– ankieta rekrutacyjna \n– ze względu na ograniczoną ilość miejsc\, o przyjęciu może decydować kolejność zgłoszeń. \nKontakt / dodatkowe informacje: \nDział Edukacji BWA Tarnów \nedukacja@bwa.tarnow.pl\, 606 146 520 \nProwadzenie: \nTomasz Paluch – Absolwent Akademii Sztuk Pięknych w Krakowie na Wydziale Form Przemysłowych. Współzałożyciel i współorganizator trzech edycji festiwalu MAPP FEST w Tychach. Zajmuje się animacją i projektowaniem interakcji. Współpracuje z instytucjami kultury w Polsce i za granicą\, jak również markami takimi jak: Bielenda\, Wedel\, Zott\, BMW\, Nissan. Głównymi obszarami jego działań zawodowych są projektowanie\, animacja i organizacja. \nAndrzej Krawczyk – to motion designer pracujący w Vision-Impossible. Specjalizuje się w animacjach 2d i 3d do eventów muzycznych. Pracuje w Cinema 4d oraz After Effects. Jest dwukrotnym zwycięzcą Imapp Bucharest – największego eventu mappingowego na świecie. Jako artysta zajmujący się projection mappingiem skupia się nie tylko na tworzeniu pięknych obrazów oraz solidnych animacji\, ale także na opowiedzeniu wartościowych historii. \nTomasz Gawroński – twórca marki wizualnej Tving Stage Design związanej z muzyką elektroniczną\, pod której szyldem tworzy od ponad dekady. Tving to w pełni sztuka wizualna związana z artystami takimi jak m.in. Emika\, Rachel Lyn\, Michał Jabłoński czy Bartosz Dziadosz; festiwalami Mayday Poland\, Tauron Nowa Muzyka\, Audioriver oraz instytucjami kultury\, np. warszawskim Teatrem Narodowym. Od kilku lat odpowiada za audiowizualne show duetu Skalpel. W swojej twórczości jest skupiony na minimalizmie\, geometrycznych formach\, jak i organicznych kształtach tworzonych w 3D. Dzięki wielkiemu doświadczeniu i wiedzy technologicznej TSD dostarcza odbiorcom doznań poprzez instalacje\, projekcje video mappingowe\, jak również projekty scenograficzno – ledowe czy laserowe. Tomasz Gawroński swoje realizacje prezentował m.in. w Meksyku\, Rosji\, Niemczech\, Wielkiej Brytanii czy Rumunii. Każdą produkcję traktuje jako ważny dla słuchacza / odbiorcy experience\, którym ma być muzyka i oprawa sceniczna. \nMichał Szumlański – wychowany w Tarnowie\, absolwent Politechniki Krakowskiej na wydziale Architektury. Zawodowo związany z branżą gamedev. Specjalizuje się w projektowaniu grafiki i poziomów w grach komputerowych. Współpracuje na co dzień z byłymi twórcami takich rozpoznawalnych marek jak Wiedźmin 3\, Frostpunk czy Cyberpunk 2077. Zaangażowany w cyfrową rekonstrukcję zamku w Tarnowie pod patronatem medialnym BWA. Ex-uczestnik poprzednich edycji warsztatów „Obraz\, Dźwięk\, Animacja”.
URL:https://kultura.tarnow.pl/wydarzenie/obraz-dzwiek-animacja-warsztaty-video-mappingu/2023-10-15/
LOCATION:Biuro Wystaw Artystycznych\, ul. Słowackiego 1\, Tarnów\, małopolskie\, 33-100\, Polska
CATEGORIES:warsztaty
ATTACH;FMTTYPE=image/jpeg:https://kultura.tarnow.pl/wp-content/uploads/Obraz.-Dźwięk.-Animacja-warsztaty-video-mappingu-baner.jpg
ORGANIZER;CN="Biuro Wystaw Artystycznych":MAILTO:biuro@bwa.tarnow.pl
GEO:50.0178761;20.9827521
X-APPLE-STRUCTURED-LOCATION;VALUE=URI;X-ADDRESS=Biuro Wystaw Artystycznych ul. Słowackiego 1 Tarnów małopolskie 33-100 Polska;X-APPLE-RADIUS=500;X-TITLE=ul. Słowackiego 1:geo:20.9827521,50.0178761
END:VEVENT
BEGIN:VEVENT
DTSTART;TZID=Europe/Warsaw:20231015T120000
DTEND;TZID=Europe/Warsaw:20231015T200000
DTSTAMP:20260422T233950
CREATED:20230914T115411Z
LAST-MODIFIED:20230914T115424Z
UID:10013965-1697371200-1697400000@kultura.tarnow.pl
SUMMARY:Festiwal Słodkości i Rękodzieła
DESCRIPTION:Już niebawem widzimy się na Rynku podczas najsłodszego\, najradośniejszego Festiwalu tej jesieni!! Przygotujcie się na niezapomniany weekend w Waszym mieście od 13 do 15 października\nPodczas Festiwalu Słodkości i Rękodzieła odkryjecie przysmaki ze wszystkich zakątków świata oraz zobaczcie wyjątkowe rękodzielnicze skarby z całej Polski.\nNa najmłodszych uczestników czekać będą specjalne strefy zabaw z dmuchańcami\, watą cukrową i popcornem oraz przepiękną karuzelą. Nie zabraknie również animacji i wspólnych zabaw przy muzyce.\nNie możemy się doczekać spotkania z Wami!\nPrzyjdźcie z rodziną i przyjaciółmi\, aby razem delektować się słodkimi smakami i spędzić miło czas w wyjątkowej atmosferze Festiwalu Słodkości i Rękodzieła!\nData: 13.-15.10\nGodziny otwarcia: 12:00-20:00\nMiejsce: Rynek w Tarnowie
URL:https://kultura.tarnow.pl/wydarzenie/65846/2023-10-15/
LOCATION:Rynek\, Tarnów\, małopolskie\, 33-100\, Polska
CATEGORIES:festiwale
ATTACH;FMTTYPE=image/jpeg:https://kultura.tarnow.pl/wp-content/uploads/377522509_320678407135373_3585190038609663073_n.jpg
GEO:50.0121011;20.9858407
END:VEVENT
BEGIN:VEVENT
DTSTART;TZID=Europe/Warsaw:20231015T140000
DTEND;TZID=Europe/Warsaw:20231015T160000
DTSTAMP:20260422T233950
CREATED:20231005T090956Z
LAST-MODIFIED:20231005T090956Z
UID:10014922-1697378400-1697385600@kultura.tarnow.pl
SUMMARY:Polatajmy! Warsztaty robienia latawców dla dzieci z rodzicami
DESCRIPTION:Latawiec. Zabawka z listewek i rozpiętego na nich ozdobnego papieru\, puszczana na wiatr. Zapraszamy w parach: dziecko od 5. roku życia z osobą dorosłą. Zapewniamy wszystkie materiały. Warsztaty płatne – 30 zł od pary. Ilość miejsc ograniczona\, obowiązują zapisy a.szulakiewicz@tck.pl
URL:https://kultura.tarnow.pl/wydarzenie/polatajmy-warsztaty-robienia-latawcow-dla-dzieci-z-rodzicami/
LOCATION:Dom Kultury Westerplatte 8a\, Westerplatte 8a\, Tarnów\, Polska - małopolskie\, 33-100\, Polska
CATEGORIES:warsztaty
ATTACH;FMTTYPE=image/jpeg:https://kultura.tarnow.pl/wp-content/uploads/Polatajmy_warsztaty_s.jpg
ORGANIZER;CN="Dom Kultury Westerplatte 8a":MAILTO:westerplatte@tck.pl
GEO:50.0273033;21.0087361
X-APPLE-STRUCTURED-LOCATION;VALUE=URI;X-ADDRESS=Dom Kultury Westerplatte 8a Westerplatte 8a Tarnów Polska - małopolskie 33-100 Polska;X-APPLE-RADIUS=500;X-TITLE=Westerplatte 8a:geo:21.0087361,50.0273033
END:VEVENT
BEGIN:VEVENT
DTSTART;TZID=Europe/Warsaw:20231015T190000
DTEND;TZID=Europe/Warsaw:20231015T210000
DTSTAMP:20260422T233950
CREATED:20230912T093519Z
LAST-MODIFIED:20230912T093519Z
UID:10013951-1697396400-1697403600@kultura.tarnow.pl
SUMMARY:XII Międzynarodowy Festiwal Teatrów Tańca SCENA OTWARTA
DESCRIPTION:Hasło przewodnie tegorocznej edycji to „Czas życia – wartość życia”. Język tanecznych narracji i impresji wyrazi te momenty ludzkiego życia\, które znacząco odkrywają jego prawdę\, są refleksją przemijania. Odwołamy się do wybitnych dokonań teatru tańca określających nasze ludzkie uniwersum. \nProgram XII Międzynarodowego Festiwalu Teatrów Tańca Scena Otwarta: \n7 października 2023\, godz. 19.00 – „Carmen” – Państwowy Teatr Tańca w Koszycach / Słowacja \nHistoria miłosna\, w której zderza się nieujarzmione\, uwodzicielskie kobiece piękno z męskim pożądaniem i namiętnością zmierzającą ku zatraceniu. Doskonała muzyka\, feeryczna i mroczna zarazem\, przepowiadająca śmierć od pierwszego aktu. Połączenie uniwersalnej prawdy o losie i przeznaczeniu z żywiołowością materii muzycznej sprawiają\, że „Carmen” odbierana jest wciąż jako dzieło aktualne. \nCeny biletów w przedsprzedaży: 70 zł (normalny)\, 65 zł (ulgowy)\nCeny biletów: 80 zł (normalny)\, 70 zł (ulgowy)\nPrzedsprzedaż biletów od 23 czerwca do 13 lipca 2023 \n14 października 2023\, godz. 19.00 – „Nowe Szaty Króla” – Teatr Avatar / Polska \nBarwny\, dynamiczny i przewrotny spektakl familijny Teatru Avatar „Nowe Szaty Króla” łączy klasyczne teksty Andersena ze swingowymi choreografiami. Widowisko skomponowane z kontrastujących sobie smaków wzmacniających doznania widza – od słodkiej miłości\, przez gorzkie oblicze władzy oraz pikantne walki po słone łzy. Całość okraszona akrobatyką i popisami tanecznymi\, czule objęta magiczną oprawą z udziałem fantastycznych stworów. \nCeny biletów w przedsprzedaży: 70 zł (normalny)\, 65 zł (ulgowy)\nCeny biletów: 80 zł (normalny)\, 70 zł (ulgowy)\, dzieci do 16 lat – 50 zł\nPrzedsprzedaż biletów od 23 czerwca do 13 lipca 2023\n \n15 października 2023\, godz. 19.00 – „Giselle” – Royal Lviv Ballet / Ukraina\n\nTo najpiękniejszy balet romantyczny XIX wieku przedstawiony w dwóch aktach\, który wśród choreografów uchodzi za najbardziej sceniczny. Opowiada historię pięknej\, wiejskiej dziewczyny (legenda o Giselle)\, która zakochuje się w Księciu przebranym za wieśniaka.\nDowodzi siły miłości\, która jest tak wielka\, że może pokonać wszystko – nawet śmierć. \nCeny biletów w przedsprzedaży: 70 zł (normalny)\, 65 zł (ulgowy)\nCeny biletów: 80 zł (normalny)\, 70 zł (ulgowy)\nPrzedsprzedaż biletów od 23 czerwca do 13 lipca 2023 \n21 października 2023\, godz. 18:00 – Gala Finałowa konkursu choreograficznego „My Dance” i spektakl „Humani corporis fabrica” – Ryszard Kalinowski i Grzegorz Pańtak w choreografii Jacka Przybyłowicza / Polska \nKolejna edycja konkursu choreograficznego\, przygotowana we współpracy z Funduszem Popierania Twórczości Stowarzyszenia Autorów ZAiKS im. Andrzeja Szczypiorskiego oraz Jurorami. Konkurs to skuteczna forma promowania szczególnie zdolnych choreografów młodego pokolenia. Możliwość zaprezentowania swojego projektu w otoczeniu profesjonalnej sceny jest wysoko oceniana przez uczestników Konkursu. W Jury zasiądą: Jacek Przybyłowicz\, Zofia Rudnicka\, Witold Jurewicz. \nTworząc choreografię „Humani corporis fabrica” dla duetu dojrzałych tancerzy – Ryszarda Kalinowskiego i Grzegorza Pańtaka – choreograf Jacek Przybyłowicz sięga po inspiracje do początków badań anatomicznych oraz do filozoficznych rozważań nad maszynerią i nad przemijalnością ciała. Humani corporis fabrica to swoisty rodzaj wykładu anatomicznego\, „słuchowisko choreograficzne”\, do którego głosu udzielił Andrzej Chyra. \nCeny biletów: 35 zł (normalny)\, 25 zł (ulgowy) \n7 – 22 października 2023 – Wystawa „Performance Dance”
URL:https://kultura.tarnow.pl/wydarzenie/xii-miedzynarodowy-festiwal-teatrow-tanca-scena-otwarta/2023-10-15/
LOCATION:Centrum Sztuki Mościce\, Traugutta 1\, Tarnów\, małopolskie\, 33-101\, Polska
CATEGORIES:spektakle
ATTACH;FMTTYPE=image/jpeg:https://kultura.tarnow.pl/wp-content/uploads/img_890e67716d46db80d0ff9f331ad78dfa.jpeg
GEO:50.009833;20.92706
X-APPLE-STRUCTURED-LOCATION;VALUE=URI;X-ADDRESS=Centrum Sztuki Mościce Traugutta 1 Tarnów małopolskie 33-101 Polska;X-APPLE-RADIUS=500;X-TITLE=Traugutta 1:geo:20.92706,50.009833
END:VEVENT
END:VCALENDAR