BEGIN:VCALENDAR
VERSION:2.0
PRODID:-//kultura.tarnów - ECPv6.4.0.1//NONSGML v1.0//EN
CALSCALE:GREGORIAN
METHOD:PUBLISH
X-ORIGINAL-URL:https://kultura.tarnow.pl
X-WR-CALDESC:Wydarzenia dla
REFRESH-INTERVAL;VALUE=DURATION:PT1H
X-Robots-Tag:noindex
X-PUBLISHED-TTL:PT1H
BEGIN:VTIMEZONE
TZID:Europe/Warsaw
BEGIN:DAYLIGHT
TZOFFSETFROM:+0100
TZOFFSETTO:+0200
TZNAME:CEST
DTSTART:20230326T010000
END:DAYLIGHT
BEGIN:STANDARD
TZOFFSETFROM:+0200
TZOFFSETTO:+0100
TZNAME:CET
DTSTART:20231029T010000
END:STANDARD
END:VTIMEZONE
BEGIN:VEVENT
DTSTART;TZID=Europe/Warsaw:20231008T080000
DTEND;TZID=Europe/Warsaw:20231008T170000
DTSTAMP:20260420T173550
CREATED:20230925T084820Z
LAST-MODIFIED:20230925T084820Z
UID:10015002-1696752000-1696784400@kultura.tarnow.pl
SUMMARY:Kurs języka węgierskiego
DESCRIPTION:Tarnowskie Towarzystwo Przyjaciół Węgier tradycyjnie jak co roku już od 45 lat\, zaprasza na kurs języka węgierskiego. \nZajęcia prowadzone są w siedzibie TTPW w Tarnowie przy ul. L. Waryńskiego 10\, w każdy czwartek w trzech grupach zaawansowania począwszy od początkujących.\nPlanowane rozpoczęcie zajęć od 5 października 2023 r. \nTowarzystwo zapewnia doświadczoną lektorkę – Wykładowczynię na Wydziale Hungarystyki Uniwersytetu Jagiellońskiego w Krakowie\, możliwość zakupu podręczników\, dostęp do materiałów ćwiczeniowych\, możliwość wyjazdu na kilkudniowy pobyt szkoleniowy na Węgrzech. \nTTPW korzysta ze wsparcia Konsulatu Generalnego Węgier w Krakowie\, Instytutu Współpracy Polsko-Węgierskiej im. Wacława Felczaka (od b.r.)\, rozległych kontaktów instytucjonalnych\noraz osobistych z Węgrami. \nZ A P R A S Z A M Y !!! \nKontakt we wtorki i czwartki w godzinach od 17.00 do 19.00:\n• telefoniczny na numer 14 621 17 06\n• osobisty – w siedzibie TTPW\nw pozostałe dni w godzinach od 9.00 do 20.00 – tel. 696 625 429 \nPRZEKONAJ SIĘ\, ŻE WARTO POZNAĆ JĘZYK ODWIECZNYCH PRZYJACIÓŁ!!!
URL:https://kultura.tarnow.pl/wydarzenie/kurs-jezyka-wegierskiego/2023-10-08/
LOCATION:Tarnowskie Towarzystwo Przyjaciół Wegier\, Waryńskiego 10\, Tarnów\, Małopolskie\, 33-100
CATEGORIES:kursy
END:VEVENT
BEGIN:VEVENT
DTSTART;TZID=Europe/Warsaw:20231008T090000
DTEND;TZID=Europe/Warsaw:20231008T170000
DTSTAMP:20260420T173550
CREATED:20230803T113400Z
LAST-MODIFIED:20230808T082627Z
UID:10014686-1696755600-1696784400@kultura.tarnow.pl
SUMMARY:Szancer\, wyobraź sobie!
DESCRIPTION:Analogowa ekspozycja „Szancer\, wyobraź sobie” zaprasza w świat twórczości wybitnego polsko-żydowskiego ilustratora\, Jana Marcina Szancera.\nWystawa wprowadza w ilustrowany świat Szancera: najpierw małego Jasia\, który uczy się rysować\, następnie starszego Janka\, stawiającego pierwsze kroki na drodze swojej ilustratorskiej kariery\, wreszcie szacownego pana Jana\, który – mimo trudnych doświadczeń – nawet jako dorosły nie stracił dziecięcej wyobraźni.\nNa ekspozycji znajdują się także instalacje przygotowane specjalnie na potrzeby wystawy: szafa z podwójnym dnem\, lokomotywa z gwizdkiem\, czy ściana niewidocznych strachów. Dzięki wyjątkowej scenografii zwiedzający mogą poczuć się jak bohaterowie bajki\, opartej na wybranych wydarzeniach z życia rysownika i wraz z nim ćwiczyć swoją wyobraźnię.\n\nWystawa skierowa jest nie tylko do najmłodszych widzów\, obejmuje również opowieść o losach Szancera i dramatycznych doświadczeniach polskich Żydów w XX wieku.\nJan Marcin Szancer (1902–1973) – wybitny ilustrator\, dziennikarz\, autor bajek\, redaktor graficzny\, organizator i szef artystyczny teatru TV\, profesor Akademii Sztuk Pięknych. Stały współpracownik Jana Brzechwy. Reżyserował przedstawienia telewizyjne i teatralne\, m.in. w warszawskim Teatrze Wielkim\, był autorem scenografii i kostiumów\, także do filmów (Awantura o Basię\, Panienka z okienka).\n\nWystawa została przygotowana przez Żydowskie Muzeum „Galicja” przy współpracy Oficyny Wydawniczej G&P.\n\n\nBWA Tarnów / DWORZEC / pl. Dworcowy 4\n9.08-9.10.2023\nwstęp wolny\nMidisaż i spotkanie z Elizabeth Szancer w piątek 1.09\, g. 17:00 / Galicjaner Sztetl – Dni Pamięci Żydów Galicyjskich\nWystawa czynna:\nponiedziałek-czwartek 9:00-17:00\nniedziela 9:00-17:00
URL:https://kultura.tarnow.pl/wydarzenie/szancer-wyobraz-sobie/2023-10-08/
LOCATION:BWA na Dworcu PKP\, Plac Dworcowy 4\, Tarnów\, małopolskie\, 33-100\, Polska
CATEGORIES:wystawy
ATTACH;FMTTYPE=image/jpeg:https://kultura.tarnow.pl/wp-content/uploads/363340984_760466332753376_8045728188636738381_n.jpg
ORGANIZER;CN="Biuro Wystaw Artystycznych":MAILTO:biuro@bwa.tarnow.pl
GEO:50.0057629;20.9744639
X-APPLE-STRUCTURED-LOCATION;VALUE=URI;X-ADDRESS=BWA na Dworcu PKP Plac Dworcowy 4 Tarnów małopolskie 33-100 Polska;X-APPLE-RADIUS=500;X-TITLE=Plac Dworcowy 4:geo:20.9744639,50.0057629
END:VEVENT
BEGIN:VEVENT
DTSTART;TZID=Europe/Warsaw:20231008T093000
DTEND;TZID=Europe/Warsaw:20231008T183000
DTSTAMP:20260420T173550
CREATED:20230919T102723Z
LAST-MODIFIED:20230919T102723Z
UID:10014925-1696757400-1696789800@kultura.tarnow.pl
SUMMARY:Obraz. Dźwięk. Animacja - warsztaty video mappingu
DESCRIPTION:3 weekendy: 7-8.10\, 14-15.10\, 28-29.10.2023 \nMiejsca: Multimedialne Centrum Artystyczne (ul. Wałowa 25) i BWA w Tarnowie – Pałacyk Strzelecki (ul. Słowackiego 1) \ng. 9.30 – 18.30 \nProwadzadzenie: Tomasz Paluch\, Andrzej Krawczyk\, Tomasz Gawroński (Tving Stage Design)\, Michał Szumlański \nOprawa graficzna warsztatów: Natalia Sikorska \nWarsztaty skierowane są do osób dorosłych oraz młodzieży i studentów – zwłaszcza związanych z kierunkami artystycznymi oraz samouków. Uczestnicy zostaną podzieleni na grupę początkującą i zaawansowaną. \nIdeą warsztatów jest zapoznanie uczestników z procesem produkcji mappingu 3D\, praktycznymi umiejętnościami programowymi oraz kilkoma innymi technikami\, jak animacja poklatkowa\, praca z green screenem czy podstawami tworzenia scenariusza. \nRezultatem warsztatów będzie sprawdzenie nabytych umiejętności przy wspólnym przygotowaniu mappingu\, który zostanie wyświetlony na Pałacyku Strzeleckim – siedzibie BWA w Tarnowie. \nZapraszamy zarówno osoby\, które dopiero chcą rozpocząć swoją przygodę z programami\, a także bardziej doświadczonych użytkowników. Warsztaty poprowadzą specjaliści w różnych dziedzinach związanych z animacją. \nPodczas warsztatów zajmiemy się zagadnieniami takimi jak: modelowanie 3D\, motion design\, animacja poklatkowa\, animacja rysunkowa\, animacja przedmiotowa\, green screen\, udźwiękowienie\, budowanie scenariusza\, story board\, montaż \n \nWiek uczestników: 16+ \nCzas trwania warsztatów: 9 h dziennie (w tym przerwy na kawę + przerwa obiadowa 13.30-15.00) \nKoszt: 600 zł za 6 dni / płatność z góry przelewem \nProgramy używane podczas warsztatów: Cinema 4D\, Adobe\, Blender\, Unreal engine i inne \nUczestnicy muszą zabrać na warsztaty własny komputer. \nObiady na koszt własny uczestników. \nZgłoś się poprzez wypełnienie ankiety rekrutacyjnej: \nLINK DO ANKIETY – KLIKNIJ! \nOgłoszenie wyników rekrutacji: 29.09.2023 \nIlość miejsc ograniczona. \nCzynnikami decydującymi o uczestnictwie będą: \n– ankieta rekrutacyjna \n– ze względu na ograniczoną ilość miejsc\, o przyjęciu może decydować kolejność zgłoszeń. \nKontakt / dodatkowe informacje: \nDział Edukacji BWA Tarnów \nedukacja@bwa.tarnow.pl\, 606 146 520 \nProwadzenie: \nTomasz Paluch – Absolwent Akademii Sztuk Pięknych w Krakowie na Wydziale Form Przemysłowych. Współzałożyciel i współorganizator trzech edycji festiwalu MAPP FEST w Tychach. Zajmuje się animacją i projektowaniem interakcji. Współpracuje z instytucjami kultury w Polsce i za granicą\, jak również markami takimi jak: Bielenda\, Wedel\, Zott\, BMW\, Nissan. Głównymi obszarami jego działań zawodowych są projektowanie\, animacja i organizacja. \nAndrzej Krawczyk – to motion designer pracujący w Vision-Impossible. Specjalizuje się w animacjach 2d i 3d do eventów muzycznych. Pracuje w Cinema 4d oraz After Effects. Jest dwukrotnym zwycięzcą Imapp Bucharest – największego eventu mappingowego na świecie. Jako artysta zajmujący się projection mappingiem skupia się nie tylko na tworzeniu pięknych obrazów oraz solidnych animacji\, ale także na opowiedzeniu wartościowych historii. \nTomasz Gawroński – twórca marki wizualnej Tving Stage Design związanej z muzyką elektroniczną\, pod której szyldem tworzy od ponad dekady. Tving to w pełni sztuka wizualna związana z artystami takimi jak m.in. Emika\, Rachel Lyn\, Michał Jabłoński czy Bartosz Dziadosz; festiwalami Mayday Poland\, Tauron Nowa Muzyka\, Audioriver oraz instytucjami kultury\, np. warszawskim Teatrem Narodowym. Od kilku lat odpowiada za audiowizualne show duetu Skalpel. W swojej twórczości jest skupiony na minimalizmie\, geometrycznych formach\, jak i organicznych kształtach tworzonych w 3D. Dzięki wielkiemu doświadczeniu i wiedzy technologicznej TSD dostarcza odbiorcom doznań poprzez instalacje\, projekcje video mappingowe\, jak również projekty scenograficzno – ledowe czy laserowe. Tomasz Gawroński swoje realizacje prezentował m.in. w Meksyku\, Rosji\, Niemczech\, Wielkiej Brytanii czy Rumunii. Każdą produkcję traktuje jako ważny dla słuchacza / odbiorcy experience\, którym ma być muzyka i oprawa sceniczna. \nMichał Szumlański – wychowany w Tarnowie\, absolwent Politechniki Krakowskiej na wydziale Architektury. Zawodowo związany z branżą gamedev. Specjalizuje się w projektowaniu grafiki i poziomów w grach komputerowych. Współpracuje na co dzień z byłymi twórcami takich rozpoznawalnych marek jak Wiedźmin 3\, Frostpunk czy Cyberpunk 2077. Zaangażowany w cyfrową rekonstrukcję zamku w Tarnowie pod patronatem medialnym BWA. Ex-uczestnik poprzednich edycji warsztatów „Obraz\, Dźwięk\, Animacja”.
URL:https://kultura.tarnow.pl/wydarzenie/obraz-dzwiek-animacja-warsztaty-video-mappingu/2023-10-08/
LOCATION:Biuro Wystaw Artystycznych\, ul. Słowackiego 1\, Tarnów\, małopolskie\, 33-100\, Polska
CATEGORIES:warsztaty
ATTACH;FMTTYPE=image/jpeg:https://kultura.tarnow.pl/wp-content/uploads/Obraz.-Dźwięk.-Animacja-warsztaty-video-mappingu-baner.jpg
ORGANIZER;CN="Biuro Wystaw Artystycznych":MAILTO:biuro@bwa.tarnow.pl
GEO:50.0178761;20.9827521
X-APPLE-STRUCTURED-LOCATION;VALUE=URI;X-ADDRESS=Biuro Wystaw Artystycznych ul. Słowackiego 1 Tarnów małopolskie 33-100 Polska;X-APPLE-RADIUS=500;X-TITLE=ul. Słowackiego 1:geo:20.9827521,50.0178761
END:VEVENT
END:VCALENDAR