BEGIN:VCALENDAR
VERSION:2.0
PRODID:-//kultura.tarnów - ECPv6.4.0.1//NONSGML v1.0//EN
CALSCALE:GREGORIAN
METHOD:PUBLISH
X-WR-CALNAME:kultura.tarnów
X-ORIGINAL-URL:https://kultura.tarnow.pl
X-WR-CALDESC:Wydarzenia dla
REFRESH-INTERVAL;VALUE=DURATION:PT1H
X-Robots-Tag:noindex
X-PUBLISHED-TTL:PT1H
BEGIN:VTIMEZONE
TZID:Europe/Warsaw
BEGIN:DAYLIGHT
TZOFFSETFROM:+0100
TZOFFSETTO:+0200
TZNAME:CEST
DTSTART:20230326T010000
END:DAYLIGHT
BEGIN:STANDARD
TZOFFSETFROM:+0200
TZOFFSETTO:+0100
TZNAME:CET
DTSTART:20231029T010000
END:STANDARD
END:VTIMEZONE
BEGIN:VEVENT
DTSTART;TZID=Europe/Warsaw:20231006T080000
DTEND;TZID=Europe/Warsaw:20231006T170000
DTSTAMP:20260420T192544
CREATED:20230925T084820Z
LAST-MODIFIED:20230925T084820Z
UID:10015000-1696579200-1696611600@kultura.tarnow.pl
SUMMARY:Kurs języka węgierskiego
DESCRIPTION:Tarnowskie Towarzystwo Przyjaciół Węgier tradycyjnie jak co roku już od 45 lat\, zaprasza na kurs języka węgierskiego. \nZajęcia prowadzone są w siedzibie TTPW w Tarnowie przy ul. L. Waryńskiego 10\, w każdy czwartek w trzech grupach zaawansowania począwszy od początkujących.\nPlanowane rozpoczęcie zajęć od 5 października 2023 r. \nTowarzystwo zapewnia doświadczoną lektorkę – Wykładowczynię na Wydziale Hungarystyki Uniwersytetu Jagiellońskiego w Krakowie\, możliwość zakupu podręczników\, dostęp do materiałów ćwiczeniowych\, możliwość wyjazdu na kilkudniowy pobyt szkoleniowy na Węgrzech. \nTTPW korzysta ze wsparcia Konsulatu Generalnego Węgier w Krakowie\, Instytutu Współpracy Polsko-Węgierskiej im. Wacława Felczaka (od b.r.)\, rozległych kontaktów instytucjonalnych\noraz osobistych z Węgrami. \nZ A P R A S Z A M Y !!! \nKontakt we wtorki i czwartki w godzinach od 17.00 do 19.00:\n• telefoniczny na numer 14 621 17 06\n• osobisty – w siedzibie TTPW\nw pozostałe dni w godzinach od 9.00 do 20.00 – tel. 696 625 429 \nPRZEKONAJ SIĘ\, ŻE WARTO POZNAĆ JĘZYK ODWIECZNYCH PRZYJACIÓŁ!!!
URL:https://kultura.tarnow.pl/wydarzenie/kurs-jezyka-wegierskiego/2023-10-06/
LOCATION:Tarnowskie Towarzystwo Przyjaciół Wegier\, Waryńskiego 10\, Tarnów\, Małopolskie\, 33-100
CATEGORIES:kursy
END:VEVENT
BEGIN:VEVENT
DTSTART;TZID=Europe/Warsaw:20231006T090000
DTEND;TZID=Europe/Warsaw:20231006T160000
DTSTAMP:20260420T192544
CREATED:20230912T085649Z
LAST-MODIFIED:20230912T085735Z
UID:10014896-1696582800-1696608000@kultura.tarnow.pl
SUMMARY:Michalina Hendrys „Tańcząc ze światłem”
DESCRIPTION:Wernisaż wystawy z udziałem autorki 22 września (piątek) o godzinie 18:00 w Galerii TCK (wstęp wolny). Na wystawie zaprezentowane zostaną projekty z wykorzystaniem techniki wielootworkowej oraz filmy poklatkowe. Artystka wykorzystuje w nich proste działanie kamery obscury\, przetwarzając je dla uzyskania wyjątkowych prac fotograficznych. \nEkspozycja będzie dostępna od 23 września do 21 października 2023 r. Bilety 7 zł i 5 zł (ulgowy).\n \nDzień po otwarciu wystawy (23.09) zapraszamy na warsztaty fotografii otworkowej\, które Michalina Hendrys poprowadzi wspólnie z Tomaszem Kowalczykiem. \nTańcząc ze światłem\nZjawisko projekcji rzeczywistości w zaciemnionym pomieszczeniu prawdopodobnie znane było już od czasów starożytnych. Promienie światła tworzące na ścianie przeciwległej do otworu\, odwrócony obraz przedmiotów znajdujących się przed otworem\, to zasada działania camera obscura. Technikę cechują proste zasady konstrukcji i nieskończone możliwości jej modyfikacji. Pokusa eksperymentowania staje się nieodparta. Myślę\, że ma w sobie moc\, która budzi nasze wewnętrzne dziecko żądne odkrywania świata. Możemy zaprojektować aparat\, aby działał tak jak my chcemy. To tak jakby „mieć na swoje usługi promień słońca”[1]. Prace\, które prezentuję na wystawie są moim własnym tańcem ze światłem. To rezultaty dawnych eksperymentów i doświadczeń. Teraz po czasie\, widzę w nich nowe znaczenia\, a niektóre dopiero zaczynam rozumieć – pada na nie nowe światło. Wydaje mi się\, że metafora tańca najtrafniej opisuje proces powstawania moich prac\, w których łączyłam zabawę ze sztuką. Taniec to przede wszystkim ruch. Zdjęcie to zapis zatrzymanego ruchu światła. Zapis tańca promieni. Bo tak naprawdę one tańczyły same. Ja jedynie wybierałam dla nich scenę lub projektowałam matryce. Reszta działa się sama. Czasem jednak starałam się przejąć kontrolę nad tym co widzialne. Na krótki moment\, stawałam się choreografem tańca światła. \n[1] Obrazy Fotografii. Album Metafor Fotograficznych. Bernd Stiegler\, Universitas\, 2009 . \nMichalina Hendrys \nUrodzona w 1989 mieszka i tworzy w Krakowie. Absolwentka Wydziału Komunikacji Multimedialnej (fotografii) Uniwersytetu Artystycznego w Poznaniu. Szczególnie interesuje się szeroko rozumianą fotografią otworkową. Konstruuje własne kamery obscury\, starając się wykorzystać wszystkie możliwości\, jakie daje ta technika. Tworzy zarówno zdjęcia otworkowe\, jak i filmy oparte na zjawisku ciemni optycznej. W swoich projektach dąży do porzucenia dwuwymiarowego rozumienia fotografii\, na wiele sposobów akcentując jej przestrzenność. Wykorzystuje w tym celu emulsję fotograficzną i tworzy własne techniki. Tematy jej projektów dotyczą przestrzeni\, pejzażu oraz portretu. Swoje prace prezentowała na wystawach\, m.in. w Krakowie\, Szczecinie\, Poznaniu\, Gdańsku\, Łodzi\, Sopocie\, ale również za granicą w Rumunii\, Rosji\, Wielkiej Brytanii\, Meksyku\, Słowenii\, Hiszpanii\, czy USA. \n\n\n22.09\, g. 18.00 Wernisaż z udziałem autorki (wstęp wolny)\nGaleria TCK (Tarnów\, Rynek 5)\nEkspozycja dostępna od 23.09 do 21.10.2023.\nBilety: 5 zł (ulgowy) / 7 zł (normalny)
URL:https://kultura.tarnow.pl/wydarzenie/michalina-hendrys-tanczac-ze-swiatlem-2023-09-23/2023-10-06/
LOCATION:Tarnowskie Centrum Kultury\, Rynek 5\, Tarnów\, małopolskie\, 33-100\, Polska
CATEGORIES:wystawy
ATTACH;FMTTYPE=image/jpeg:https://kultura.tarnow.pl/wp-content/uploads/95a8e9380b9cf65969662760ca8091b1.jpeg
GEO:50.012155;20.9878542
X-APPLE-STRUCTURED-LOCATION;VALUE=URI;X-ADDRESS=Tarnowskie Centrum Kultury Rynek 5 Tarnów małopolskie 33-100 Polska;X-APPLE-RADIUS=500;X-TITLE=Rynek 5:geo:20.9878542,50.012155
END:VEVENT
BEGIN:VEVENT
DTSTART;TZID=Europe/Warsaw:20231006T090000
DTEND;TZID=Europe/Warsaw:20231006T170000
DTSTAMP:20260420T192544
CREATED:20230908T075616Z
LAST-MODIFIED:20230908T075616Z
UID:10014788-1696582800-1696611600@kultura.tarnow.pl
SUMMARY:„Joanna Srebro-Drobiecka (1932-2006) - malarstwo”
DESCRIPTION:Joanna Srebro-Drobiecka (1932-2006) urodziła się w Tarnowie. Studia artystyczne ukończyła na Akademii Sztuk Pięknych w Krakowie\, gdzie w 1962 r. uzyskała dyplom pod kierunkiem prof. Wacława Taranczewskiego. Od początku była artystką niezależną\, tworzącą własne wizje. W żadnym okresie swego malarstwa nie poddała się trendom dominującym w sztuce ani komercjalizacji\, pozostała wierna swojemu sposobowi patrzenia na świat. Uprawiała malarstwo sztalugowe – duże formaty\, czasami projektowała gobeliny i freski. Brała udział w licznych wystawach okręgowych\, oddziałowych\, ogólnopolskich Związku Polskich Artystów Plastyków. Zmarła 3 listopada 2006 roku w Domu Pogodnej Jesieni w Tuchowie prowadzonym przez Zgromadzenie Sióstr Świętego Józefa\, gdzie znajduje się także część jej dorobku malarskiego. Obrazy z tej kolekcji będzie można zobaczyć na prezentowanej wystawie. \nWystawa dostępna dla zwiedzających do 5 listopada 2023 r. \nKurator wystawy: Roman Fleszar
URL:https://kultura.tarnow.pl/wydarzenie/joanna-srebro-drobiecka-1932-2006-malarstwo-2/2023-10-06/
LOCATION:Muzeum Ziemi Tarnowskiej\, Rynek 3\, Tarnów\, małopolskie\, 33-100\, Polska
CATEGORIES:wystawy
GEO:50.0122989;20.9877958
X-APPLE-STRUCTURED-LOCATION;VALUE=URI;X-ADDRESS=Muzeum Ziemi Tarnowskiej Rynek 3 Tarnów małopolskie 33-100 Polska;X-APPLE-RADIUS=500;X-TITLE=Rynek 3:geo:20.9877958,50.0122989
END:VEVENT
BEGIN:VEVENT
DTSTART;TZID=Europe/Warsaw:20231006T110000
DTEND;TZID=Europe/Warsaw:20231006T170000
DTSTAMP:20260420T192544
CREATED:20230424T102333Z
LAST-MODIFIED:20230424T102333Z
UID:10014114-1696590000-1696611600@kultura.tarnow.pl
SUMMARY:Surrealizm – Salvador Dali i inni
DESCRIPTION:Artyści: Krystyna Baniowska\, Piotr Barszczowski\, Piotr Bubak\, Stanisław Chmiel\, Ewa Fleszar\, Roman Fleszar\, Weronika Fleszar\, Mateusz Kijak\, Kazimierz Klimkiewicz\, Stanisław Kucharzyk\, Elżbieta Pazera\, Witold Pazera\, Michał Poręba\, Elżbieta Remian\, Piotr Rączka\, Jerzy Ruszel\, Anna Śliwińska\, Kazimierz Twardowski\, Grzegorz Wójcik\, Aleksandra Zuba-Benn \nSłowo SUR – to NA\, np.: sur la table – na stole. SURREALIZM – NADREALIZM\, zorganizowany ruch intelektualny pierwszej ćwierci XX wieku powstały we Francji. Surrealiści przyjęli ten termin w hołdzie dla G. Apollinaire`a\, który pierwszy użył tego sformułowania w 1918 roku w podtytule swojej sztuki\, nadając ruchowi nowy sens. Wyrastał on z doświadczeń\, przeżyć i przemyśleń związanych z I wojną światową\, a wywodził się z dadaizmu. Jednym z dążeń surrealizmu było pełne wyzwolenie osobowości człowieka\, pojęte jako ujawnienie jego ukrytych sił\, pragnień i marzeń\, zepchniętych w podświadomość przez rozum i rozsądek\, ogólnie przyjęte zasady obyczajowe i moralne. \nMANIFEST SURREALIZMU w 1924 roku napisał – ogłosił Andre BRETON\, początkowo odnosił się do literatury\, szybko jednak zainteresowali się nim twórcy innych dziedzin sztuki – wspaniałym przykładem są tu artyści malarze\, graficy. MANIFEST otworzył prawo do mówienia o nadrzędności przestrzeni na pograniczu snu i jawy. Artyści szukali metod i sposobu na wyrażenie idei tego nowego ruchu\, środki jakimi się posługiwali przedstawiały elementy rzeczywistości ujęte w nadrealny\, fantastyczny sposób. Obrazy były zapisem ze snów\, urojeń\, stanów delirycznych\, czy wszelkich czynności wykonywanych bez kontroli rozumu. Elementy rzeczywistości miały wymykać się logice\, rewolucjonizować życie codzienne…..obiekty i przedmioty\, nawet człowiek\, powinny znaleźć się w innych bytach\, przejść transformację\, np: ”człowiek jest ucieleśnionym deszczem”\, inny zaś z młotem\, lub ma jabłko zamiast głowy\, otwierający drzwi których nie ma……. a jak czytać istoty ciekłe z waty\, z wężowych skór\, upierzone drzewa\, zwierzęta niesione wiatrem\, modelowane z piasku. Surrealizm to miejsce spotkań najróżniejszych obiektów pochodzących z odmiennych kontekstów\, gdzie wszystko nabiera nowych nieoczekiwanych znaczeń……. np.: ”człowiek klatka schodowa\, człowiek litera\, ogryziona kość\, kropka\, strzęp\, kula\, człowiek trumna\, piszczałka\, sznurówka\, bagaż\, mgła i człowiek osad”\, a książka która gryzie ręce albo kłuje w oczy – tu przedmiot został wyzwolony i stał się wampirem\, książka dostaje przeciwstawną do swojej nową naturę. Bretonowskie ”puszczenie w obieg” przedmiotów dla wielu artystów stało się inspiracją do dania im nowego życia. Aktywność rzeczy dotychczas martwych\, obiektów nieuzależnionych od kontroli rozumu to niewyczerpane źródło tematów\, np.: ”wiatr upadł twarzą na ziemię”\, krzak śpiewa psalm”\, powietrze\, woda\, ziemia\, ogień\, barany\, smoki\, stwory złożone z mieczy\, igieł\, sztyletów. Do dziś wielu artystów korzysta i odwołuje się do postulowanego przez Bretona ”modelu wewnętrznego” czyli poszukiwania w sferze podświadomości\, jak to się dzieje\, mamy to każdego dnia: reklama\, teledyski\, wideoklipy. Nie ulega wątpliwości\, że surrealizm\, nie tylko twórcom\, ale i odbiorcom otworzył nowe obszary wyobraźni. \nKrystyna Baniowska Stąsiek Meyer (Wstęp do katalogu wystawy) \n 
URL:https://kultura.tarnow.pl/wydarzenie/surrealizm-salvador-dali-i-inni/2023-10-06/
LOCATION:Galeria ARTEKA\, Wałowa 16\, Tarnów\, 33-100
CATEGORIES:wystawy
ORGANIZER;CN="Stowarzyszenie Tarnowskich Artyst%C3%B3w Plastyk%C3%B3w":MAILTO:stowarzyszenie.arteka@gmail.com
END:VEVENT
BEGIN:VEVENT
DTSTART;TZID=Europe/Warsaw:20231006T110000
DTEND;TZID=Europe/Warsaw:20231006T170000
DTSTAMP:20260420T192544
CREATED:20231003T072408Z
LAST-MODIFIED:20231003T072408Z
UID:10014854-1696590000-1696611600@kultura.tarnow.pl
SUMMARY:Salon Jesienny 2023 STAP
DESCRIPTION:Stowarzyszenie Tarnowskich Artystów Plastyków zaprasza na wystawę Salon Jesienny 2023!\nSalon Jesienny 2023 przejdzie do historii\, jako że po raz pierwszy organizowany jest w salach galerii ARTEKA w Tarnowie na ulicy Wałowej 16\, galerii należącej do powstałego w lutym 2022 r. Stowarzyszenia Tarnowskich Artystów Plastyków.\nPierwszy Salon Jesienny STAP odbył się w październiku 2022 w galerii BWA w Parku Strzeleckim i tak naprzemiennie będzie tam wracał co dwa lata.\n\nWystawa reprezentowana jest przez 27 twórców będących na liście STAP\, oraz jedynego zaproszonego gościa do udziału w wystawie Jerzego Martynowa. \n\nWystawa będzie dostępna do 05.11.2023 r.\nWstęp wolny.\nGODZINY OTWARCIA GALERII ARTEKA:\nwtorek – sobota\ngodz. 11:00 – 17:00\nWięcej informacji na stronie www.galeriaarteka.pl
URL:https://kultura.tarnow.pl/wydarzenie/salon-jesienny-2023-stap-2/2023-10-06/
LOCATION:Galeria ARTEKA\, Wałowa 16\, Tarnów\, 33-100
CATEGORIES:wystawy
ATTACH;FMTTYPE=image/jpeg:https://kultura.tarnow.pl/wp-content/uploads/385261966_227127910357636_7399608211995885539_n.jpg
ORGANIZER;CN="Stowarzyszenie Tarnowskich Artyst%C3%B3w Plastyk%C3%B3w":MAILTO:stowarzyszenie.arteka@gmail.com
END:VEVENT
BEGIN:VEVENT
DTSTART;TZID=Europe/Warsaw:20231006T160000
DTEND;TZID=Europe/Warsaw:20231006T180000
DTSTAMP:20260420T192544
CREATED:20230926T094741Z
LAST-MODIFIED:20230926T095030Z
UID:10015070-1696608000-1696615200@kultura.tarnow.pl
SUMMARY:"Chopinowskie konteksty"
DESCRIPTION:II Międzynarodowy Konkurs Chopinowski na Instrumentach Historycznych\, który będzie miał miejsce w październiku w Warszawie jest pretekstem do spotkania z przedstawicielką Narodowego Instytutu Fryderyka Chopina.\nW piątek 6 października 2023 roku Zespół Szkół Muzycznych w Tarnowie odwiedzi Pani Ewa Bogula-Gniazdowska z NIFC-u i opowie o współczesnym poszukiwaniu brzmienia chopinowskich instrumentów. Na wydarzenie pt. „Chopinowskie konteksty” złoży się wykład\, projekcja filmu\, transmisja przesłuchań konkursowych oraz krótki występ tarnowskich pedagogów-instrumentalistów. Całość rozpocznie się o 16.00 w sali koncertowej ZSM w Tarnowie.\nWstęp wolny.
URL:https://kultura.tarnow.pl/wydarzenie/chopinowskie-konteksty-wyklad/
LOCATION:Sala Koncertowa Zespołu Szkół Muzycznych\, Lippóczy’ego 4\, Tarnów\, małopolskie\, 33-100\, Polska
CATEGORIES:koncerty,spotkania
ATTACH;FMTTYPE=image/jpeg:https://kultura.tarnow.pl/wp-content/uploads/plakat-NIFC-1.jpg
ORGANIZER;CN="Zesp%C3%B3%C5%82 Szk%C3%B3%C5%82 Muzycznych":MAILTO:szkola@zsmuz.tarnow.pl
GEO:50.0205582;20.9801972
X-APPLE-STRUCTURED-LOCATION;VALUE=URI;X-ADDRESS=Sala Koncertowa Zespołu Szkół Muzycznych Lippóczy’ego 4 Tarnów małopolskie 33-100 Polska;X-APPLE-RADIUS=500;X-TITLE=Lippóczy’ego 4:geo:20.9801972,50.0205582
END:VEVENT
END:VCALENDAR