BEGIN:VCALENDAR
VERSION:2.0
PRODID:-//kultura.tarnów - ECPv6.4.0.1//NONSGML v1.0//EN
CALSCALE:GREGORIAN
METHOD:PUBLISH
X-WR-CALNAME:kultura.tarnów
X-ORIGINAL-URL:https://kultura.tarnow.pl
X-WR-CALDESC:Wydarzenia dla
REFRESH-INTERVAL;VALUE=DURATION:PT1H
X-Robots-Tag:noindex
X-PUBLISHED-TTL:PT1H
BEGIN:VTIMEZONE
TZID:Europe/Warsaw
BEGIN:DAYLIGHT
TZOFFSETFROM:+0100
TZOFFSETTO:+0200
TZNAME:CEST
DTSTART:20230326T010000
END:DAYLIGHT
BEGIN:STANDARD
TZOFFSETFROM:+0200
TZOFFSETTO:+0100
TZNAME:CET
DTSTART:20231029T010000
END:STANDARD
END:VTIMEZONE
BEGIN:VEVENT
DTSTART;TZID=Europe/Warsaw:20230918T090000
DTEND;TZID=Europe/Warsaw:20230918T170000
DTSTAMP:20260420T041813
CREATED:20230803T113400Z
LAST-MODIFIED:20230808T082627Z
UID:10014672-1695027600-1695056400@kultura.tarnow.pl
SUMMARY:Szancer\, wyobraź sobie!
DESCRIPTION:Analogowa ekspozycja „Szancer\, wyobraź sobie” zaprasza w świat twórczości wybitnego polsko-żydowskiego ilustratora\, Jana Marcina Szancera.\nWystawa wprowadza w ilustrowany świat Szancera: najpierw małego Jasia\, który uczy się rysować\, następnie starszego Janka\, stawiającego pierwsze kroki na drodze swojej ilustratorskiej kariery\, wreszcie szacownego pana Jana\, który – mimo trudnych doświadczeń – nawet jako dorosły nie stracił dziecięcej wyobraźni.\nNa ekspozycji znajdują się także instalacje przygotowane specjalnie na potrzeby wystawy: szafa z podwójnym dnem\, lokomotywa z gwizdkiem\, czy ściana niewidocznych strachów. Dzięki wyjątkowej scenografii zwiedzający mogą poczuć się jak bohaterowie bajki\, opartej na wybranych wydarzeniach z życia rysownika i wraz z nim ćwiczyć swoją wyobraźnię.\n\nWystawa skierowa jest nie tylko do najmłodszych widzów\, obejmuje również opowieść o losach Szancera i dramatycznych doświadczeniach polskich Żydów w XX wieku.\nJan Marcin Szancer (1902–1973) – wybitny ilustrator\, dziennikarz\, autor bajek\, redaktor graficzny\, organizator i szef artystyczny teatru TV\, profesor Akademii Sztuk Pięknych. Stały współpracownik Jana Brzechwy. Reżyserował przedstawienia telewizyjne i teatralne\, m.in. w warszawskim Teatrze Wielkim\, był autorem scenografii i kostiumów\, także do filmów (Awantura o Basię\, Panienka z okienka).\n\nWystawa została przygotowana przez Żydowskie Muzeum „Galicja” przy współpracy Oficyny Wydawniczej G&P.\n\n\nBWA Tarnów / DWORZEC / pl. Dworcowy 4\n9.08-9.10.2023\nwstęp wolny\nMidisaż i spotkanie z Elizabeth Szancer w piątek 1.09\, g. 17:00 / Galicjaner Sztetl – Dni Pamięci Żydów Galicyjskich\nWystawa czynna:\nponiedziałek-czwartek 9:00-17:00\nniedziela 9:00-17:00
URL:https://kultura.tarnow.pl/wydarzenie/szancer-wyobraz-sobie/2023-09-18/
LOCATION:BWA na Dworcu PKP\, Plac Dworcowy 4\, Tarnów\, małopolskie\, 33-100\, Polska
CATEGORIES:wystawy
ATTACH;FMTTYPE=image/jpeg:https://kultura.tarnow.pl/wp-content/uploads/363340984_760466332753376_8045728188636738381_n.jpg
ORGANIZER;CN="Biuro Wystaw Artystycznych":MAILTO:biuro@bwa.tarnow.pl
GEO:50.0057629;20.9744639
X-APPLE-STRUCTURED-LOCATION;VALUE=URI;X-ADDRESS=BWA na Dworcu PKP Plac Dworcowy 4 Tarnów małopolskie 33-100 Polska;X-APPLE-RADIUS=500;X-TITLE=Plac Dworcowy 4:geo:20.9744639,50.0057629
END:VEVENT
BEGIN:VEVENT
DTSTART;TZID=Europe/Warsaw:20230918T180000
DTEND;TZID=Europe/Warsaw:20230918T190000
DTSTAMP:20260420T041813
CREATED:20230908T075409Z
LAST-MODIFIED:20230908T075409Z
UID:10014774-1695060000-1695063600@kultura.tarnow.pl
SUMMARY:„Joanna Srebro-Drobiecka (1932-2006) - malarstwo”
DESCRIPTION:18 września 2023 r. (poniedziałek) o godzinie 18.00 w Muzeum Etnograficznym w Tarnowie odbędzie się otwarcie wystawy „Joanna Srebro-Drobiecka (1932-2006) – malarstwo”.  \nJoanna Srebro-Drobiecka (1932-2006) urodziła się w Tarnowie. Studia artystyczne ukończyła na Akademii Sztuk Pięknych w Krakowie\, gdzie w 1962 r. uzyskała dyplom pod kierunkiem prof. Wacława Taranczewskiego. Od początku była artystką niezależną\, tworzącą własne wizje. W żadnym okresie swego malarstwa nie poddała się trendom dominującym w sztuce ani komercjalizacji\, pozostała wierna swojemu sposobowi patrzenia na świat. Uprawiała malarstwo sztalugowe – duże formaty\, czasami projektowała gobeliny i freski. Brała udział w licznych wystawach okręgowych\, oddziałowych\, ogólnopolskich Związku Polskich Artystów Plastyków. Zmarła 3 listopada 2006 roku w Domu Pogodnej Jesieni w Tuchowie prowadzonym przez Zgromadzenie Sióstr Świętego Józefa\, gdzie znajduje się także część jej dorobku malarskiego. Obrazy z tej kolekcji będzie można zobaczyć na prezentowanej wystawie. \nWystawa dostępna dla zwiedzających do 5 listopada 2023 r. \nKurator wystawy: Roman Fleszar
URL:https://kultura.tarnow.pl/wydarzenie/joanna-srebro-drobiecka-1932-2006-malarstwo/
LOCATION:Muzeum Ziemi Tarnowskiej\, Rynek 3\, Tarnów\, małopolskie\, 33-100\, Polska
CATEGORIES:wernisaże
ATTACH;FMTTYPE=image/jpeg:https://kultura.tarnow.pl/wp-content/uploads/baner-Srebro.jpg
GEO:50.0122989;20.9877958
X-APPLE-STRUCTURED-LOCATION;VALUE=URI;X-ADDRESS=Muzeum Ziemi Tarnowskiej Rynek 3 Tarnów małopolskie 33-100 Polska;X-APPLE-RADIUS=500;X-TITLE=Rynek 3:geo:20.9877958,50.0122989
END:VEVENT
END:VCALENDAR