BEGIN:VCALENDAR
VERSION:2.0
PRODID:-//kultura.tarnów - ECPv6.4.0.1//NONSGML v1.0//EN
CALSCALE:GREGORIAN
METHOD:PUBLISH
X-WR-CALNAME:kultura.tarnów
X-ORIGINAL-URL:https://kultura.tarnow.pl
X-WR-CALDESC:Wydarzenia dla
REFRESH-INTERVAL;VALUE=DURATION:PT1H
X-Robots-Tag:noindex
X-PUBLISHED-TTL:PT1H
BEGIN:VTIMEZONE
TZID:Europe/Warsaw
BEGIN:DAYLIGHT
TZOFFSETFROM:+0100
TZOFFSETTO:+0200
TZNAME:CEST
DTSTART:20230326T010000
END:DAYLIGHT
BEGIN:STANDARD
TZOFFSETFROM:+0200
TZOFFSETTO:+0100
TZNAME:CET
DTSTART:20231029T010000
END:STANDARD
END:VTIMEZONE
BEGIN:VEVENT
DTSTART;TZID=Europe/Warsaw:20230917T090000
DTEND;TZID=Europe/Warsaw:20230917T170000
DTSTAMP:20260420T010555
CREATED:20230803T113400Z
LAST-MODIFIED:20230808T082627Z
UID:10014671-1694941200-1694970000@kultura.tarnow.pl
SUMMARY:Szancer\, wyobraź sobie!
DESCRIPTION:Analogowa ekspozycja „Szancer\, wyobraź sobie” zaprasza w świat twórczości wybitnego polsko-żydowskiego ilustratora\, Jana Marcina Szancera.\nWystawa wprowadza w ilustrowany świat Szancera: najpierw małego Jasia\, który uczy się rysować\, następnie starszego Janka\, stawiającego pierwsze kroki na drodze swojej ilustratorskiej kariery\, wreszcie szacownego pana Jana\, który – mimo trudnych doświadczeń – nawet jako dorosły nie stracił dziecięcej wyobraźni.\nNa ekspozycji znajdują się także instalacje przygotowane specjalnie na potrzeby wystawy: szafa z podwójnym dnem\, lokomotywa z gwizdkiem\, czy ściana niewidocznych strachów. Dzięki wyjątkowej scenografii zwiedzający mogą poczuć się jak bohaterowie bajki\, opartej na wybranych wydarzeniach z życia rysownika i wraz z nim ćwiczyć swoją wyobraźnię.\n\nWystawa skierowa jest nie tylko do najmłodszych widzów\, obejmuje również opowieść o losach Szancera i dramatycznych doświadczeniach polskich Żydów w XX wieku.\nJan Marcin Szancer (1902–1973) – wybitny ilustrator\, dziennikarz\, autor bajek\, redaktor graficzny\, organizator i szef artystyczny teatru TV\, profesor Akademii Sztuk Pięknych. Stały współpracownik Jana Brzechwy. Reżyserował przedstawienia telewizyjne i teatralne\, m.in. w warszawskim Teatrze Wielkim\, był autorem scenografii i kostiumów\, także do filmów (Awantura o Basię\, Panienka z okienka).\n\nWystawa została przygotowana przez Żydowskie Muzeum „Galicja” przy współpracy Oficyny Wydawniczej G&P.\n\n\nBWA Tarnów / DWORZEC / pl. Dworcowy 4\n9.08-9.10.2023\nwstęp wolny\nMidisaż i spotkanie z Elizabeth Szancer w piątek 1.09\, g. 17:00 / Galicjaner Sztetl – Dni Pamięci Żydów Galicyjskich\nWystawa czynna:\nponiedziałek-czwartek 9:00-17:00\nniedziela 9:00-17:00
URL:https://kultura.tarnow.pl/wydarzenie/szancer-wyobraz-sobie/2023-09-17/
LOCATION:BWA na Dworcu PKP\, Plac Dworcowy 4\, Tarnów\, małopolskie\, 33-100\, Polska
CATEGORIES:wystawy
ATTACH;FMTTYPE=image/jpeg:https://kultura.tarnow.pl/wp-content/uploads/363340984_760466332753376_8045728188636738381_n.jpg
ORGANIZER;CN="Biuro Wystaw Artystycznych":MAILTO:biuro@bwa.tarnow.pl
GEO:50.0057629;20.9744639
X-APPLE-STRUCTURED-LOCATION;VALUE=URI;X-ADDRESS=BWA na Dworcu PKP Plac Dworcowy 4 Tarnów małopolskie 33-100 Polska;X-APPLE-RADIUS=500;X-TITLE=Plac Dworcowy 4:geo:20.9744639,50.0057629
END:VEVENT
BEGIN:VEVENT
DTSTART;TZID=Europe/Warsaw:20230917T110000
DTEND;TZID=Europe/Warsaw:20230917T180000
DTSTAMP:20260420T010555
CREATED:20230605T061525Z
LAST-MODIFIED:20230614T080220Z
UID:10014460-1694948400-1694973600@kultura.tarnow.pl
SUMMARY:"Zimne spojrzenie"
DESCRIPTION:Pierwsza polska prezentacja wystawy:\n„Zimne spojrzenie. Ostatnie zdjęcia rodzin żydowskich z getta w Tarnowie”\nThe Cold Eye. Final Pictures of Jewish Families from the Tarnów Ghetto \nBWA Tarnów / Pałacyk Strzelecki\, ul. Słowackiego 1\n6.06-24.09.2023\nwstęp wolny \nPod koniec 1941 roku dwie naukowczynie z Wiednia opracowały projekt mający na celu „badanie typowych Żydów wschodnich”. W 1942 roku sfotografowały one „zimnym spojrzeniem” ponad sto rodzin żydowskich\, łącznie 565 mężczyzn\, kobiet i dzieci\, w okupowanym przez Niemców polskim mieście Tarnowie. Spośród nich tylko 26 osób przeżyło Holokaust i mogło przekazać tę historię dalej. Zachowały się zdjęcia i krótkie biografie pomordowanych. Z jednej strony wystawa dokumentuje przedsięwzięcie obu naukowczyń. Z drugiej zaś opowiada o życiu Żydów w Tarnowie przed rokiem 1939 i ich mordzie pod niemieckim panowaniem – stanowiącym przykład prześladowania i zagłady setek społeczności żydowskich w rządzonej i terroryzowanej przez Niemców Polsce. \nWystawa składa się z czterech elementów: ścian tematycznych stanowiących wprowadzenie\, chronologicznej trasy zwiedzania z tablicami rodzinnymi\, „Archiwum zdjęć” i stacji multimedialnych. Ściany tematyczne wprowadzają zwiedzających w tematykę pięciu rozdziałów. Trasa chronologiczna opowiada historię Tarnowa\, zawiera historie rodzinne i biografie. Sercem wystawy jest „Archiwum zdjęć”. W stacjach multimedialnych zwiedzający mogą oglądać wywiady wideo z ocalałymi oraz przeszukiwać bazę danych pod kątem konkretnych osób i rodzin. \nWystawa do tej pory prezentowana była w Berlinie (Fundacja Topografia Terroru) i Wiedniu (Muzeum Historii Naturalnej). \nKatalog\nWcześniejszym prezentacjom wystawy w Berlinie i Wiedniu towarzyszył niemiecko-angielski katalog\, który na potrzeby wystawy w Tarnowie został przetłumaczony na język polski. Polsko-angielski katalog będzie dostępny w sprzedaży w sklepie BWA Tarnów w czasie trwania wystawy. \nW programie wystawy: oprowadzania tematyczne\, koncerty\, spacery po Tarnowie – szczegóły wkrótce. \nOrganizatorzy wystawy i wydawcy katalogu:\nMuzeum Historii Naturalnej w Wiedniu\nFundacja Pomnik Pomordowanych Żydów Europy\nFundacja Topografia Terroru w Berlinie \nPałacyk Strzelecki / główna siedziba (ul. Słowackiego 1) \nwtorek-piątek 11:00-18:00\nniedziela 12:00-19:00
URL:https://kultura.tarnow.pl/wydarzenie/zimne-spojrzenie-wernisaz/2023-09-17/
LOCATION:Biuro Wystaw Artystycznych\, ul. Słowackiego 1\, Tarnów\, małopolskie\, 33-100\, Polska
CATEGORIES:wystawy
ATTACH;FMTTYPE=image/jpeg:https://kultura.tarnow.pl/wp-content/uploads/Zimne-spojrzenie_FBdaty.jpg
ORGANIZER;CN="Biuro Wystaw Artystycznych":MAILTO:biuro@bwa.tarnow.pl
GEO:50.0178761;20.9827521
X-APPLE-STRUCTURED-LOCATION;VALUE=URI;X-ADDRESS=Biuro Wystaw Artystycznych ul. Słowackiego 1 Tarnów małopolskie 33-100 Polska;X-APPLE-RADIUS=500;X-TITLE=ul. Słowackiego 1:geo:20.9827521,50.0178761
END:VEVENT
BEGIN:VEVENT
DTSTART;TZID=Europe/Warsaw:20230917T150000
DTEND;TZID=Europe/Warsaw:20230917T170000
DTSTAMP:20260420T010555
CREATED:20230906T072724Z
LAST-MODIFIED:20230906T072724Z
UID:10014767-1694962800-1694970000@kultura.tarnow.pl
SUMMARY:"Dzień Sybiraka"
DESCRIPTION:Roman Ciepiela Prezydent Tarnowa i Związek Sybiraków – Oddział w Tarnowie \nzapraszają na uroczystość: \nDnia Sybiraka w 84. rocznicę agresji Związku Radzieckiego na Polskę \ngodz. 15.00\nMsza Święta w intencji poległych i pomordowanych na Wschodzie\, Bazylika Katedralna w Tarnowie \ngodz. 16.10\nUroczystość patriotyczna\, po uroczystości występ Chóru Chłopięcego Bazyliki Matki Boskiej Bolesnej w Limanowej\, Pomnik Ofiar Stalinizmu w Tarnowie
URL:https://kultura.tarnow.pl/wydarzenie/dzien-sybiraka-6/
LOCATION:Pomnik Ofiar Stalinizmu\, Plac Ofiar Stalinizmu\, Tarnów\, małopolskie\, 33-100\, Polska
CATEGORIES:uroczystości patriotyczne
GEO:50.0136;20.99281
X-APPLE-STRUCTURED-LOCATION;VALUE=URI;X-ADDRESS=Pomnik Ofiar Stalinizmu Plac Ofiar Stalinizmu Tarnów małopolskie 33-100 Polska;X-APPLE-RADIUS=500;X-TITLE=Plac Ofiar Stalinizmu:geo:20.99281,50.0136
END:VEVENT
BEGIN:VEVENT
DTSTART;TZID=Europe/Warsaw:20230917T160000
DTEND;TZID=Europe/Warsaw:20230917T210000
DTSTAMP:20260420T010555
CREATED:20230912T092912Z
LAST-MODIFIED:20230912T092912Z
UID:10014914-1694966400-1694984400@kultura.tarnow.pl
SUMMARY:Urodziny Mościc
DESCRIPTION:Zapraszamy wszystkich mieszkańców Mościc do wspólnego świętowania! Urodziny Mościc to niepowtarzalna okazja do integracji z sąsiadami przy wspólnym stole i rodzinnej zabawy. To także dobry moment\, żeby porozmawiać o dawnych Mościcach – ludziach\, wydarzeniach i miejscach\, które warte są zapamiętania. Będziemy też rozmawiać o przyszłości naszej dzielnicy. \nPodczas spotkania będą dostępne „Spacerowniki” – komplet pięciu map zawierających propozycje spacerów po Mościcach. Każda część dotyczy innego obszaru tematycznego\, ma własnego narratora i ciekawe historyjki do przekazania. Całość wzbogacona ciekawymi grafikami oraz starymi i nowymi zdjęciami mościckich obiektów. \n„Spacerowniki” zostały przygotowane w ramach projektu „Mościce mam w sercu. Upowszechnianie dziedzictwa kulturowego przyfabrycznej dzielnicy Tarnowa”. \nCena przewodników- 15 zł. \n\nPodczas Urodzin Mościc będzie można także kupić książkę „Notes wspomnień. O życiu i ludziach w Mościcach” (15 zł) i magnesy (10 zł).\n\nW programie: \n\nWystęp finalistów przeglądu muzycznych talentów\,\nPanel dyskusyjny „Gdybamy o Mościcach” – wśród panelistów Anna Chmura\, Zbigniew Paprocki\, Jacek Różycki\, Barbara Brożek- Czekańska\, Tomasz Żmuda\,\nUrodzinowy tort\,\nKoncert Najmniejszej Sceny Świata „Piosenki Dawnych Dni”\,\nPromocja „Spacerowników”\,\nAnimacje\,\nPojazd retro\,\nMościcki Klub Balonowy\,\nProjekcje „W starym kinie”\,\nStrefa gastronomiczna.\n\nW koncercie “Piosenki Dawnych Dni” chcemy przypomnieć Państwu dawne utwory pełne wdzięku\, dobrego humoru i nastroju w aktorskich interpretacjach.\nPołączenie przedwojennych szlagierów z nutą francuskiej piosenki\, przeplatane najbardziej znanymi utworami Wojciecha Młynarskiego\, Agnieszki Osieckiej i Jeremiego Przybory tworzą niepowtarzalny klimat. \nNajmniejsza Scena Świata – to grupa młodych artystów\, skupionych przy kameralnej scenie na tarnowskim rynku. W małym pokoju\, w kamienicy pod numerem 9\, stworzyli niepowtarzalne miejsce\, w którym przygotowują i grają swoje spektakle i koncerty. Aby się przekonać\, co mamy na myśli\, mówiąc\, że to jedyne w swoim rodzaju miejsce\, musicie ich odwiedzić i sprawdzić sami. \nWystąpią artyści Najmniejszej Sceny Świata:\nDawid Mik – wokal\nFilip Kot – pianino\nArtur Łukasik – kontrabas\nJan Łukasik – instrumenty perkusyjne \nTo oni zabiorą Was do świata aktorskiej interpretacji piosenki.
URL:https://kultura.tarnow.pl/wydarzenie/urodziny-moscic-3/
LOCATION:Centrum Sztuki Mościce\, Traugutta 1\, Tarnów\, małopolskie\, 33-101\, Polska
CATEGORIES:spotkania
ATTACH;FMTTYPE=image/jpeg:https://kultura.tarnow.pl/wp-content/uploads/376787394_6938562256178133_8124562292000612413_n.jpg
GEO:50.009833;20.92706
X-APPLE-STRUCTURED-LOCATION;VALUE=URI;X-ADDRESS=Centrum Sztuki Mościce Traugutta 1 Tarnów małopolskie 33-101 Polska;X-APPLE-RADIUS=500;X-TITLE=Traugutta 1:geo:20.92706,50.009833
END:VEVENT
BEGIN:VEVENT
DTSTART;TZID=Europe/Warsaw:20230917T170000
DTEND;TZID=Europe/Warsaw:20230917T180000
DTSTAMP:20260420T010555
CREATED:20230912T124334Z
LAST-MODIFIED:20230912T124607Z
UID:10013957-1694970000-1694973600@kultura.tarnow.pl
SUMMARY:Koncert Chóru Chłopięcego Bazyliki Matki Boskiej Bolesnej w Limanowej
DESCRIPTION:Zapraszamy na koncert Chóru Chłopięcego Bazyliki Matki Boskiej Bolesnej w Limanowej. Koncert odbędzie się 17 września przy Pomniku Ofiar Stalinizmu w Tarnowie po uroczystościach rocznicowych około godziny 17.00. \n\nChór Chłopięcy Bazyliki Matki Boskiej Bolesnej w Limanowej powstał w 1991 roku z inicjatywy Haliny Dyczek.  Zrzesza uczniów limanowskich szkół podstawowych i średnich. Aktywnie uczestniczy w życiu parafii oraz  miasta Limanowa\, biorąc udział w uroczystościach religijnych\, patriotycznych a także środowiskowych. \nRepertuar chóru obejmuje muzykę sakralną od chorału gregoriańskiego po muzykę współczesną oraz pieśni patriotyczne. Dwukrotnie spotkał się w Watykanie z Ojcem Świętym Janem Pawłem II podczas audiencji prywatnych (1998\, 2003). Śpiewał także dla Niego w Ludźmierzu i Starym Sączu. Współpracował z Katowicką Orkiestrą Kameralną\, Orkiestrą Filharmonii Kaliskiej\, zespołem Ricercare  oraz z orkiestrami i zespołami Szkół Muzycznych w Limanowej i Nowym Sączu. \nOd 1992 r. jest członkiem założycielem Polskiej Federacji Pueri Cantores. Uczestniczył w Krajowych Kongresach Federacji (Kraków 2000\, Toruń 2006\, Nowy Sącz 2008\, Biała Podlaska-Siedlce 2010\, Jasna Góra 2012\, Lwów-Rzeszów 2017\, Lublin 2019) a także Międzynarodowych (Kolonia 2004\, Kraków 2007\, Rzym 2015/2016\, Barcelona 2018) . Jest laureatem konkursów chóralnych w Bydgoszczy (1994)\, Chełmie (1998)\, Szczawie (2003)\, Nagykallo na Węgrzech (2004)\, Krakowie (2004\, 2009). W 2006 r. brał udział\nw programie „Odnowić oblicze ziemi” w  TV TRWAM. \nZespół koncertował w różnych miastach Polski (min. w Warszawie\, Krakowie\, Częstochowie\, Bydgoszczy\, Toruniu\, Białej Podlaskiej\, Siedlcach\, Chełmie\, Tarnowie\, Nowym Sączu\, Górze św. Anny\, Ludźmierzu\, Starym Sączu\, Katowicach\, Szalowej\, Kaliszu\, Kalwarii Zebrzydowskiej\, Komańczy\, Lublinie\, Kazimierzu Dolnym). Wyjeżdżał poza granice Polski: Słowacja (1994\, 2000\, 2001\, 2002)\, Czechy(Praga 2001\, Kromeriż 2013)\, Francja( Paryż 1995\, 2014\, Lazurowe Wybrzeże 2000\, Lyon\, La Salette 2014\, Lourdes 2018\, Rouen 2019)\, Włochy   (Chiaravalle\, Monte Cassino\, Rzym\, Watykan 1998\, 2003\, 2015/2016 )\, Niemcy (Wathlingen 1995\, 1996\, 1999\, 2005\, 2010\, 2018\, Norymberga 1999\, Kolonia\, Würzburg 2004\, Biberach 2018)\, Węgry (Nyiregyhaza 2001\, Nagykallo 2004)\, Litwa (Wilno\, Landwarów 2009)\, Ukraina (Truskawiec\, Lwów 2002\, 2008\, 2017\, Śniatyń\, Chocim\, Kamieniec Podolski 2008)\, Białoruś i Rosja (Nowogródek\, Kuropaty\, Smoleńsk\, Katyń 2011)\, Austria (Mariazell\, opactwo Melk\, Wiedeń 330 rocznica zwycięstwa Jana Sobieskiego nad Turkami oraz wzgórze Kahlenberg w 30-tą rocznicę pobytu Jana Pawła II 2013)\, Hiszpania (Barcelona\, Montserrat\, La Garriga 2018). \nW 2009 r. na zaproszenie ówczesnego przeora klasztoru w Kalwarii Zebrzydowskiej  O. Damiana Muskusa (OFM)\, obecnie biskupa pomocniczego Archidiecezji Krakowskiej\, uczestniczył w wykonaniu Oratorium Kalwaryjskiego napisanego z okazji 30. rocznicy pielgrzymki Jana Pawła II do Kalwarii Zebrzydowskiej\, 400-lecia konsekracji świątyni i 800 lat istnienia zakonu franciszkańskiego. Oratorium autorstwa Bartłomieja Gliniaka i Zbigniewa Książka było kilkakrotnie transmitowane w TVP 2.\n8 grudnia 2015 r. powtórzone w ICE Kraków z okazji Otwarcia Jubileuszowego Roku Miłosierdzia\, przygotowań do Światowych Dni Młodzieży w Krakowie oraz jubileuszu 1050-lecia chrystianizacji Polski. \nPrezentował Requiem W. A. Mozarta\, Ego Mater J. Kobierkowicza\, Mszę kreolską A. Ramireza\, III Litanię Ostrobramską St. Moniuszki\, w maju 2019 roku współuczestniczył w realizacji  w Mszy F-dur księcia J.M.K.Poniatowskiego oraz we wrześniu 2019 w prapremierze Requiem dla Świata Tomasza Radziwonowicza. \nChłopcy przez cały rok szkolny systematycznie pracują: uczęszczają na próby 2 razy w tygodniu\, przed ważnym wydarzeniem muzycznym – częściej. Spędzają wspólnie czas organizując wycieczki\, kuligi\, coroczne warsztaty wakacyjne i zimowe\, połączone z rekolekcjami. Obserwowali skoki narciarskie na Wielkiej Krokwi w Zakopanem z czołowymi światowymi zawodnikami. Tworzą wspólnotę\, której celem obok promowania i wykonywania muzyki jest przeżywanie piękna w posłudze Bogu i ludziom. Co roku dzięki sponsorom indywidualnym i przy wsparciu finansowym Województwa Małopolskiego oraz innych Partnerów\, chórzyści mają możliwość wyjazdu za granicę. Wędrując śladami wielkich Polaków\, poznają chlubną i trudną  przeszłość. Jest to żywa lekcja historii. \nZespół w swoim dorobku ma nagraną kasetę „Ego sum Pastor Bonus”\, płyty CD „Polskie kolędy i pastorałki”\, „Laudate Dominum”\, „Oratorium Kalwaryjskie”\, „Cześć Polskiej Ziemi”\, „Jam jest kamieniem w mozaice Twej” oraz współuczestniczył w ośmiu innych nagraniach. \nDyrygent – Halina Dyczek\nHalina Dyczek jest absolwentką Akademii Muzycznej w Krakowie\, Podyplomowego Studium Chórmistrzowskiego przy Akademii Muzycznej w Bydgoszczy oraz Kursów Dyrygenckich organizowanych przez CAK w Warszawie. W latach 2009-2013 i od 2018 została wybrana do Zarządu Polskiej Federacji „Pueri Cantores”. Jest nauczycielem dyplomowanym PSM I st. w Limanowej\, w latach 1996-2002 jej dyrektorem. Odznaczona Odznakami „Zasłużony dla Miasta Limanowej”\, „Przyjaciel Limanowej”\, statuetką „Złote Skrzydła” a także Nagrodą Indywidualną I st. Dyrektora Centrum Edukacji Artystycznej w Warszawie oraz Odznaką Honorową „Zasłużony dla Kultury Polskiej”. W 2016 r. odznaczona przez Prezydenta RP Złotym Krzyżem Zasługi.
URL:https://kultura.tarnow.pl/wydarzenie/koncert-choru-chlopiecego-bazyliki-matki-boskiej-bolesnej-w-limanowej/
LOCATION:Pomnik Ofiar Stalinizmu\, Plac Ofiar Stalinizmu\, Tarnów\, małopolskie\, 33-100\, Polska
CATEGORIES:koncerty
ATTACH;FMTTYPE=image/jpeg:https://kultura.tarnow.pl/wp-content/uploads/IMG_0981.jpg
GEO:50.0136;20.99281
X-APPLE-STRUCTURED-LOCATION;VALUE=URI;X-ADDRESS=Pomnik Ofiar Stalinizmu Plac Ofiar Stalinizmu Tarnów małopolskie 33-100 Polska;X-APPLE-RADIUS=500;X-TITLE=Plac Ofiar Stalinizmu:geo:20.99281,50.0136
END:VEVENT
END:VCALENDAR