BEGIN:VCALENDAR
VERSION:2.0
PRODID:-//kultura.tarnów - ECPv6.4.0.1//NONSGML v1.0//EN
CALSCALE:GREGORIAN
METHOD:PUBLISH
X-ORIGINAL-URL:https://kultura.tarnow.pl
X-WR-CALDESC:Wydarzenia dla
REFRESH-INTERVAL;VALUE=DURATION:PT1H
X-Robots-Tag:noindex
X-PUBLISHED-TTL:PT1H
BEGIN:VTIMEZONE
TZID:Europe/Warsaw
BEGIN:DAYLIGHT
TZOFFSETFROM:+0100
TZOFFSETTO:+0200
TZNAME:CEST
DTSTART:20230326T010000
END:DAYLIGHT
BEGIN:STANDARD
TZOFFSETFROM:+0200
TZOFFSETTO:+0100
TZNAME:CET
DTSTART:20231029T010000
END:STANDARD
END:VTIMEZONE
BEGIN:VEVENT
DTSTART;TZID=Europe/Warsaw:20230901T100000
DTEND;TZID=Europe/Warsaw:20230901T103000
DTSTAMP:20260422T163705
CREATED:20230822T101213Z
LAST-MODIFIED:20230822T101213Z
UID:10014630-1693562400-1693564200@kultura.tarnow.pl
SUMMARY:84. rocznica wybuchu II wojny światowej
DESCRIPTION:
URL:https://kultura.tarnow.pl/wydarzenie/84-rocznica-wybuchu-ii-wojny-swiatowej/
LOCATION:Grób Nieznanego Żołnierza\, Pl. Ofiar Katynia\, Tarnów\, małopolskie\, 33-100\, Polska
CATEGORIES:uroczystości patriotyczne
ATTACH;FMTTYPE=image/jpeg:https://kultura.tarnow.pl/wp-content/uploads/zaproszenie-2023.jpg
GEO:50.0135389;20.9859993
X-APPLE-STRUCTURED-LOCATION;VALUE=URI;X-ADDRESS=Grób Nieznanego Żołnierza Pl. Ofiar Katynia Tarnów małopolskie 33-100 Polska;X-APPLE-RADIUS=500;X-TITLE=Pl. Ofiar Katynia:geo:20.9859993,50.0135389
END:VEVENT
BEGIN:VEVENT
DTSTART;TZID=Europe/Warsaw:20230901T110000
DTEND;TZID=Europe/Warsaw:20230901T170000
DTSTAMP:20260422T163705
CREATED:20230424T102333Z
LAST-MODIFIED:20230424T102333Z
UID:10014089-1693566000-1693587600@kultura.tarnow.pl
SUMMARY:Surrealizm – Salvador Dali i inni
DESCRIPTION:Artyści: Krystyna Baniowska\, Piotr Barszczowski\, Piotr Bubak\, Stanisław Chmiel\, Ewa Fleszar\, Roman Fleszar\, Weronika Fleszar\, Mateusz Kijak\, Kazimierz Klimkiewicz\, Stanisław Kucharzyk\, Elżbieta Pazera\, Witold Pazera\, Michał Poręba\, Elżbieta Remian\, Piotr Rączka\, Jerzy Ruszel\, Anna Śliwińska\, Kazimierz Twardowski\, Grzegorz Wójcik\, Aleksandra Zuba-Benn \nSłowo SUR – to NA\, np.: sur la table – na stole. SURREALIZM – NADREALIZM\, zorganizowany ruch intelektualny pierwszej ćwierci XX wieku powstały we Francji. Surrealiści przyjęli ten termin w hołdzie dla G. Apollinaire`a\, który pierwszy użył tego sformułowania w 1918 roku w podtytule swojej sztuki\, nadając ruchowi nowy sens. Wyrastał on z doświadczeń\, przeżyć i przemyśleń związanych z I wojną światową\, a wywodził się z dadaizmu. Jednym z dążeń surrealizmu było pełne wyzwolenie osobowości człowieka\, pojęte jako ujawnienie jego ukrytych sił\, pragnień i marzeń\, zepchniętych w podświadomość przez rozum i rozsądek\, ogólnie przyjęte zasady obyczajowe i moralne. \nMANIFEST SURREALIZMU w 1924 roku napisał – ogłosił Andre BRETON\, początkowo odnosił się do literatury\, szybko jednak zainteresowali się nim twórcy innych dziedzin sztuki – wspaniałym przykładem są tu artyści malarze\, graficy. MANIFEST otworzył prawo do mówienia o nadrzędności przestrzeni na pograniczu snu i jawy. Artyści szukali metod i sposobu na wyrażenie idei tego nowego ruchu\, środki jakimi się posługiwali przedstawiały elementy rzeczywistości ujęte w nadrealny\, fantastyczny sposób. Obrazy były zapisem ze snów\, urojeń\, stanów delirycznych\, czy wszelkich czynności wykonywanych bez kontroli rozumu. Elementy rzeczywistości miały wymykać się logice\, rewolucjonizować życie codzienne…..obiekty i przedmioty\, nawet człowiek\, powinny znaleźć się w innych bytach\, przejść transformację\, np: ”człowiek jest ucieleśnionym deszczem”\, inny zaś z młotem\, lub ma jabłko zamiast głowy\, otwierający drzwi których nie ma……. a jak czytać istoty ciekłe z waty\, z wężowych skór\, upierzone drzewa\, zwierzęta niesione wiatrem\, modelowane z piasku. Surrealizm to miejsce spotkań najróżniejszych obiektów pochodzących z odmiennych kontekstów\, gdzie wszystko nabiera nowych nieoczekiwanych znaczeń……. np.: ”człowiek klatka schodowa\, człowiek litera\, ogryziona kość\, kropka\, strzęp\, kula\, człowiek trumna\, piszczałka\, sznurówka\, bagaż\, mgła i człowiek osad”\, a książka która gryzie ręce albo kłuje w oczy – tu przedmiot został wyzwolony i stał się wampirem\, książka dostaje przeciwstawną do swojej nową naturę. Bretonowskie ”puszczenie w obieg” przedmiotów dla wielu artystów stało się inspiracją do dania im nowego życia. Aktywność rzeczy dotychczas martwych\, obiektów nieuzależnionych od kontroli rozumu to niewyczerpane źródło tematów\, np.: ”wiatr upadł twarzą na ziemię”\, krzak śpiewa psalm”\, powietrze\, woda\, ziemia\, ogień\, barany\, smoki\, stwory złożone z mieczy\, igieł\, sztyletów. Do dziś wielu artystów korzysta i odwołuje się do postulowanego przez Bretona ”modelu wewnętrznego” czyli poszukiwania w sferze podświadomości\, jak to się dzieje\, mamy to każdego dnia: reklama\, teledyski\, wideoklipy. Nie ulega wątpliwości\, że surrealizm\, nie tylko twórcom\, ale i odbiorcom otworzył nowe obszary wyobraźni. \nKrystyna Baniowska Stąsiek Meyer (Wstęp do katalogu wystawy) \n 
URL:https://kultura.tarnow.pl/wydarzenie/surrealizm-salvador-dali-i-inni/2023-09-01/
LOCATION:Galeria ARTEKA\, Wałowa 16\, Tarnów\, 33-100
CATEGORIES:wystawy
ORGANIZER;CN="Stowarzyszenie Tarnowskich Artyst%C3%B3w Plastyk%C3%B3w":MAILTO:stowarzyszenie.arteka@gmail.com
END:VEVENT
BEGIN:VEVENT
DTSTART;TZID=Europe/Warsaw:20230901T110000
DTEND;TZID=Europe/Warsaw:20230901T180000
DTSTAMP:20260422T163705
CREATED:20230605T061525Z
LAST-MODIFIED:20230614T080220Z
UID:10014449-1693566000-1693591200@kultura.tarnow.pl
SUMMARY:"Zimne spojrzenie"
DESCRIPTION:Pierwsza polska prezentacja wystawy:\n„Zimne spojrzenie. Ostatnie zdjęcia rodzin żydowskich z getta w Tarnowie”\nThe Cold Eye. Final Pictures of Jewish Families from the Tarnów Ghetto \nBWA Tarnów / Pałacyk Strzelecki\, ul. Słowackiego 1\n6.06-24.09.2023\nwstęp wolny \nPod koniec 1941 roku dwie naukowczynie z Wiednia opracowały projekt mający na celu „badanie typowych Żydów wschodnich”. W 1942 roku sfotografowały one „zimnym spojrzeniem” ponad sto rodzin żydowskich\, łącznie 565 mężczyzn\, kobiet i dzieci\, w okupowanym przez Niemców polskim mieście Tarnowie. Spośród nich tylko 26 osób przeżyło Holokaust i mogło przekazać tę historię dalej. Zachowały się zdjęcia i krótkie biografie pomordowanych. Z jednej strony wystawa dokumentuje przedsięwzięcie obu naukowczyń. Z drugiej zaś opowiada o życiu Żydów w Tarnowie przed rokiem 1939 i ich mordzie pod niemieckim panowaniem – stanowiącym przykład prześladowania i zagłady setek społeczności żydowskich w rządzonej i terroryzowanej przez Niemców Polsce. \nWystawa składa się z czterech elementów: ścian tematycznych stanowiących wprowadzenie\, chronologicznej trasy zwiedzania z tablicami rodzinnymi\, „Archiwum zdjęć” i stacji multimedialnych. Ściany tematyczne wprowadzają zwiedzających w tematykę pięciu rozdziałów. Trasa chronologiczna opowiada historię Tarnowa\, zawiera historie rodzinne i biografie. Sercem wystawy jest „Archiwum zdjęć”. W stacjach multimedialnych zwiedzający mogą oglądać wywiady wideo z ocalałymi oraz przeszukiwać bazę danych pod kątem konkretnych osób i rodzin. \nWystawa do tej pory prezentowana była w Berlinie (Fundacja Topografia Terroru) i Wiedniu (Muzeum Historii Naturalnej). \nKatalog\nWcześniejszym prezentacjom wystawy w Berlinie i Wiedniu towarzyszył niemiecko-angielski katalog\, który na potrzeby wystawy w Tarnowie został przetłumaczony na język polski. Polsko-angielski katalog będzie dostępny w sprzedaży w sklepie BWA Tarnów w czasie trwania wystawy. \nW programie wystawy: oprowadzania tematyczne\, koncerty\, spacery po Tarnowie – szczegóły wkrótce. \nOrganizatorzy wystawy i wydawcy katalogu:\nMuzeum Historii Naturalnej w Wiedniu\nFundacja Pomnik Pomordowanych Żydów Europy\nFundacja Topografia Terroru w Berlinie \nPałacyk Strzelecki / główna siedziba (ul. Słowackiego 1) \nwtorek-piątek 11:00-18:00\nniedziela 12:00-19:00
URL:https://kultura.tarnow.pl/wydarzenie/zimne-spojrzenie-wernisaz/2023-09-01/
LOCATION:Biuro Wystaw Artystycznych\, ul. Słowackiego 1\, Tarnów\, małopolskie\, 33-100\, Polska
CATEGORIES:wystawy
ATTACH;FMTTYPE=image/jpeg:https://kultura.tarnow.pl/wp-content/uploads/Zimne-spojrzenie_FBdaty.jpg
ORGANIZER;CN="Biuro Wystaw Artystycznych":MAILTO:biuro@bwa.tarnow.pl
GEO:50.0178761;20.9827521
X-APPLE-STRUCTURED-LOCATION;VALUE=URI;X-ADDRESS=Biuro Wystaw Artystycznych ul. Słowackiego 1 Tarnów małopolskie 33-100 Polska;X-APPLE-RADIUS=500;X-TITLE=ul. Słowackiego 1:geo:20.9827521,50.0178761
END:VEVENT
BEGIN:VEVENT
DTSTART;TZID=Europe/Warsaw:20230901T120000
DTEND;TZID=Europe/Warsaw:20230901T123000
DTSTAMP:20260422T163705
CREATED:20230830T083142Z
LAST-MODIFIED:20230830T083216Z
UID:10014692-1693569600-1693571400@kultura.tarnow.pl
SUMMARY:Zbrodnie (nie)osądzone
DESCRIPTION:Wystawa “Zbrodnie (nie)osądzone. Rozliczenia z niemieckimi sprawcami zbrodni z okresu II wojny światowej” \nRegionalne Centrum Edukacji o Pamięci \nOddział Instytutu Pamięci Narodowej w Krakowie i Muzeum Okręgowe w Tarnowie zapraszają na prezentacje wystawy:\n“Zbrodnie (nie)osądzone. Rozliczenia z niemieckimi sprawcami zbrodni z okresu II wojny światowej”\n1 września 2023 roku o godzinie 12.00 w Regionalnym Centrum Edukacji o Pamięci\, Tarnów\, ul. Ignacego Mościckiego 29 \nAutor wystawy:\ndr Michał Zawisza;\nwspółpraca:\nEdyta Krężołek\, Ilona Religa-Gola\,\nZalejska-Smoleń\, Katarzyna Niklas\n(IPN w Kielcach) \nWystawa będzie prezentowana do 19 września 2023 roku \n  \n 
URL:https://kultura.tarnow.pl/wydarzenie/zbrodnie-nieosadzone/
LOCATION:Regionalne Centrum Edukacji o Pamięci\, ul. Mościckiego 29\, Tarnów\, Małopolskie\, 33-100
CATEGORIES:wernisaże
ATTACH;FMTTYPE=image/jpeg:https://kultura.tarnow.pl/wp-content/uploads/wyru.jpg
END:VEVENT
BEGIN:VEVENT
DTSTART;TZID=Europe/Warsaw:20230901T180000
DTEND;TZID=Europe/Warsaw:20230901T193000
DTSTAMP:20260422T163705
CREATED:20230830T073007Z
LAST-MODIFIED:20230830T073007Z
UID:10014643-1693591200-1693596600@kultura.tarnow.pl
SUMMARY:Wieczór autorski ks. Kazimierza Sowy
DESCRIPTION:Prezydent Tarnowa Roman Ciepiela zaprasza \nWieczór autorski ks. Kazimierza Sowy\nPrezentacja książki „Niewierni wierni. Rozmowy o prawdziwym Kościele” \nPiątek 1.09.2023\, g. 18:00\nMultimedialne Centrum Artystyczne / Wałowa 25\, Tarnów \nprowadzenie: Monika Faron \nwstęp wolny \nW czasie spotkania będzie można nabyć książkę. \nOdliczanie przed wybuchem\, czyli rozmowy księdza Kazimierza Sowy o prawdziwym Kościele\, który toczony ciężką chorobą nie kwapi się do rachunku sumienia. Dlatego ksiądz Sowa nie doczekawszy się skruchy\, sam diagnozuje pacjenta. \n„Wielu księży zdaje się zakładać\, że słuchają ich idioci” – usłyszał ksiądz Kazimierz Sowa w jednej z wielu poruszających rozmów\, które znalazły się w tej książce. A rozmawiał albo z osobami wierzącymi\, albo takimi\, które doceniają pozytywną rolę\, jaką Kościół może odgrywać w życiu społecznym. Siła tych rozmów wynika m.in. z tego\, że autor ma przywilej oglądania Kościoła od wewnątrz jako ksiądz i z dystansu jako aktywny publicysta i komentator życia polityczno-społecznego. Również dlatego padają tu pytania i stwierdzenia\, które zwykle nie wychodzą poza prywatne rozmowy. \nKsiądz Sowa i jego rozmówcy rozkładają na czynniki pierwsze wszystkie grzechy główne duchownych. Ale „Niewierni wierni” przedstawiają również propozycje (nieraz zaskakująco proste)\, które pozwoliłyby zatrzymać proces rozkładu polskiego Kościoła. Bo świat byłby lepszy\, gdyby spełniły się choćby niektóre postulaty rozmówców autora. Przynajmniej w sprawie bezwzględnego rozliczenia pedofilii\, przejrzystości finansów\, uznania praw osób nieheteronormatywnych czy wreszcie oddzielenia Kościoła od państwa. Radykalne? A może uzdrawiające? \n„Gdyby Kazimierz Sowa nie był księdzem\, pewnie zostałby lekarzem. Ta książka to zapis szerokiej diagnozy Kościoła\, który właśnie został przeniesiony ze zwykłego szpitalnego łóżka na oddział intensywnej terapii. Ksiądz Sowa przykłada stetoskop w wiele miejsc\, próbując ustalić\, co tak naprawdę się stało\, i ciągle ma nadzieję\, że to jeszcze nie koniec.”\nProf. Marcin Matczak\, Uniwersytet Warszawski \nPowyższy opis pochodzi od wydawcy. \nks. Kazimierz Sowa – ur. 1965\, ksiądz\, dziennikarz\, publicysta. Współpracował z dziennikiem „Czas Krakowski” i tygodnikiem „Gość Niedzielny”. Publikował m.in. we „Wprost”\, w „Newsweeku”\, „Rzeczpospolitej” i „Dzienniku. Polska-Europa-Świat”. Szefował Radiu Plus\, przez kilka lat był dyrektorem kanału religia.tv. Autor cyklu programów „Święte Miejsca”\, książek o tematyce misyjnej i podróżniczej oraz filmów dokumentalnych. Laureat m.in. Nagrody Dziennikarskiej „Ślad” im. bp. Jana Chrapka i Nagrody NBP im. Władysława Grabskiego.
URL:https://kultura.tarnow.pl/wydarzenie/wieczor-autorski-ks-kazimierza-sowy/
LOCATION:Multimedialne Centrum Artystyczne\, Wałowa 25\, Tarnów\, małopolskie\, 33-100\, Polska
CATEGORIES:spotkania
ATTACH;FMTTYPE=image/png:https://kultura.tarnow.pl/wp-content/uploads/Ks.-Sowa_Tarnow.png
ORGANIZER;CN="Biuro Wystaw Artystycznych":MAILTO:biuro@bwa.tarnow.pl
GEO:50.013866931068;20.987989998201
X-APPLE-STRUCTURED-LOCATION;VALUE=URI;X-ADDRESS=Multimedialne Centrum Artystyczne Wałowa 25 Tarnów małopolskie 33-100 Polska;X-APPLE-RADIUS=500;X-TITLE=Wałowa 25:geo:20.987989998201,50.013866931068
END:VEVENT
BEGIN:VEVENT
DTSTART;TZID=Europe/Warsaw:20230901T190000
DTEND;TZID=Europe/Warsaw:20230901T220000
DTSTAMP:20260422T163705
CREATED:20230728T072742Z
LAST-MODIFIED:20230728T072742Z
UID:10014773-1693594800-1693605600@kultura.tarnow.pl
SUMMARY:Paweł Mazur - przyjaciele i uczniowie
DESCRIPTION:Zapraszamy do wspólnego świętowania jubileuszu 30-lecia pracy artystycznej i zawodowej tarnowskiego wybitnego muzyka Pawła Mazura. \nPaweł niemal przez całą swoją karierę był wierny Tarnowowi. Przed laty w tym mieście współtworzył zespół Cave\, współpracował także z wieloma muzykami. Często zapraszany był do udziału w sesjach nagraniowych. Zarejestrował m.in. linię gitary basowej do przeboju „Magiczne Słowa” zespołu Ziyo. Jest wokalistą i basistą lecz dał się poznać jako wszechstronnie uzdolniony multiinstrumentalista. Jego ścieżka zawodowa wiedzie także przez edukację. Jako instruktor muzyki tworzył szkołę S.M.Rock w Tarnowskim Centrum Kultury\, a później autorskie Studio Rocka\, które z powodzeniem prowadzi do dziś. \nKoncert jubileuszowy będzie podsumowaniem kariery Pawła Mazura. Na scenie wystąpią jego najwybitniejsi uczniowie\, wśród nich m.in. Łucja Kania\, Milena Łącka\, Wojciech Jackowiec\, Wasabi\, Sad Smiles oraz zaproszeni goście znani z tarnowskiej sceny! \nW repertuarze usłyszymy utwory m.in. Cave\, Ziyo\, P.M. Elektric Quartet\, a także wybrane światowe hity lat osiemdziesiątych\, przy których dorastał jubilat. Impreza odbędzie się 1 września o godz. 19.00 w Amfiteatrze letnim w Tarnowie. Bilety w cenie 20 zł do nabycia będą on-line oraz w Amfiteatrze 1 godz. przed koncertem. \nPaweł Mazur \nbasista\, wokalista\, gitarzysta\, kompozytor\, aranżer\, producent muzyczny\, współzałożyciel szkoły S.M.ROCK oraz twórca autorskiego Studia Rocka.\nOd 1989 roku był związany z rockową grupą CAVE\, w której śpiewał i grał na basie\, a także pisał teksty i muzykę. Cave byli laureatami wielu ogólnopolskich festiwali muzycznych. Jako wokalista i basista Paweł otrzymał wiele wyróżnień. W 1994 roku gościnnie wziął udział w sesji nagraniowej płyty „Tetris” zespołu ZIYO\, skąd pochodzi m.in. przebój „Magiczne słowa”.\nW 1995 nagrał płytę z zespołem Cave. Album wydany przez MJM Sony Music zebrał wiele entuzjastycznych recenzji w kraju i zagranicą. Od 1998 roku tworzył z zespołem C.C.BAND (Cezary Chmiel\, Cezariusz Gadzina\, Adam Wendt\, Marek Stryszowski). Od 1999 współtworzył grupę CAFE specjalizującą się w największych światowych przebojów muzyki pop-rock. W 2006 założył funk-rock-jazzowy P.M.Elektric Quartet P.M.E.Q)\, z którym nagrał swój w pełni autorski solowy album. Od 1993 do 2012 roku współtworzył szkołę S.M.ROCK w Tarnowskim Centrum Kultury\, gdzie uczył śpiewu oraz gry na gitarze basowej. Odpowiadał także za przygotowanie i prowadzenie uwielbianych do dziś koncertów S.M.Rock.\nObecnie muzyk współpracuje z Andrzejem Krzywym (DeMono)\, Maciejem Miecznikowskim (Leszcze)\, Wojciechem Cugowskim (Bracia)\, KASĄ Kasowskim\, czy Gabrielem Fleszarem. Od 2012 roku prowadzi autorską pracownię muzyczną pn. Studio Rocka Pawła Mazura\, które może się pochwalić wieloma osiągnięciami. Do najważniejszych można zaliczyć występy uczniów Pawła w telewizyjnych show – The Must Be The Music (Wojtek Jackowiec\, Sayes\, Wassabi)\, czy The Voice Of Poland (Łucja Kania). Ogromnym sukcesem Studia Rocka jest fakt\, że jego sympatycy po brzegi wypełniają widownie podczas regularnych koncertów\, a było ich już ponad 150.
URL:https://kultura.tarnow.pl/wydarzenie/pawel-mazur-przyjaciele-i-uczniowie/
LOCATION:Amfiteatr Letni\, ul. Kopernika 4\, Tarnów\, małopolskie\, 33-100\, Polska
CATEGORIES:koncerty
ATTACH;FMTTYPE=image/jpeg:https://kultura.tarnow.pl/wp-content/uploads/pm_plakat.jpg
GEO:50.013519;20.984475
X-APPLE-STRUCTURED-LOCATION;VALUE=URI;X-ADDRESS=Amfiteatr Letni ul. Kopernika 4 Tarnów małopolskie 33-100 Polska;X-APPLE-RADIUS=500;X-TITLE=ul. Kopernika 4:geo:20.984475,50.013519
END:VEVENT
END:VCALENDAR