BEGIN:VCALENDAR
VERSION:2.0
PRODID:-//kultura.tarnów - ECPv6.4.0.1//NONSGML v1.0//EN
CALSCALE:GREGORIAN
METHOD:PUBLISH
X-WR-CALNAME:kultura.tarnów
X-ORIGINAL-URL:https://kultura.tarnow.pl
X-WR-CALDESC:Wydarzenia dla
REFRESH-INTERVAL;VALUE=DURATION:PT1H
X-Robots-Tag:noindex
X-PUBLISHED-TTL:PT1H
BEGIN:VTIMEZONE
TZID:Europe/Warsaw
BEGIN:DAYLIGHT
TZOFFSETFROM:+0100
TZOFFSETTO:+0200
TZNAME:CEST
DTSTART:20230326T010000
END:DAYLIGHT
BEGIN:STANDARD
TZOFFSETFROM:+0200
TZOFFSETTO:+0100
TZNAME:CET
DTSTART:20231029T010000
END:STANDARD
END:VTIMEZONE
BEGIN:VEVENT
DTSTART;TZID=Europe/Warsaw:20230806T100000
DTEND;TZID=Europe/Warsaw:20230806T180000
DTSTAMP:20260421T193531
CREATED:20230724T084536Z
LAST-MODIFIED:20230801T101238Z
UID:10014727-1691316000-1691344800@kultura.tarnow.pl
SUMMARY: „Powstali 1863–64” - wystawa Muzeum Historii Polski.
DESCRIPTION: „Powstali 1863–64”. Wystawa Muzeum Historii Polski w Tarnowie \n Co wspólnego z insurekcją 1863 roku ma kwiat nieśmiertelnika? W jaki sposób kobiety brały udział w Powstaniu Styczniowym? Czy kosa była lepsza od karabinu? Na te i inne pytania odpowiada multimedialna wystawa Muzeum Historii Polski „Powstali 1863–64”\, którą od 4 do 13 sierpnia będzie można oglądać w Tarnowie. \nWernisaż wystawy będzie miał miejsce 4 sierpnia o godz. 12.00. \n Plenerowa wystawa zorganizowana z okazji 160. rocznicy Powstania Styczniowego będzie prezentowana na Rynku w Tarnowie. \n Ekspozycja w polskiej i angielskiej wersji językowej składa się z dwóch części. Pierwsza z nich\, to faktograficzna opowieść o insurekcji 1863–1864 przedstawiona na szesnastu stanowiskach. Począwszy od przedstyczniowych manifestacji\, przez przebieg walk\, udział w nich wybranych postaci oraz różnych grup społecznych\, po doniesienia światowej prasy o wydarzeniach\, powstańczą modę z epoki i pamięć o zrywie. Ta część ma charakter analogowo-multimedialny − dzięki wykonywaniu zadań zwiedzający mogą samodzielnie odkrywać treści historyczne. \nKolejnym − największym i najbardziej spektakularnym − elementem wystawy jest rotunda\, w multimedialnej formie prezentującą wybrane zagadnienia z okresu Powstania Styczniowego oraz opowieści o ludziach związanych z ruchem insurekcyjnym. Pasjonujące opowieści oparte są o wspomnienia\, relacje\, źródła archiwalne\, dokumenty. \nPodczas zwiedzania widzowie – zwłaszcza ci najmłodsi – będą mieli okazję ułożyć wielkoformatowe puzzle czy zebrać komplet odbitek powstańczych pieczęci. \nWystawie towarzyszą warsztaty edukacyjne\, przygotowane przez edukatorów z Muzeum Historii Polski\, skierowane do dzieci 7-12 lat. Na warsztatach będzie można wziąć udział w zagadkach historycznych\, stworzyć własny kolaż i zdobyć mnóstwo ciekawych nagród. W ramach tych działań został opracowany zeszyt ćwiczeń\, który zawiera sześćdziesiąt kart pracy podzielonych tematycznie i chronologicznie. Warsztaty odbędą się 10 sierpnia. \nWięcej szczegółów oraz Materiały do ćwiczeń można pobrać ze strony www.powstanie1863-64.pl \nWystawie towarzyszyć będą warsztaty „Zagadki historyczne z Powstania Styczniowego” \nWarsztaty planowane są 10 sierpnia w dwóch grupach: o godz. 11.00 i o godz. 13.00. Udział bezpłatny. Uczestnicy w wieku 7-12 lat. Multimedialnym Centrum Artystyczne przy ul. Wałowej 25. Zapisy: email: w.kultury@umt.tarnow.pl\, nr telefonu 14 6882837. \nPrzedmiotem warsztatów będzie wykonywanie kolażu z użyciem reprintów fotografii\, prasy i malarstwa okresu Powstania Styczniowego oraz wspólna wizyta na wystawie z oprowadzaniem. Uczestnicy warsztatów otrzymają upominki związane ze 160. rocznicą Powstania Styczniowego. Prowadzącymi będą pracownicy Działu Edukacji Muzeum Historii Polski w Warszawie. \nWYSTAWA „POWSTALI 1863-64”\, 4-13 sierpnia 2023 r\, czynna codziennie w godz. 10.00-18.00\, Rynek w Tarnowie\, wstęp wolny \nKuratorzy wystawy: Wojciech Kalwat\, Sebastian Pawlina \nProjekt plastyczny i wykonanie: Studio projektowe Sowa-Szenk \nOrganizator: Muzeum Historii Polski. \nWystawa dofinansowana ze środków Ministra Kultury i Dziedzictwa Narodowego. \nDarczyńca: Bank Pekao S.A. \nPatroni medialni: Polskie Radio\, Telewizja Polska\, TVP3\, Polska Press Grupa\, Nasza Historia\, Gość Niedzielny\, Dzieje.pl.
URL:https://kultura.tarnow.pl/wydarzenie/powstali-1863-64-wystawa-muzeum-historii-polski-2023-08-05/2023-08-06/
LOCATION:Rynek\, Tarnów\, małopolskie\, 33-100\, Polska
CATEGORIES:wystawy
ATTACH;FMTTYPE=image/jpeg:https://kultura.tarnow.pl/wp-content/uploads/Posty-na-Facebooku-800x1000-px-TARNOW.jpg
GEO:50.0121011;20.9858407
END:VEVENT
BEGIN:VEVENT
DTSTART;TZID=Europe/Warsaw:20230806T110000
DTEND;TZID=Europe/Warsaw:20230806T180000
DTSTAMP:20260421T193531
CREATED:20230605T061525Z
LAST-MODIFIED:20230614T080220Z
UID:10014430-1691319600-1691344800@kultura.tarnow.pl
SUMMARY:"Zimne spojrzenie"
DESCRIPTION:Pierwsza polska prezentacja wystawy:\n„Zimne spojrzenie. Ostatnie zdjęcia rodzin żydowskich z getta w Tarnowie”\nThe Cold Eye. Final Pictures of Jewish Families from the Tarnów Ghetto \nBWA Tarnów / Pałacyk Strzelecki\, ul. Słowackiego 1\n6.06-24.09.2023\nwstęp wolny \nPod koniec 1941 roku dwie naukowczynie z Wiednia opracowały projekt mający na celu „badanie typowych Żydów wschodnich”. W 1942 roku sfotografowały one „zimnym spojrzeniem” ponad sto rodzin żydowskich\, łącznie 565 mężczyzn\, kobiet i dzieci\, w okupowanym przez Niemców polskim mieście Tarnowie. Spośród nich tylko 26 osób przeżyło Holokaust i mogło przekazać tę historię dalej. Zachowały się zdjęcia i krótkie biografie pomordowanych. Z jednej strony wystawa dokumentuje przedsięwzięcie obu naukowczyń. Z drugiej zaś opowiada o życiu Żydów w Tarnowie przed rokiem 1939 i ich mordzie pod niemieckim panowaniem – stanowiącym przykład prześladowania i zagłady setek społeczności żydowskich w rządzonej i terroryzowanej przez Niemców Polsce. \nWystawa składa się z czterech elementów: ścian tematycznych stanowiących wprowadzenie\, chronologicznej trasy zwiedzania z tablicami rodzinnymi\, „Archiwum zdjęć” i stacji multimedialnych. Ściany tematyczne wprowadzają zwiedzających w tematykę pięciu rozdziałów. Trasa chronologiczna opowiada historię Tarnowa\, zawiera historie rodzinne i biografie. Sercem wystawy jest „Archiwum zdjęć”. W stacjach multimedialnych zwiedzający mogą oglądać wywiady wideo z ocalałymi oraz przeszukiwać bazę danych pod kątem konkretnych osób i rodzin. \nWystawa do tej pory prezentowana była w Berlinie (Fundacja Topografia Terroru) i Wiedniu (Muzeum Historii Naturalnej). \nKatalog\nWcześniejszym prezentacjom wystawy w Berlinie i Wiedniu towarzyszył niemiecko-angielski katalog\, który na potrzeby wystawy w Tarnowie został przetłumaczony na język polski. Polsko-angielski katalog będzie dostępny w sprzedaży w sklepie BWA Tarnów w czasie trwania wystawy. \nW programie wystawy: oprowadzania tematyczne\, koncerty\, spacery po Tarnowie – szczegóły wkrótce. \nOrganizatorzy wystawy i wydawcy katalogu:\nMuzeum Historii Naturalnej w Wiedniu\nFundacja Pomnik Pomordowanych Żydów Europy\nFundacja Topografia Terroru w Berlinie \nPałacyk Strzelecki / główna siedziba (ul. Słowackiego 1) \nwtorek-piątek 11:00-18:00\nniedziela 12:00-19:00
URL:https://kultura.tarnow.pl/wydarzenie/zimne-spojrzenie-wernisaz/2023-08-06/
LOCATION:Biuro Wystaw Artystycznych\, ul. Słowackiego 1\, Tarnów\, małopolskie\, 33-100\, Polska
CATEGORIES:wystawy
ATTACH;FMTTYPE=image/jpeg:https://kultura.tarnow.pl/wp-content/uploads/Zimne-spojrzenie_FBdaty.jpg
ORGANIZER;CN="Biuro Wystaw Artystycznych":MAILTO:biuro@bwa.tarnow.pl
GEO:50.0178761;20.9827521
X-APPLE-STRUCTURED-LOCATION;VALUE=URI;X-ADDRESS=Biuro Wystaw Artystycznych ul. Słowackiego 1 Tarnów małopolskie 33-100 Polska;X-APPLE-RADIUS=500;X-TITLE=ul. Słowackiego 1:geo:20.9827521,50.0178761
END:VEVENT
BEGIN:VEVENT
DTSTART;TZID=Europe/Warsaw:20230806T180000
DTEND;TZID=Europe/Warsaw:20230806T200000
DTSTAMP:20260421T193531
CREATED:20230706T120208Z
LAST-MODIFIED:20230706T120208Z
UID:10013773-1691344800-1691352000@kultura.tarnow.pl
SUMMARY:Filmowe Lato
DESCRIPTION:W wakacyjnej przerwie od Cinemarzenia\, nasze niedzielne seanse przejmuje Filmowe Lato w kinie Marzenie!\n\n\nNa każdy seans obowiązuje ulgowa cena.\n\n\nA co w programie?\n⠀\n9 lipca | 18:00\n „Niezwykła wędrówka Harolda Fry” (reż. Hettie Macdonald)\nBilety: www.bit.ly/FilmoweLato_9lipca\n⠀\n16 lipca | 18:00\n „Mój sąsiad Adolf” (reż. Leonid Prudovsky)\nBilety: www.bit.ly/FilmoweLato_16lipca\n⠀\n23 lipca | 18:00\n „Osiem gór” (reż. Felix Van Groeningen\, Charlotte Vandermeersch)\nBilety: www.bit.ly/FilmoweLato_23lipca\n⠀\n30 lipca | 18:00\n „Chłopiec z niebios” (reż. Tarik Saleh)\nBilety: www.bit.ly/FilmoweLato_30lipca\n⠀\n6 sierpnia | 18:00\n „Całe to piękno i krew” (reż. Laura Poitras)\nBilety: www.bit.ly/FilmoweLato_6sierpnia\n⠀\n13 sierpnia | 18:00\n Pokaz przedpremierowy:  „Kochanica króla Jeanne du Barry” (reż. Maïwenn)\nBilety: www.bit.ly/FilmoweLato_13sierpnia\n⠀\n20 sierpnia | 18:00\n „Moja zbrodnia” (reż. François Ozon)\nBilety: www.bit.ly/FilmoweLato_20sierpnia\n⠀\n27 sierpnia | 18:00\n „Świat po pracy” (reż. Erik Gandini)\nBilety: www.bit.ly/FilmoweLato_27sierpnia
URL:https://kultura.tarnow.pl/wydarzenie/filmowe-lato-3/2023-08-06/
LOCATION:Kino „Marzenie”\, ul. Staszica 4\, Tarnów\, małopolskie\, 33-100\, Polska
CATEGORIES:filmy
ATTACH;FMTTYPE=image/jpeg:https://kultura.tarnow.pl/wp-content/uploads/de5b520dc46a4206b24d257de3398294.jpeg
GEO:50.011762;20.9833798
X-APPLE-STRUCTURED-LOCATION;VALUE=URI;X-ADDRESS=Kino „Marzenie” ul. Staszica 4 Tarnów małopolskie 33-100 Polska;X-APPLE-RADIUS=500;X-TITLE=ul. Staszica 4:geo:20.9833798,50.011762
END:VEVENT
BEGIN:VEVENT
DTSTART;TZID=Europe/Warsaw:20230806T180000
DTEND;TZID=Europe/Warsaw:20230806T200000
DTSTAMP:20260421T193531
CREATED:20230719T083450Z
LAST-MODIFIED:20230719T083450Z
UID:10013804-1691344800-1691352000@kultura.tarnow.pl
SUMMARY:"Lato z Kiepurą" - widowisko muzyczne
DESCRIPTION:Widowisko muzyczne w wykonaniu Orkiestry Filharmonii Krakowskiej \nW drugim miesiącu lata Filharmonia Krakowska w różnych miejscach Małopolski zaprezentuje niezwykłe widowisko muzyczne\, które łączy w sobie najpiękniejsze pieśni i arie z repertuaru polskiego tenora wszechczasów – Jana Kiepury z najciekawszymi anegdotami z jego życia artystycznego i prywatnego.\n\nW widowisku zatytułowanym „Lato z Kiepurą” Orkiestra Filharmonii Krakowskiej\, pod batutą Sławomira Chrzanowskiego\, wykona kilkanaście przebojów z popularnych operetek oraz piosenek z dwudziestolecia międzywojennego.\n\nA wśród gwiazd scen operowych i operetkowych zaproszonych do udziału w wydarzeniu  znalazły się: w roli Marty Eggerth sopranistki – Ewelina Szybilska i Iwona Socha\, jako Jan Kiepura – tenorzy Łukasz Gaj i Adam Sobierajski\, w rolę Hanki Ordonówny wcieli się Anna Sokołowska-Alabrudzińska\, zaś w charakterze gościa specjalnego pojawi się popularny – Dariusz Kordek.\n\nZnakomita obsada zapewni najwyższy poziom artystyczny i niezapomniane przeżycie dla melomanów\, zaś o odpowiednią oprawę i wspaniały nastrój podczas koncertu zadba jego reżyser\, scenarzysta i jednocześnie narrator – Łukasz Lech.
URL:https://kultura.tarnow.pl/wydarzenie/lato-z-kiepura-widowisko-muzyczne/
LOCATION:Centrum Sztuki Mościce\, Traugutta 1\, Tarnów\, małopolskie\, 33-101\, Polska
CATEGORIES:koncerty
ATTACH;FMTTYPE=image/jpeg:https://kultura.tarnow.pl/wp-content/uploads/img_edfdc8724974cc26c3ed26f584c87a8c.jpeg
GEO:50.009833;20.92706
X-APPLE-STRUCTURED-LOCATION;VALUE=URI;X-ADDRESS=Centrum Sztuki Mościce Traugutta 1 Tarnów małopolskie 33-101 Polska;X-APPLE-RADIUS=500;X-TITLE=Traugutta 1:geo:20.92706,50.009833
END:VEVENT
BEGIN:VEVENT
DTSTART;TZID=Europe/Warsaw:20230806T180000
DTEND;TZID=Europe/Warsaw:20230806T200000
DTSTAMP:20260421T193531
CREATED:20230728T092941Z
LAST-MODIFIED:20230728T092941Z
UID:10014616-1691344800-1691352000@kultura.tarnow.pl
SUMMARY:VII Międzynarodowy Festiwal i Kurs Mistrzowski
DESCRIPTION:
URL:https://kultura.tarnow.pl/wydarzenie/vii-miedzynarodowy-festiwal-i-kurs-mistrzowski/2023-08-06/
LOCATION:Sala Koncertowa Zespołu Szkół Muzycznych\, Lippóczy’ego 4\, Tarnów\, małopolskie\, 33-100\, Polska
CATEGORIES:koncerty
ATTACH;FMTTYPE=image/jpeg:https://kultura.tarnow.pl/wp-content/uploads/plakat-tkaczewski-2023.jpg
GEO:50.0205582;20.9801972
X-APPLE-STRUCTURED-LOCATION;VALUE=URI;X-ADDRESS=Sala Koncertowa Zespołu Szkół Muzycznych Lippóczy’ego 4 Tarnów małopolskie 33-100 Polska;X-APPLE-RADIUS=500;X-TITLE=Lippóczy’ego 4:geo:20.9801972,50.0205582
END:VEVENT
BEGIN:VEVENT
DTSTART;TZID=Europe/Warsaw:20230806T190000
DTEND;TZID=Europe/Warsaw:20230806T210000
DTSTAMP:20260421T193531
CREATED:20230623T092900Z
LAST-MODIFIED:20230623T092900Z
UID:10014594-1691348400-1691355600@kultura.tarnow.pl
SUMMARY:Letnie potańcówki
DESCRIPTION:Tradycyjnie w sezonie wakacyjnym zapraszamy na letnie potańcówki. Zabawa taneczna zaplanowana jest na każdą niedzielę wakacji (od 2 lipca do 3 września) na tarnowskim rynku. Każdorazowo potańcówka rozpoczynać się będzie o godz. 19 i trwać do 22. Wstęp jest wolny. \n\n\n\n\n\n\nWieczorki taneczne zaplanowano 2\, 9\, 16\, 23 i 30 lipca\, 6\, 13\, 20\, 27 sierpnia oraz 3 września. Podczas tegorocznej edycji o dobrą zabawę zadba dj wraz z wodzirejem.  – Znowu usłyszymy ulubione melodie i rytmy\,  zobaczymy uroczego Balmistrza  w czarnym cylindrze i fraku\, płynącego w pierwszej parze poprzez zatłoczony rynek. Znowu zobaczymy tam siebie! – zachęca do udziału Tarnowskie Centrum Kultury. \nWarto przypomnieć\, że pierwsze potańcówki miały miejsce w 2015 roku w Amfiteatrze Letnim\, kiedy ten był jeszcze w trakcie remontu. Z niego potańcówki przeniosły się na rynek w 2018 roku i powróciły pod „muszlę” rok później. Przygodę z tańcami przerwała pandemia wirusa\, a zabawa na dobre powróciła w 2022 roku. Wtedy też zgromadziła rekordowe liczby osób. Tańczyło niejednokrotnie ponad 800 osób\, co dało jej status najbardziej obleganej tarnowskiej imprezy lata 2022. \nNa potańcówki zaprasza Prezydent Tarnowa – Roman Ciepiela oraz Tarnowskie Centrum Kultury.
URL:https://kultura.tarnow.pl/wydarzenie/letnie-potancowki-2/2023-08-06/
LOCATION:Rynek\, Tarnów\, małopolskie\, 33-100\, Polska
CATEGORIES:spotkania
ATTACH;FMTTYPE=image/jpeg:https://kultura.tarnow.pl/wp-content/uploads/Potańcówki_2023_plakat_light.jpg
GEO:50.0121011;20.9858407
END:VEVENT
END:VCALENDAR