BEGIN:VCALENDAR
VERSION:2.0
PRODID:-//kultura.tarnów - ECPv6.4.0.1//NONSGML v1.0//EN
CALSCALE:GREGORIAN
METHOD:PUBLISH
X-WR-CALNAME:kultura.tarnów
X-ORIGINAL-URL:https://kultura.tarnow.pl
X-WR-CALDESC:Wydarzenia dla
REFRESH-INTERVAL;VALUE=DURATION:PT1H
X-Robots-Tag:noindex
X-PUBLISHED-TTL:PT1H
BEGIN:VTIMEZONE
TZID:Europe/Warsaw
BEGIN:DAYLIGHT
TZOFFSETFROM:+0100
TZOFFSETTO:+0200
TZNAME:CEST
DTSTART:20250330T010000
END:DAYLIGHT
BEGIN:STANDARD
TZOFFSETFROM:+0200
TZOFFSETTO:+0100
TZNAME:CET
DTSTART:20251026T010000
END:STANDARD
END:VTIMEZONE
BEGIN:VEVENT
DTSTART;TZID=Europe/Warsaw:20250214T200000
DTEND;TZID=Europe/Warsaw:20250214T220000
DTSTAMP:20260424T235025
CREATED:20250117T114900Z
LAST-MODIFIED:20250117T114900Z
UID:10023900-1739563200-1739570400@kultura.tarnow.pl
SUMMARY:Koncert Atrakcyjny 'Dzikie Trio"
DESCRIPTION:„Zapraszam na pierwszy Koncert Atrakcyjny pt. „Dzikie Trio” w zacnym towarzystwie z gościnnym udziałem „Rudej ” – Madzi Stalmach. Będzie bardzo rockendrollowo! Startujemy wcześniej\, żeby cieszyć się dłużej. Zapraszam.” \nWojtek Klich
URL:https://kultura.tarnow.pl/wydarzenie/koncert-atrakcyjny-dzikie-trio/
LOCATION:Lustrzana Piwnica\, Pl. Kazimierza WIelkiego 2\, Tarnów\, 33-100\, Polska
CATEGORIES:koncerty
ATTACH;FMTTYPE=image/jpeg:https://kultura.tarnow.pl/wp-content/uploads/klich.jpg
ORGANIZER;CN="Lustrzana Piwnica":MAILTO:lustrzanapiwnica@gmail.com
END:VEVENT
END:VCALENDAR