BEGIN:VCALENDAR
VERSION:2.0
PRODID:-//kultura.tarnów - ECPv6.4.0.1//NONSGML v1.0//EN
CALSCALE:GREGORIAN
METHOD:PUBLISH
X-ORIGINAL-URL:https://kultura.tarnow.pl
X-WR-CALDESC:Wydarzenia dla
REFRESH-INTERVAL;VALUE=DURATION:PT1H
X-Robots-Tag:noindex
X-PUBLISHED-TTL:PT1H
BEGIN:VTIMEZONE
TZID:Europe/Warsaw
BEGIN:DAYLIGHT
TZOFFSETFROM:+0100
TZOFFSETTO:+0200
TZNAME:CEST
DTSTART:20230326T010000
END:DAYLIGHT
BEGIN:STANDARD
TZOFFSETFROM:+0200
TZOFFSETTO:+0100
TZNAME:CET
DTSTART:20231029T010000
END:STANDARD
END:VTIMEZONE
BEGIN:VEVENT
DTSTART;TZID=Europe/Warsaw:20230708T100000
DTEND;TZID=Europe/Warsaw:20230708T163000
DTSTAMP:20260419T190403
CREATED:20230705T132930Z
LAST-MODIFIED:20230705T132930Z
UID:10014711-1688810400-1688833800@kultura.tarnow.pl
SUMMARY:Apetyt na Współpracę
DESCRIPTION:Co dobrego dla uszu i podniebienia?\nJarmark regionalny będzie prawdziwą ucztą dla zmysłów. W piątek od godziny 15 do 20 i w sobotę od 10 do 16.30 pojawią się wystawcy z wyrobami wędliniarskimi\, dobrą kawą i łakociami czy różnymi rodzajami sera i miodu. Będą też wina z regionalnych winnic\, piwa rzemieślnicze\, zioła i przyprawy\, chleby\, ukraińskie bistro\, a nawet trochę lawendy i octu. \nFestiwalowi smaku będzie także towarzyszyła muzyka. Talenty naszego miasta i okolic zaprezentują swoje umiejętności na placu Kazimierza. W piątek o godzinie 17 wystąpią tam Kumotry\, a o godzinie 19 Lipniczanie. Dzień później pojawią się ponownie (godz. 10.15 i 11)\, a po nich zagrają Łoniowiacy o 13.30 i Swojacy o godzinie 15. \nJeszcze więcej!\nAle to nie wszystko! Organizatorzy\, czyli Biuro Promocji i Współpracy Zagranicznej\, zapraszają na warsztaty rzemieślnicze i animacje dla dzieci. Będzie malowanie buziek\, konkursy z nagrodami (do wygrania m.in. torby wypełnione kredkami\, misiami i słodyczami)\, gry i różne zabawy. Animatorów będzie można spotkać w piątek od godziny 16 do 19 i w sobotę od 12 do 15. \nWydarzenie jest realizowane w ramach projektu „Tarnów – Nowe Spojrzenie”\, finansowanego ze środków Norweskiego Mechanizmu Finansowego 2014-2021 w ramach Programu „Rozwój Lokalny” oraz środków budżetu państwa. \n(mt) \n\n\n\n  \nGodziny występów zespołów: \n7 lipca:\n– 17:00 – 17:30 – Kumotry\n– 19:00 – 19:30 – Lipniczanie \n8 lipca:\n– 10:15 – 10:45 – Kumotry\n– 11:00 – 11:30 – Lipniczanie\n– 13:30 – 15:00 – Łoniowiacy\n– 15:00 – 15:30 – Swojacy \nWystawcy z Tarnowa i regionu tarnowskiego:\n7 lipca (godz. 15-20) oraz 8 lipca (godz. 10-16.30) \n– PPM Taurus\n– Wędliny z Lubinki\n– Wyroby wędliniarskie Słota\n– browar Trzech Kumpli\n– kawa\, domowe wyroby cukiernicze BIDON\n– ukraińskie Bistro – Kolorowa Kuchnia\n– p. Kilian – szydełkowanie\n– Octownia Gacek\n– Sery Jagła w piątek / Serki Małgorzaty – w sobotę\n– Sery Hasiak\n– Sery Cichopek\n– Miody pasieka Wantuch\n– Miody pasieka Kozioł\n– Kowalstow Parat\n– Ser jest ser – oliwki\, oliwy\, wędliny z Włoch\n– Winnica Zawadka\n– Winnica Olesno\n– Winnica Amelie\n– Winnica Antoniego\n– Lawendziarnia Stoki 6\n– Pajda chleba Smęgorzów\n– Agihobby – rękodzieło – Agnieszka Sumara\n– wyroby biżuteryjne\n– DREWIENKO\, zabawki drewniane\, zioła i przyprawy – Maria Chlipała\n– Malowany Miś z Zalipia\n– Mundi Via Tarnonówka\n– Cech rzemiosł – wyroby cukiernicze \nDODATKOWO WARSZTATY RZEMIOSŁA\, ANIMACJE DLA DZIECI I KONKURSY Z NAGRODAMI.
URL:https://kultura.tarnow.pl/wydarzenie/apetyt-na-wspolprace/2023-07-08/
LOCATION:Plac Kazimierza Wielkiego\, Plac Kazimierza Wielkiego\, Tarnów\, małopolskie\, 33-100\, Polska
CATEGORIES:festiwale
ATTACH;FMTTYPE=image/jpeg:https://kultura.tarnow.pl/wp-content/uploads/baner_apetyt.jpg
GEO:50.01226;20.98664
X-APPLE-STRUCTURED-LOCATION;VALUE=URI;X-ADDRESS=Plac Kazimierza Wielkiego Plac Kazimierza Wielkiego Tarnów małopolskie 33-100 Polska;X-APPLE-RADIUS=500;X-TITLE=Plac Kazimierza Wielkiego:geo:20.98664,50.01226
END:VEVENT
BEGIN:VEVENT
DTSTART;TZID=Europe/Warsaw:20230707T150000
DTEND;TZID=Europe/Warsaw:20230707T200000
DTSTAMP:20260419T190403
CREATED:20230705T132930Z
LAST-MODIFIED:20230705T132930Z
UID:10014710-1688742000-1688760000@kultura.tarnow.pl
SUMMARY:Apetyt na Współpracę
DESCRIPTION:Co dobrego dla uszu i podniebienia?\nJarmark regionalny będzie prawdziwą ucztą dla zmysłów. W piątek od godziny 15 do 20 i w sobotę od 10 do 16.30 pojawią się wystawcy z wyrobami wędliniarskimi\, dobrą kawą i łakociami czy różnymi rodzajami sera i miodu. Będą też wina z regionalnych winnic\, piwa rzemieślnicze\, zioła i przyprawy\, chleby\, ukraińskie bistro\, a nawet trochę lawendy i octu. \nFestiwalowi smaku będzie także towarzyszyła muzyka. Talenty naszego miasta i okolic zaprezentują swoje umiejętności na placu Kazimierza. W piątek o godzinie 17 wystąpią tam Kumotry\, a o godzinie 19 Lipniczanie. Dzień później pojawią się ponownie (godz. 10.15 i 11)\, a po nich zagrają Łoniowiacy o 13.30 i Swojacy o godzinie 15. \nJeszcze więcej!\nAle to nie wszystko! Organizatorzy\, czyli Biuro Promocji i Współpracy Zagranicznej\, zapraszają na warsztaty rzemieślnicze i animacje dla dzieci. Będzie malowanie buziek\, konkursy z nagrodami (do wygrania m.in. torby wypełnione kredkami\, misiami i słodyczami)\, gry i różne zabawy. Animatorów będzie można spotkać w piątek od godziny 16 do 19 i w sobotę od 12 do 15. \nWydarzenie jest realizowane w ramach projektu „Tarnów – Nowe Spojrzenie”\, finansowanego ze środków Norweskiego Mechanizmu Finansowego 2014-2021 w ramach Programu „Rozwój Lokalny” oraz środków budżetu państwa. \n(mt) \n\n\n\n  \nGodziny występów zespołów: \n7 lipca:\n– 17:00 – 17:30 – Kumotry\n– 19:00 – 19:30 – Lipniczanie \n8 lipca:\n– 10:15 – 10:45 – Kumotry\n– 11:00 – 11:30 – Lipniczanie\n– 13:30 – 15:00 – Łoniowiacy\n– 15:00 – 15:30 – Swojacy \nWystawcy z Tarnowa i regionu tarnowskiego:\n7 lipca (godz. 15-20) oraz 8 lipca (godz. 10-16.30) \n– PPM Taurus\n– Wędliny z Lubinki\n– Wyroby wędliniarskie Słota\n– browar Trzech Kumpli\n– kawa\, domowe wyroby cukiernicze BIDON\n– ukraińskie Bistro – Kolorowa Kuchnia\n– p. Kilian – szydełkowanie\n– Octownia Gacek\n– Sery Jagła w piątek / Serki Małgorzaty – w sobotę\n– Sery Hasiak\n– Sery Cichopek\n– Miody pasieka Wantuch\n– Miody pasieka Kozioł\n– Kowalstow Parat\n– Ser jest ser – oliwki\, oliwy\, wędliny z Włoch\n– Winnica Zawadka\n– Winnica Olesno\n– Winnica Amelie\n– Winnica Antoniego\n– Lawendziarnia Stoki 6\n– Pajda chleba Smęgorzów\n– Agihobby – rękodzieło – Agnieszka Sumara\n– wyroby biżuteryjne\n– DREWIENKO\, zabawki drewniane\, zioła i przyprawy – Maria Chlipała\n– Malowany Miś z Zalipia\n– Mundi Via Tarnonówka\n– Cech rzemiosł – wyroby cukiernicze \nDODATKOWO WARSZTATY RZEMIOSŁA\, ANIMACJE DLA DZIECI I KONKURSY Z NAGRODAMI.
URL:https://kultura.tarnow.pl/wydarzenie/apetyt-na-wspolprace/2023-07-07/
LOCATION:Plac Kazimierza Wielkiego\, Plac Kazimierza Wielkiego\, Tarnów\, małopolskie\, 33-100\, Polska
CATEGORIES:festiwale
ATTACH;FMTTYPE=image/jpeg:https://kultura.tarnow.pl/wp-content/uploads/baner_apetyt.jpg
GEO:50.01226;20.98664
X-APPLE-STRUCTURED-LOCATION;VALUE=URI;X-ADDRESS=Plac Kazimierza Wielkiego Plac Kazimierza Wielkiego Tarnów małopolskie 33-100 Polska;X-APPLE-RADIUS=500;X-TITLE=Plac Kazimierza Wielkiego:geo:20.98664,50.01226
END:VEVENT
BEGIN:VEVENT
DTSTART;TZID=Europe/Warsaw:20230625T120000
DTEND;TZID=Europe/Warsaw:20230625T200000
DTSTAMP:20260419T190403
CREATED:20230606T095958Z
LAST-MODIFIED:20230606T100141Z
UID:10014284-1687694400-1687723200@kultura.tarnow.pl
SUMMARY:Weekendowy festiwal smaku
DESCRIPTION:Foodtrucki z kuchniami z całego świata \nPyszny Weekend już 23.06 – 25.06 Czerwca w Tarnowie na Placu Kazimierza!\n\n\nPiątek:  15:00 – 21:00\nSobota:  12:00 – 21:00\nNiedziela: 12:00 – 20:00
URL:https://kultura.tarnow.pl/wydarzenie/weekendowy-festiwal-smaku-2023-06-25/
LOCATION:Plac Kazimierza Wielkiego\, Plac Kazimierza Wielkiego\, Tarnów\, małopolskie\, 33-100\, Polska
CATEGORIES:festiwale
ATTACH;FMTTYPE=image/jpeg:https://kultura.tarnow.pl/wp-content/uploads/350957162_1919020321794881_7727994225808885879_n.jpg
GEO:50.01226;20.98664
X-APPLE-STRUCTURED-LOCATION;VALUE=URI;X-ADDRESS=Plac Kazimierza Wielkiego Plac Kazimierza Wielkiego Tarnów małopolskie 33-100 Polska;X-APPLE-RADIUS=500;X-TITLE=Plac Kazimierza Wielkiego:geo:20.98664,50.01226
END:VEVENT
BEGIN:VEVENT
DTSTART;TZID=Europe/Warsaw:20230624T120000
DTEND;TZID=Europe/Warsaw:20230624T210000
DTSTAMP:20260419T190403
CREATED:20230606T095958Z
LAST-MODIFIED:20230606T100053Z
UID:10014278-1687608000-1687640400@kultura.tarnow.pl
SUMMARY:Weekendowy festiwal smaku
DESCRIPTION:Foodtrucki z kuchniami z całego świata \nPyszny Weekend już 23.06 – 25.06 Czerwca w Tarnowie na Placu Kazimierza!\n\n\nPiątek:  15:00 – 21:00\nSobota:  12:00 – 21:00\nNiedziela: 12:00 – 20:00
URL:https://kultura.tarnow.pl/wydarzenie/weekendowy-festiwal-smaku-2023-06-24/2023-06-24/
LOCATION:Plac Kazimierza Wielkiego\, Plac Kazimierza Wielkiego\, Tarnów\, małopolskie\, 33-100\, Polska
CATEGORIES:festiwale
ATTACH;FMTTYPE=image/jpeg:https://kultura.tarnow.pl/wp-content/uploads/350957162_1919020321794881_7727994225808885879_n.jpg
GEO:50.01226;20.98664
X-APPLE-STRUCTURED-LOCATION;VALUE=URI;X-ADDRESS=Plac Kazimierza Wielkiego Plac Kazimierza Wielkiego Tarnów małopolskie 33-100 Polska;X-APPLE-RADIUS=500;X-TITLE=Plac Kazimierza Wielkiego:geo:20.98664,50.01226
END:VEVENT
BEGIN:VEVENT
DTSTART;TZID=Europe/Warsaw:20230623T150000
DTEND;TZID=Europe/Warsaw:20230623T210000
DTSTAMP:20260419T190403
CREATED:20230606T095958Z
LAST-MODIFIED:20230606T100113Z
UID:10014274-1687532400-1687554000@kultura.tarnow.pl
SUMMARY:Weekendowy festiwal smaku
DESCRIPTION:Foodtrucki z kuchniami z całego świata \nPyszny Weekend już 23.06 – 25.06 Czerwca w Tarnowie na Placu Kazimierza!\n\n\nPiątek:  15:00 – 21:00\nSobota:  12:00 – 21:00\nNiedziela: 12:00 – 20:00
URL:https://kultura.tarnow.pl/wydarzenie/weekendowy-festiwal-smaku/
LOCATION:Plac Kazimierza Wielkiego\, Plac Kazimierza Wielkiego\, Tarnów\, małopolskie\, 33-100\, Polska
CATEGORIES:festiwale
ATTACH;FMTTYPE=image/jpeg:https://kultura.tarnow.pl/wp-content/uploads/350957162_1919020321794881_7727994225808885879_n.jpg
GEO:50.01226;20.98664
X-APPLE-STRUCTURED-LOCATION;VALUE=URI;X-ADDRESS=Plac Kazimierza Wielkiego Plac Kazimierza Wielkiego Tarnów małopolskie 33-100 Polska;X-APPLE-RADIUS=500;X-TITLE=Plac Kazimierza Wielkiego:geo:20.98664,50.01226
END:VEVENT
END:VCALENDAR