BEGIN:VCALENDAR
VERSION:2.0
PRODID:-//kultura.tarnów - ECPv6.4.0.1//NONSGML v1.0//EN
CALSCALE:GREGORIAN
METHOD:PUBLISH
X-ORIGINAL-URL:https://kultura.tarnow.pl
X-WR-CALDESC:Wydarzenia dla
REFRESH-INTERVAL;VALUE=DURATION:PT1H
X-Robots-Tag:noindex
X-PUBLISHED-TTL:PT1H
BEGIN:VTIMEZONE
TZID:Europe/Warsaw
BEGIN:DAYLIGHT
TZOFFSETFROM:+0100
TZOFFSETTO:+0200
TZNAME:CEST
DTSTART:20230326T010000
END:DAYLIGHT
BEGIN:STANDARD
TZOFFSETFROM:+0200
TZOFFSETTO:+0100
TZNAME:CET
DTSTART:20231029T010000
END:STANDARD
END:VTIMEZONE
BEGIN:VEVENT
DTSTART;TZID=Europe/Warsaw:20231217T160000
DTEND;TZID=Europe/Warsaw:20231217T180000
DTSTAMP:20260425T181427
CREATED:20231212T074924Z
LAST-MODIFIED:20231212T074924Z
UID:10015251-1702828800-1702836000@kultura.tarnow.pl
SUMMARY:Kolędowanie na Starówce u Bernardynów
DESCRIPTION:
URL:https://kultura.tarnow.pl/wydarzenie/koledowanie-na-starowce-u-bernardynow/
LOCATION:Ogród oo. Bernardynów\, ul Bernardyńska 13\, Tarnów\, Polska - małopolskie\, 33-100\, Polska
CATEGORIES:koncerty
ATTACH;FMTTYPE=image/jpeg:https://kultura.tarnow.pl/wp-content/uploads/koledowanie.jpg
GEO:50.010596;20.9896779
X-APPLE-STRUCTURED-LOCATION;VALUE=URI;X-ADDRESS=Ogród oo. Bernardynów ul Bernardyńska 13 Tarnów Polska - małopolskie 33-100 Polska;X-APPLE-RADIUS=500;X-TITLE=ul Bernardyńska 13:geo:20.9896779,50.010596
END:VEVENT
END:VCALENDAR