BEGIN:VCALENDAR
VERSION:2.0
PRODID:-//kultura.tarnów - ECPv6.4.0.1//NONSGML v1.0//EN
CALSCALE:GREGORIAN
METHOD:PUBLISH
X-WR-CALNAME:kultura.tarnów
X-ORIGINAL-URL:https://kultura.tarnow.pl
X-WR-CALDESC:Wydarzenia dla
REFRESH-INTERVAL;VALUE=DURATION:PT1H
X-Robots-Tag:noindex
X-PUBLISHED-TTL:PT1H
BEGIN:VTIMEZONE
TZID:Europe/Warsaw
BEGIN:DAYLIGHT
TZOFFSETFROM:+0100
TZOFFSETTO:+0200
TZNAME:CEST
DTSTART:20230326T010000
END:DAYLIGHT
BEGIN:STANDARD
TZOFFSETFROM:+0200
TZOFFSETTO:+0100
TZNAME:CET
DTSTART:20231029T010000
END:STANDARD
END:VTIMEZONE
BEGIN:VEVENT
DTSTART;TZID=Europe/Warsaw:20231214T170000
DTEND;TZID=Europe/Warsaw:20231214T180000
DTSTAMP:20260426T024412
CREATED:20231211T090154Z
LAST-MODIFIED:20231211T090154Z
UID:10015207-1702573200-1702576800@kultura.tarnow.pl
SUMMARY:Małgorzata Mizia "Jak to jest BYĆ"
DESCRIPTION:
URL:https://kultura.tarnow.pl/wydarzenie/malgorzata-mizia-jak-to-jest-byc/
LOCATION:Muzeum Diecezjalne\, Pl. Katedralny 6\, 33-100 Tarnów\, Małopolskie\, 33-100
CATEGORIES:wernisaże
ATTACH;FMTTYPE=image/jpeg:https://kultura.tarnow.pl/wp-content/uploads/mizia.jpg
END:VEVENT
BEGIN:VEVENT
DTSTART;TZID=Europe/Warsaw:20231109T170000
DTEND;TZID=Europe/Warsaw:20231109T200000
DTSTAMP:20260426T024412
CREATED:20231027T080801Z
LAST-MODIFIED:20231027T080801Z
UID:10015077-1699549200-1699560000@kultura.tarnow.pl
SUMMARY:135 lat Muzeum Diecezjalnego w Tarnowie
DESCRIPTION:
URL:https://kultura.tarnow.pl/wydarzenie/135-lat-muzeum-diecezjalnego-w-tarnowie/
LOCATION:Muzeum Diecezjalne\, Pl. Katedralny 6\, 33-100 Tarnów\, Małopolskie\, 33-100
CATEGORIES:spotkania
END:VEVENT
END:VCALENDAR