BEGIN:VCALENDAR
VERSION:2.0
PRODID:-//kultura.tarnów - ECPv6.4.0.1//NONSGML v1.0//EN
CALSCALE:GREGORIAN
METHOD:PUBLISH
X-ORIGINAL-URL:https://kultura.tarnow.pl
X-WR-CALDESC:Wydarzenia dla
REFRESH-INTERVAL;VALUE=DURATION:PT1H
X-Robots-Tag:noindex
X-PUBLISHED-TTL:PT1H
BEGIN:VTIMEZONE
TZID:Europe/Warsaw
BEGIN:DAYLIGHT
TZOFFSETFROM:+0100
TZOFFSETTO:+0200
TZNAME:CEST
DTSTART:20240331T010000
END:DAYLIGHT
BEGIN:STANDARD
TZOFFSETFROM:+0200
TZOFFSETTO:+0100
TZNAME:CET
DTSTART:20241027T010000
END:STANDARD
BEGIN:DAYLIGHT
TZOFFSETFROM:+0100
TZOFFSETTO:+0200
TZNAME:CEST
DTSTART:20250330T010000
END:DAYLIGHT
BEGIN:STANDARD
TZOFFSETFROM:+0200
TZOFFSETTO:+0100
TZNAME:CET
DTSTART:20251026T010000
END:STANDARD
END:VTIMEZONE
BEGIN:VEVENT
DTSTART;TZID=Europe/Warsaw:20251031T200000
DTEND;TZID=Europe/Warsaw:20251031T220000
DTSTAMP:20260425T163144
CREATED:20251013T131815Z
LAST-MODIFIED:20251013T131850Z
UID:10027137-1761940800-1761948000@kultura.tarnow.pl
SUMMARY:Zaduszki Dżemowe Wojtka Klicha
DESCRIPTION:Już 31 października 2025 r. odbędzie się kolejna edycja kultowych Zaduszek Dżemowych Wojtka Klicha.\nPonownie zagramy w Lustrzanej Piwnicy (Plac Kazimierza w Tarnowie). Początek o godz. 20:00.
URL:https://kultura.tarnow.pl/wydarzenie/zaduszki-dzemowe-wojtka-klicha/
LOCATION:Lustrzana Piwnica\, Pl. Kazimierza WIelkiego 2\, Tarnów\, 33-100\, Polska
CATEGORIES:koncerty
ATTACH;FMTTYPE=image/jpeg:https://kultura.tarnow.pl/wp-content/uploads/558897153_1398102192323055_3805526468033178481_n.jpg
END:VEVENT
BEGIN:VEVENT
DTSTART;TZID=Europe/Warsaw:20250214T200000
DTEND;TZID=Europe/Warsaw:20250214T220000
DTSTAMP:20260425T163144
CREATED:20250117T114900Z
LAST-MODIFIED:20250117T114900Z
UID:10023900-1739563200-1739570400@kultura.tarnow.pl
SUMMARY:Koncert Atrakcyjny 'Dzikie Trio"
DESCRIPTION:„Zapraszam na pierwszy Koncert Atrakcyjny pt. „Dzikie Trio” w zacnym towarzystwie z gościnnym udziałem „Rudej ” – Madzi Stalmach. Będzie bardzo rockendrollowo! Startujemy wcześniej\, żeby cieszyć się dłużej. Zapraszam.” \nWojtek Klich
URL:https://kultura.tarnow.pl/wydarzenie/koncert-atrakcyjny-dzikie-trio/
LOCATION:Lustrzana Piwnica\, Pl. Kazimierza WIelkiego 2\, Tarnów\, 33-100\, Polska
CATEGORIES:koncerty
ATTACH;FMTTYPE=image/jpeg:https://kultura.tarnow.pl/wp-content/uploads/klich.jpg
ORGANIZER;CN="Lustrzana Piwnica":MAILTO:lustrzanapiwnica@gmail.com
END:VEVENT
BEGIN:VEVENT
DTSTART;TZID=Europe/Warsaw:20240213T200000
DTEND;TZID=Europe/Warsaw:20240213T220000
DTSTAMP:20260425T163144
CREATED:20240125T120236Z
LAST-MODIFIED:20240125T120236Z
UID:10015483-1707854400-1707861600@kultura.tarnow.pl
SUMMARY:Anna Rusowicz i Wojtek Klich
DESCRIPTION:13.02\, we wtorek\, w przeddzień Walentynek\, zabierz swoją drugą połówkę na romantyczny koncert Anna Rusowicz i Wojtek Klich. \nPrzed koncertem zachęcamy do skosztowania przepysznej wkładki Walentynkowej\, którą będzie dostępna przez cały tydzień od 12.02 w restauracji Pół na Pół. \nBilety już dostępne w Pół na Pół Tarnów. Liczba miejsc mocno ograniczona!
URL:https://kultura.tarnow.pl/wydarzenie/anna-rusowicz-i-wojtek-klich/
LOCATION:Lustrzana Piwnica\, Pl. Kazimierza WIelkiego 2\, Tarnów\, 33-100\, Polska
CATEGORIES:koncerty
ATTACH;FMTTYPE=image/jpeg:https://kultura.tarnow.pl/wp-content/uploads/421872063_18070673170458638_2939834062783607220_n.jpg
END:VEVENT
END:VCALENDAR