BEGIN:VCALENDAR
VERSION:2.0
PRODID:-//kultura.tarnów - ECPv6.4.0.1//NONSGML v1.0//EN
CALSCALE:GREGORIAN
METHOD:PUBLISH
X-ORIGINAL-URL:https://kultura.tarnow.pl
X-WR-CALDESC:Wydarzenia dla
REFRESH-INTERVAL;VALUE=DURATION:PT1H
X-Robots-Tag:noindex
X-PUBLISHED-TTL:PT1H
BEGIN:VTIMEZONE
TZID:Europe/Warsaw
BEGIN:DAYLIGHT
TZOFFSETFROM:+0100
TZOFFSETTO:+0200
TZNAME:CEST
DTSTART:20230326T010000
END:DAYLIGHT
BEGIN:STANDARD
TZOFFSETFROM:+0200
TZOFFSETTO:+0100
TZNAME:CET
DTSTART:20231029T010000
END:STANDARD
BEGIN:DAYLIGHT
TZOFFSETFROM:+0100
TZOFFSETTO:+0200
TZNAME:CEST
DTSTART:20240331T010000
END:DAYLIGHT
BEGIN:STANDARD
TZOFFSETFROM:+0200
TZOFFSETTO:+0100
TZNAME:CET
DTSTART:20241027T010000
END:STANDARD
END:VTIMEZONE
BEGIN:VEVENT
DTSTART;TZID=Europe/Warsaw:20241219T190000
DTEND;TZID=Europe/Warsaw:20241219T200000
DTSTAMP:20260421T030438
CREATED:20241216T092305Z
LAST-MODIFIED:20241216T092305Z
UID:10023376-1734634800-1734638400@kultura.tarnow.pl
SUMMARY:Aukcja charytatywna - Jerzy Martynów
DESCRIPTION:
URL:https://kultura.tarnow.pl/wydarzenie/aukcja-charytatywna-jerzy-martynow/
LOCATION:Galeria Hortar\, ul. legionów 32\, Tarnów\, małopolskie\, 33-100\, Polska
CATEGORIES:wernisaże
ATTACH;FMTTYPE=image/jpeg:https://kultura.tarnow.pl/wp-content/uploads/zaproszenie-martynow-19-12-24.jpg
ORGANIZER;CN="Galeria Hortar":MAILTO:hortar@hortar.com.pl
GEO:50.0180799;20.9875198
X-APPLE-STRUCTURED-LOCATION;VALUE=URI;X-ADDRESS=Galeria Hortar ul. legionów 32 Tarnów małopolskie 33-100 Polska;X-APPLE-RADIUS=500;X-TITLE=ul. legionów 32:geo:20.9875198,50.0180799
END:VEVENT
BEGIN:VEVENT
DTSTART;TZID=Europe/Warsaw:20241121T170000
DTEND;TZID=Europe/Warsaw:20241121T210000
DTSTAMP:20260421T030438
CREATED:20241121T124156Z
LAST-MODIFIED:20241121T124156Z
UID:10022513-1732208400-1732222800@kultura.tarnow.pl
SUMMARY:"Rodziński i przyjaciele" - Andrzej Wajda
DESCRIPTION:
URL:https://kultura.tarnow.pl/wydarzenie/rodzinski-i-przyjaciele-andrzej-wajda/
LOCATION:Galeria Hortar\, ul. legionów 32\, Tarnów\, małopolskie\, 33-100\, Polska
CATEGORIES:wernisaże
ATTACH;FMTTYPE=image/jpeg:https://kultura.tarnow.pl/wp-content/uploads/galeria.hortar.com_.pl-andrzej-wajda-zaproszenie-wajda.jpg
ORGANIZER;CN="Galeria Hortar":MAILTO:hortar@hortar.com.pl
GEO:50.0180799;20.9875198
X-APPLE-STRUCTURED-LOCATION;VALUE=URI;X-ADDRESS=Galeria Hortar ul. legionów 32 Tarnów małopolskie 33-100 Polska;X-APPLE-RADIUS=500;X-TITLE=ul. legionów 32:geo:20.9875198,50.0180799
END:VEVENT
BEGIN:VEVENT
DTSTART;TZID=Europe/Warsaw:20240516T170000
DTEND;TZID=Europe/Warsaw:20240516T180000
DTSTAMP:20260421T030438
CREATED:20240513T144734Z
LAST-MODIFIED:20240520T145001Z
UID:10015909-1715878800-1715882400@kultura.tarnow.pl
SUMMARY:Marta Makarczuk "W pejzażu"
DESCRIPTION:
URL:https://kultura.tarnow.pl/wydarzenie/marta-makarczuk-w-pejzazu/
LOCATION:Galeria Hortar\, ul. legionów 32\, Tarnów\, małopolskie\, 33-100\, Polska
CATEGORIES:wernisaże
ORGANIZER;CN="Galeria Hortar":MAILTO:hortar@hortar.com.pl
GEO:50.0180799;20.9875198
X-APPLE-STRUCTURED-LOCATION;VALUE=URI;X-ADDRESS=Galeria Hortar ul. legionów 32 Tarnów małopolskie 33-100 Polska;X-APPLE-RADIUS=500;X-TITLE=ul. legionów 32:geo:20.9875198,50.0180799
END:VEVENT
BEGIN:VEVENT
DTSTART;TZID=Europe/Warsaw:20240307T180000
DTEND;TZID=Europe/Warsaw:20240307T190000
DTSTAMP:20260421T030438
CREATED:20240229T072643Z
LAST-MODIFIED:20240229T072643Z
UID:10014980-1709834400-1709838000@kultura.tarnow.pl
SUMMARY:"Magiczne struktury" Iwona Bielaszka-Podsada
DESCRIPTION:
URL:https://kultura.tarnow.pl/wydarzenie/magiczne-struktury-iwona-bielaszka-podsada/
LOCATION:Galeria Hortar\, ul. legionów 32\, Tarnów\, małopolskie\, 33-100\, Polska
CATEGORIES:wernisaże
ATTACH;FMTTYPE=image/jpeg:https://kultura.tarnow.pl/wp-content/uploads/“Magiczne-struktury”-strona-1.jpg
ORGANIZER;CN="Galeria Hortar":MAILTO:hortar@hortar.com.pl
GEO:50.0180799;20.9875198
X-APPLE-STRUCTURED-LOCATION;VALUE=URI;X-ADDRESS=Galeria Hortar ul. legionów 32 Tarnów małopolskie 33-100 Polska;X-APPLE-RADIUS=500;X-TITLE=ul. legionów 32:geo:20.9875198,50.0180799
END:VEVENT
BEGIN:VEVENT
DTSTART;TZID=Europe/Warsaw:20240208T180000
DTEND;TZID=Europe/Warsaw:20240208T190000
DTSTAMP:20260421T030438
CREATED:20240124T084416Z
LAST-MODIFIED:20240124T084416Z
UID:10015476-1707415200-1707418800@kultura.tarnow.pl
SUMMARY:Teresa Szafrańska & Miłosz Szafrański
DESCRIPTION:
URL:https://kultura.tarnow.pl/wydarzenie/teresa-szafranska-milosz-szafranski/
LOCATION:Galeria Hortar\, ul. legionów 32\, Tarnów\, małopolskie\, 33-100\, Polska
CATEGORIES:wernisaże
ATTACH;FMTTYPE=image/jpeg:https://kultura.tarnow.pl/wp-content/uploads/galeria.hortar.com_.pl-nadchodzace-wernisaze-i-wystawy-broszura-szafranscy-gotowe-page-0002.jpg
ORGANIZER;CN="Galeria Hortar":MAILTO:hortar@hortar.com.pl
GEO:50.0180799;20.9875198
X-APPLE-STRUCTURED-LOCATION;VALUE=URI;X-ADDRESS=Galeria Hortar ul. legionów 32 Tarnów małopolskie 33-100 Polska;X-APPLE-RADIUS=500;X-TITLE=ul. legionów 32:geo:20.9875198,50.0180799
END:VEVENT
BEGIN:VEVENT
DTSTART;TZID=Europe/Warsaw:20240104T170000
DTEND;TZID=Europe/Warsaw:20240104T183000
DTSTAMP:20260421T030438
CREATED:20231227T132937Z
LAST-MODIFIED:20231227T132937Z
UID:10015321-1704387600-1704393000@kultura.tarnow.pl
SUMMARY:Jubileusz 20-lecia Galerii Hortar
DESCRIPTION:20 lat wspólnie spędzonych chwil. \nW ciągu tego czasu w murach naszej galerii swoje prace zaprezentowało 341 Artystów łącznie na 109 wystawach. W tym czasie mogli Państwo podziwiać dzieła w najróżniejszych formach\, począwszy od tradycyjnego malarstwa po różnorakie formy przestrzenne i konstelacje. \nJubileusz 20-lecia Galerii Hortar uświetni wyjątkowy wernisaż prac Artystów – Dydaktyków Akademii Sztuk Pięknych w Krakowie pt. “WIARA I ROZUM”. \nSerdecznie zapraszamy na to wyjątkowe dla nas wydarzenie.
URL:https://kultura.tarnow.pl/wydarzenie/jubileusz-20-lecia-galerii-hortar/
LOCATION:Galeria Hortar\, ul. legionów 32\, Tarnów\, małopolskie\, 33-100\, Polska
CATEGORIES:wernisaże
ATTACH;FMTTYPE=image/jpeg:https://kultura.tarnow.pl/wp-content/uploads/galeria.hortar.com_.pl-nadchodzace-wernisaze-i-wystawy-ulotka1.jpg
ORGANIZER;CN="Galeria Hortar":MAILTO:hortar@hortar.com.pl
GEO:50.0180799;20.9875198
X-APPLE-STRUCTURED-LOCATION;VALUE=URI;X-ADDRESS=Galeria Hortar ul. legionów 32 Tarnów małopolskie 33-100 Polska;X-APPLE-RADIUS=500;X-TITLE=ul. legionów 32:geo:20.9875198,50.0180799
END:VEVENT
BEGIN:VEVENT
DTSTART;TZID=Europe/Warsaw:20231026T170000
DTEND;TZID=Europe/Warsaw:20231026T180000
DTSTAMP:20260421T030438
CREATED:20231023T084412Z
LAST-MODIFIED:20231023T084412Z
UID:10014983-1698339600-1698343200@kultura.tarnow.pl
SUMMARY:Joanna Januszkiewicz-Węcławowicz "Uniwersum"
DESCRIPTION:
URL:https://kultura.tarnow.pl/wydarzenie/joanna-januszkiewicz-weclawowicz-uniwersum/
LOCATION:Galeria Hortar\, ul. legionów 32\, Tarnów\, małopolskie\, 33-100\, Polska
CATEGORIES:wernisaże
ATTACH;FMTTYPE=image/jpeg:https://kultura.tarnow.pl/wp-content/uploads/zaproszenie.jpg
ORGANIZER;CN="Galeria Hortar":MAILTO:hortar@hortar.com.pl
GEO:50.0180799;20.9875198
X-APPLE-STRUCTURED-LOCATION;VALUE=URI;X-ADDRESS=Galeria Hortar ul. legionów 32 Tarnów małopolskie 33-100 Polska;X-APPLE-RADIUS=500;X-TITLE=ul. legionów 32:geo:20.9875198,50.0180799
END:VEVENT
BEGIN:VEVENT
DTSTART;TZID=Europe/Warsaw:20231005T170000
DTEND;TZID=Europe/Warsaw:20231005T180000
DTSTAMP:20260421T030438
CREATED:20230925T085251Z
LAST-MODIFIED:20230925T085251Z
UID:10015032-1696525200-1696528800@kultura.tarnow.pl
SUMMARY:Wystawa malarstwa dzieci i młodzieży z niepełnosprawnością
DESCRIPTION:
URL:https://kultura.tarnow.pl/wydarzenie/wystawa-malarstwa-dzieci-i-mlodziezy-z-niepelnosprawnoscia/
LOCATION:Galeria Hortar\, ul. legionów 32\, Tarnów\, małopolskie\, 33-100\, Polska
CATEGORIES:wernisaże
ATTACH;FMTTYPE=image/jpeg:https://kultura.tarnow.pl/wp-content/uploads/1695122553056.jpg
ORGANIZER;CN="Galeria Hortar":MAILTO:hortar@hortar.com.pl
GEO:50.0180799;20.9875198
X-APPLE-STRUCTURED-LOCATION;VALUE=URI;X-ADDRESS=Galeria Hortar ul. legionów 32 Tarnów małopolskie 33-100 Polska;X-APPLE-RADIUS=500;X-TITLE=ul. legionów 32:geo:20.9875198,50.0180799
END:VEVENT
BEGIN:VEVENT
DTSTART;TZID=Europe/Warsaw:20230615T170000
DTEND;TZID=Europe/Warsaw:20230615T180000
DTSTAMP:20260421T030438
CREATED:20230613T070512Z
LAST-MODIFIED:20230613T070512Z
UID:10014367-1686848400-1686852000@kultura.tarnow.pl
SUMMARY:Jerzy Panek - wernisaż
DESCRIPTION:
URL:https://kultura.tarnow.pl/wydarzenie/jerzy-panek-wernisaz/
LOCATION:Galeria Hortar\, ul. legionów 32\, Tarnów\, małopolskie\, 33-100\, Polska
CATEGORIES:wernisaże
ORGANIZER;CN="Galeria Hortar":MAILTO:hortar@hortar.com.pl
GEO:50.0180799;20.9875198
X-APPLE-STRUCTURED-LOCATION;VALUE=URI;X-ADDRESS=Galeria Hortar ul. legionów 32 Tarnów małopolskie 33-100 Polska;X-APPLE-RADIUS=500;X-TITLE=ul. legionów 32:geo:20.9875198,50.0180799
END:VEVENT
BEGIN:VEVENT
DTSTART;TZID=Europe/Warsaw:20230513T170000
DTEND;TZID=Europe/Warsaw:20230513T180000
DTSTAMP:20260421T030438
CREATED:20230510T071301Z
LAST-MODIFIED:20230510T071301Z
UID:10014277-1683997200-1684000800@kultura.tarnow.pl
SUMMARY:"Rodziński i przyjaciele"
DESCRIPTION:
URL:https://kultura.tarnow.pl/wydarzenie/rodzinski-i-przyjaciele/
LOCATION:Galeria Hortar\, ul. legionów 32\, Tarnów\, małopolskie\, 33-100\, Polska
CATEGORIES:wernisaże
ATTACH;FMTTYPE=image/png:https://kultura.tarnow.pl/wp-content/uploads/Zaproszenie.png
ORGANIZER;CN="Galeria Hortar":MAILTO:hortar@hortar.com.pl
GEO:50.0180799;20.9875198
X-APPLE-STRUCTURED-LOCATION;VALUE=URI;X-ADDRESS=Galeria Hortar ul. legionów 32 Tarnów małopolskie 33-100 Polska;X-APPLE-RADIUS=500;X-TITLE=ul. legionów 32:geo:20.9875198,50.0180799
END:VEVENT
END:VCALENDAR