BEGIN:VCALENDAR
VERSION:2.0
PRODID:-//kultura.tarnów - ECPv6.4.0.1//NONSGML v1.0//EN
CALSCALE:GREGORIAN
METHOD:PUBLISH
X-WR-CALNAME:kultura.tarnów
X-ORIGINAL-URL:https://kultura.tarnow.pl
X-WR-CALDESC:Wydarzenia dla
REFRESH-INTERVAL;VALUE=DURATION:PT1H
X-Robots-Tag:noindex
X-PUBLISHED-TTL:PT1H
BEGIN:VTIMEZONE
TZID:Europe/Warsaw
BEGIN:DAYLIGHT
TZOFFSETFROM:+0100
TZOFFSETTO:+0200
TZNAME:CEST
DTSTART:20240331T010000
END:DAYLIGHT
BEGIN:STANDARD
TZOFFSETFROM:+0200
TZOFFSETTO:+0100
TZNAME:CET
DTSTART:20241027T010000
END:STANDARD
BEGIN:DAYLIGHT
TZOFFSETFROM:+0100
TZOFFSETTO:+0200
TZNAME:CEST
DTSTART:20250330T010000
END:DAYLIGHT
BEGIN:STANDARD
TZOFFSETFROM:+0200
TZOFFSETTO:+0100
TZNAME:CET
DTSTART:20251026T010000
END:STANDARD
BEGIN:DAYLIGHT
TZOFFSETFROM:+0100
TZOFFSETTO:+0200
TZNAME:CEST
DTSTART:20260329T010000
END:DAYLIGHT
BEGIN:STANDARD
TZOFFSETFROM:+0200
TZOFFSETTO:+0100
TZNAME:CET
DTSTART:20261025T010000
END:STANDARD
END:VTIMEZONE
BEGIN:VEVENT
DTSTART;TZID=Europe/Warsaw:20260221T120000
DTEND;TZID=Europe/Warsaw:20260221T130000
DTSTAMP:20260423T030434
CREATED:20260212T101105Z
LAST-MODIFIED:20260212T101146Z
UID:10028650-1771675200-1771678800@kultura.tarnow.pl
SUMMARY:180. Rocznica Wybuchu Ogólnonarodowego Zrywu Niepodległościowego
DESCRIPTION:W imieniu organizatorów i samorządu – miasta\, które jako pierwsze w 1918 roku odzyskało niepodległość – zapraszamy Państwado udziału w uroczystości upamiętniającej 180. rocznicę wybuchu narodowego zrywu niepodległościowego z 1846 roku oraz tragicznych wydarzeń rzezi galicyjskiej. \nGłówne obchody odbędą się 21 lutego 2026 roku w Tarnowie\, przy Mogile Ofiar Rzezi Galicyjskiej – największym tego typu miejscu pamięci w kraju. \nPlan obchodów 180. rocznicy wybuchu ogólnonarodowego zrywu niepodległościowego: \n21 lutego 2026 r. (sobota) godz. 12.00: \nUroczystość rocznicowa w Kwaterze Zasłużonych Cmentarza Starego w Tarnowie\, przy \nnajwiększej w kraju Mogile Ofiar Rzezi Galicyjskiej (ponad 200 pochowanych ofiar). \nRamowy program uroczystości: \n– Zaciągnięcie warty honorowej przy Mogile \n– Hymn \n– Modlitwa \n– Przemówienia \n– Apel Pamięci \n– złożenie kwiatów i zapalenie zniczy na Mogile \n 
URL:https://kultura.tarnow.pl/wydarzenie/81824/
LOCATION:Cmentarz Stary\, ul. Narutowicza\, Tarnów\, małopolskie\, 33-100\, Polska
CATEGORIES:uroczystości patriotyczne
END:VEVENT
BEGIN:VEVENT
DTSTART;TZID=Europe/Warsaw:20260122T163000
DTEND;TZID=Europe/Warsaw:20260122T170000
DTSTAMP:20260423T030434
CREATED:20260112T102355Z
LAST-MODIFIED:20260112T102719Z
UID:10028188-1769099400-1769101200@kultura.tarnow.pl
SUMMARY:163. rocznica wybuchu Powstania Styczniowego
DESCRIPTION:W czwartek\, 22 stycznia przypada 163. rocznica wybuchu powstania styczniowego. Na jej uroczyste obchody zapraszają: Urząd Miasta Tarnowa\, Światowy Związek Żołnierzy Armii Krajowej oraz 19. Tarnowska Drużyna Harcerska i 20. Tarnowska Drużyna Harcerska – harcerze Hufca Tarnów. \nZbiórka uczestników wydarzenia będzie miała miejsce o godz. 16.30 przy bramie głównej Cmentarza Starego. Stamtąd nastąpi wspólny przemarsz do Kwatery Powstańców Styczniowych\, przy której odbędzie się uroczystość\, złożone zostaną wiązanki kwiatów i zapalone znicze. \n\n\n\n\n\n\n \nSkierowane przeciwko Rosji powstanie styczniowe ogłoszone zostało 22 stycznia 1863 roku manifestem wydanym w Warszawie przez Tymczasowy Rząd Narodowy. Było największym i najdłużej trwającym – do października 1864 roku – polskim powstaniem narodowym. Miało charakter wojny partyzanckiej\, w której stoczono około 1200 bitew i potyczek. Przez oddziały walczące w powstaniu przewinęło się około 200 tysięcy osób. Wywodziły się one głównie z rodzin szlacheckich\, wśród powstańców nie zabrakło jednak również przedstawicieli mieszczaństwa i chłopstwa. \nMimo początkowych sukcesów\, powstanie zakończyło się przegraną. Kilkanaście tysięcy powstańców poległo w walkach\, blisko tysiąc stracono\, około 38 tysięcy skazano na katorgę lub zesłanie na Syberii\, a około 10 tysięcy po upadku powstania zdecydowało się na emigrację. \nTarnów z uwagi na swoje położenie pełnił podczas powstania styczniowego ważną funkcję. Wysyłano z niego transporty broni\, medykamentów\, pieniędzy oraz oczywiście ochotników. Po każdej bitwie przewożono do Tarnowa rannych\, których leczono m.in. w lazarecie urządzonym w pałacu w Gumniskach przez książąt Sanguszków. Na początku lat 70-tych dziewiętnastego wieku na mogile ziemnej powstańców na obecnym Cmentarzu Starym postawiona została piramida z brył piaskowca. W związku z pogarszającym się stanem technicznym kopca przeprowadzono zbiórkę na renowację pomnika. Jego poświęcenie odbyło się w czerwcu 1891 roku. Pomnik ma formę wysokiego kopca z polnych głazów zwieńczonego krzyżem żeliwnym i otoczonego ogrodzeniem z łańcucha. Do głazów przymocowano herb Rzeczpospolitej Trojga Narodów\, tablice z nazwiskami powstańców i dużą tablicę z napisem „1863 Poległym za Ojczyznę”.
URL:https://kultura.tarnow.pl/wydarzenie/163-rocznica-wybuchu-powstania-styczniowego/
LOCATION:Cmentarz Stary\, ul. Narutowicza\, Tarnów\, małopolskie\, 33-100\, Polska
CATEGORIES:uroczystości patriotyczne
ATTACH;FMTTYPE=image/jpeg:https://kultura.tarnow.pl/wp-content/uploads/powstanie-styczniowe-2026-2.jpg
END:VEVENT
BEGIN:VEVENT
DTSTART;TZID=Europe/Warsaw:20250711T170000
DTEND;TZID=Europe/Warsaw:20250711T180000
DTSTAMP:20260423T030434
CREATED:20250710T105733Z
LAST-MODIFIED:20250710T105733Z
UID:10026446-1752253200-1752256800@kultura.tarnow.pl
SUMMARY:82. Rocznica Rzezi Wołyńskiej
DESCRIPTION:
URL:https://kultura.tarnow.pl/wydarzenie/82-rocznica-rzezi-wolynskiej/
LOCATION:Cmentarz Stary\, ul. Narutowicza\, Tarnów\, małopolskie\, 33-100\, Polska
CATEGORIES:uroczystości patriotyczne
ATTACH;FMTTYPE=image/jpeg:https://kultura.tarnow.pl/wp-content/uploads/516926371_2477903419229527_9058158763985499262_n.jpg
END:VEVENT
BEGIN:VEVENT
DTSTART;TZID=Europe/Warsaw:20240122T163000
DTEND;TZID=Europe/Warsaw:20240122T173000
DTSTAMP:20260423T030434
CREATED:20240117T090903Z
LAST-MODIFIED:20240117T090903Z
UID:10014765-1705941000-1705944600@kultura.tarnow.pl
SUMMARY:Rocznica Powstania Styczniowego
DESCRIPTION:
URL:https://kultura.tarnow.pl/wydarzenie/rocznica-powstania-styczniowego/
LOCATION:Cmentarz Stary\, ul. Narutowicza\, Tarnów\, małopolskie\, 33-100\, Polska
CATEGORIES:uroczystości patriotyczne
ATTACH;FMTTYPE=image/jpeg:https://kultura.tarnow.pl/wp-content/uploads/powstanie-styczniowe-2024.jpg
END:VEVENT
END:VCALENDAR