BEGIN:VCALENDAR
VERSION:2.0
PRODID:-//kultura.tarnów - ECPv6.4.0.1//NONSGML v1.0//EN
CALSCALE:GREGORIAN
METHOD:PUBLISH
X-WR-CALNAME:kultura.tarnów
X-ORIGINAL-URL:https://kultura.tarnow.pl
X-WR-CALDESC:Wydarzenia dla
REFRESH-INTERVAL;VALUE=DURATION:PT1H
X-Robots-Tag:noindex
X-PUBLISHED-TTL:PT1H
BEGIN:VTIMEZONE
TZID:Europe/Warsaw
BEGIN:DAYLIGHT
TZOFFSETFROM:+0100
TZOFFSETTO:+0200
TZNAME:CEST
DTSTART:20230326T010000
END:DAYLIGHT
BEGIN:STANDARD
TZOFFSETFROM:+0200
TZOFFSETTO:+0100
TZNAME:CET
DTSTART:20231029T010000
END:STANDARD
END:VTIMEZONE
BEGIN:VEVENT
DTSTART;TZID=Europe/Warsaw:20230701T110000
DTEND;TZID=Europe/Warsaw:20230701T220000
DTSTAMP:20260421T040734
CREATED:20230612T063336Z
LAST-MODIFIED:20230620T115826Z
UID:10014305-1688209200-1688248800@kultura.tarnow.pl
SUMMARY:"Lato z radiem"
DESCRIPTION:
URL:https://kultura.tarnow.pl/wydarzenie/lato-z-radiem-2/
LOCATION:Centrum Wypoczynku i Rekreacji Kantoria\, ul. Piłsudskiego\, Tarnów\, małopolskie\, 33-100\, Polska
CATEGORIES:festiwale
ATTACH;FMTTYPE=image/jpeg:https://kultura.tarnow.pl/wp-content/uploads/plakat.jpeg
GEO:50.024368;20.98967
X-APPLE-STRUCTURED-LOCATION;VALUE=URI;X-ADDRESS=Centrum Wypoczynku i Rekreacji Kantoria ul. Piłsudskiego Tarnów małopolskie 33-100 Polska;X-APPLE-RADIUS=500;X-TITLE=ul. Piłsudskiego:geo:20.98967,50.024368
END:VEVENT
BEGIN:VEVENT
DTSTART;TZID=Europe/Warsaw:20230603T110000
DTEND;TZID=Europe/Warsaw:20230603T160000
DTSTAMP:20260421T040734
CREATED:20230526T071655Z
LAST-MODIFIED:20230526T071714Z
UID:10013988-1685790000-1685808000@kultura.tarnow.pl
SUMMARY:Miejski Dzień Dziecka
DESCRIPTION:
URL:https://kultura.tarnow.pl/wydarzenie/miejski-dzien-dziecka/
LOCATION:Centrum Wypoczynku i Rekreacji Kantoria\, ul. Piłsudskiego\, Tarnów\, małopolskie\, 33-100\, Polska
CATEGORIES:spotkania
ATTACH;FMTTYPE=image/jpeg:https://kultura.tarnow.pl/wp-content/uploads/plakat-2.jpg
GEO:50.024368;20.98967
X-APPLE-STRUCTURED-LOCATION;VALUE=URI;X-ADDRESS=Centrum Wypoczynku i Rekreacji Kantoria ul. Piłsudskiego Tarnów małopolskie 33-100 Polska;X-APPLE-RADIUS=500;X-TITLE=ul. Piłsudskiego:geo:20.98967,50.024368
END:VEVENT
END:VCALENDAR